BEGIN:VCALENDAR
VERSION:2.0
PRODID:-//wp-events-plugin.com//7.2.3.1//EN
TZID:Europe/Rome
X-WR-TIMEZONE:Europe/Rome
BEGIN:VEVENT
UID:35356@lazioeventi.com
DTSTART;TZID=Europe/Rome:20230520T210000
DTEND;TZID=Europe/Rome:20230520T233000
DTSTAMP:20230510T065819Z
URL:https://lazioeventi.com/eventi/laziosound-2023-borderless-la-finale
SUMMARY:LAZIOSound 2023 - BORDERLESS\, la finale - Colleferro - 20 Maggio 2
 3 21:00
DESCRIPTION:Il 20 maggio a Colleferro (RM) la finale della categoria Border
 less di LAZIOSound 2023. Sul palco i finalisti Emanuele Schillaci\, Emilia
 no Tessitore Project e Walter Laureti.\n\nSpecial guest Adriano Viterbini 
 e il quintetto vocale Occhi Chiusi in Mare Aperto\n\nBorderless\, 20 Maggi
 o all’Auditorium di Colleferro (RM)\, via Sabotino\, con Adriano Viterbi
 ni e il Coro Occhi Chiusi in Mare Aperto – Ore 21.00\n\nProsegue il viag
 gio delle finali della terza edizione di LAZIOSound - il programma della R
 egione Lazio a sostegno della musica under35 - che\, dopo i primi appuntam
 enti (la finale della categoria Songwriting Heroes il 6 maggio\, quella di
  Urban Icon il 7 maggio e quella di Jazzology il 14 maggio)\, annuncia l
 ’appuntamento con le finali della categoria Borderless\, attesa il 20 ma
 ggio all’Auditorium di Colleferro in via Sabotino\, alle ore 21.00. Spec
 ial guest della serata Adriano Viterbini con il quintetto vocale Occhi Chi
 usi in Mare Aperto. Una staffetta di appuntamenti per LAZIOSound 2023 che 
 vedrà protagoniste le eccellenze musicali del Lazio\, intercettate da dir
 ezione e comitato artistico\, affiancati da grandi nomi della scena italia
 na e non solo. \n\nSul palco di Colleferro\, l’ospite speciale Adriano V
 iterbini accompagnerà i finalisti Emanuele Schillaci\, Emiliano Tessitore
  Project e Walter Laureti. A decretare il vincitore della categoria sarann
 o lo stesso Adriano Viterbini (chitarrista e cantante)\, Patrizia Rotonda 
 (cantante e docente) e La Direzione Under 25 di Dominio Pubblico (festival
  partner di LAZIOSound).\n\nLa categoria Borderless\, come ogni anno\, uni
 sce e fa incontrare la creatività musicale a 360 gradi. Questa categoria 
 speciale di LAZIOSound premia soprattutto la sperimentazione e la capacit
 à di innovare pensando fuori dagli schemi: tra strumenti riciclati e musi
 ca non codificata\, nel tempo Borderless ha gettato una luce su tutto ciò
  che è fuori dal comune. In palio\, per il vincitore della categoria perc
 orsi professionali di primo livello attraverso programmi e risorse dedicat
 e alla promozione\, alla produzione\, alla consulenza manageriale e alla f
 ormazione.\n\nOspite d’eccezione Adriano Viterbini. Chitarrista e forza 
 motrice del duo Bud Spencer Blues Explosion e degli I Hate My Village\, è
  musicista dal vivo ed in studio insieme a Bombino\, Rokia Traorè\, Nic C
 ester\, Emma Marrone\, Raf\, Tre Allegri Ragazzi Morti\, Fabi-Silvestri-Ga
 zze. È autore di due album solisti ed un EP\, Goldfoil Filmosound (Bomba 
 Dischi) e Solitario soldiale (hyperjazz) che spaziano dal blues delle radi
 ci alla musica tuareg\, dal rootsrock all'ambient. Occhi Chiusi In Mare Ap
 erto è un gruppo di cinque voci che si fondono in arrangiamenti pop origi
 nali. È composto da Daniele D’Alberti\, Gabriele D’Angelo\, Chiara Me
 schini\, Sara Sileo e Ludovico (Dodo) Versino. Nato nel 2017\, il gruppo h
 a costruito la sua identità sperimentando stili e armonie che mettessero 
 in risalto le caratteristiche particolari di ogni voce\, alla ricerca di u
 n suono d'insieme unico e riconoscibile.\n\nI vincitori della terza edizio
 ne di LAZIOSound si esibiranno poi a luglio nella cornice del Castello di 
 Santa Severa nel grande appuntamento annuale con LAZIOSound Festival.\n\nL
 AZIOSound è il programma delle Politiche Giovanili della Regione Lazio pe
 r supportare e rafforzare lo sviluppo del sistema musicale del Lazio attra
 verso strumenti economici\, interventi mirati\, partnership ed attività d
 i promozione finalizzate a sostenere le componenti artistiche giovanili in
 dipendenti.
ATTACH;FMTTYPE=image/jpeg:https://lazioeventi.com/wp-content/uploads/2023/
 05/via-LAZIOSound_LAZIOSound23_finali.jpeg
CATEGORIES:Musica, Spettacoli e Danza nel Lazio
LOCATION:Colleferro\, Comune\, Colleferro\, Roma\, Lazio\, Italia
GEO:41.7302;13.0058
X-APPLE-STRUCTURED-LOCATION;VALUE=URI;X-ADDRESS=Comune\, Colleferro\, Roma\
 , Lazio\, Italia;X-APPLE-RADIUS=100;X-TITLE=Colleferro:geo:41.7302,13.0058
END:VEVENT
BEGIN:VTIMEZONE
TZID:Europe/Rome
X-LIC-LOCATION:Europe/Rome
BEGIN:DAYLIGHT
DTSTART:20230326T030000
TZOFFSETFROM:+0100
TZOFFSETTO:+0200
TZNAME:CEST
END:DAYLIGHT
END:VTIMEZONE
END:VCALENDAR