BEGIN:VCALENDAR
VERSION:2.0
PRODID:-//wp-events-plugin.com//7.2.3.1//EN
TZID:Europe/Rome
X-WR-TIMEZONE:Europe/Rome
BEGIN:VEVENT
UID:34176@lazioeventi.com
DTSTART;TZID=Europe/Rome;VALUE=DATE:20230223
DTEND;TZID=Europe/Rome;VALUE=DATE:20230225
DTSTAMP:20230220T094113Z
URL:https://lazioeventi.com/eventi/le-arti-dinamiche-come-veicolo-per-linc
 lusione-delle-disabilita
SUMMARY:Le arti dinamiche come veicolo per l’inclusione delle disabilità
  - Marino - 23 Febbraio 23 00:00
DESCRIPTION:Giovedì 23 e venerdì 24 febbraio si svolgerà a Marino il con
 vegno dedicato ai temi “Le arti dinamiche come veicolo per l’inclusion
 e delle disabilità” e “La promozione della salute mentale”\, organi
 zzato dalla Cooperativa Sociale Eco e promosso dai Comuni di Marino e Ciam
 pino in collaborazione con l’ASL Roma 6.\n\nIl doppio appuntamento avrà
  luogo giovedì 23 febbraio nella sala consiliare del Comune di Marino\, a
  partire dalle 8\, e venerdì 24 febbraio\, a partire dalle 8.30\, presso 
 il centro diurno del distretto socio-sanitario RM 6.3 (Marino-Ciampino) di
  via dei Glicini 35.\n\nQuesti i temi del convegno:\n– Le arti dinamiche
 : teatro\, arte-terapia e sport come strumenti di cambiamento e sviluppo d
 i buone pratiche sociali\;\n– Le arti dinamiche: teatro\, arte-terapia e
  sport come veicolo di trasformazione e rafforzamento di autostima\, auton
 omia e self-efficacy\;\n– Raccolta di testimonianza e scambio di buone p
 rassi fra expertise del territorio\;\n– Interventi multisettoriali e mul
 tiprofessionali per la promozione dell’autonomia personale e sociale\;\n
 – Mostra delle pratiche laboratoriali\, artistiche e sportive realizzate
  nel territorio dall’associazionismo locale e dal terzo settore.\n\nAl t
 ermine del convegno a tutti gli iscritti verrà rilasciato un attestato di
  partecipazione. \n\nPer prenotare: convegnoartidinamiche2023@gmail.com.
ATTACH;FMTTYPE=image/jpeg:https://lazioeventi.com/wp-content/uploads/2023/
 02/Le-arti-dinamiche.jpg
CATEGORIES:Arte e Cultura nel Lazio
LOCATION:Marino\, Comune\, Marino\, Roma\, Lazio\, Italia
GEO:41.7698;12.6586
X-APPLE-STRUCTURED-LOCATION;VALUE=URI;X-ADDRESS=Comune\, Marino\, Roma\, La
 zio\, Italia;X-APPLE-RADIUS=100;X-TITLE=Marino:geo:41.7698,12.6586
END:VEVENT
BEGIN:VTIMEZONE
TZID:Europe/Rome
X-LIC-LOCATION:Europe/Rome
BEGIN:STANDARD
DTSTART:20221030T020000
TZOFFSETFROM:+0200
TZOFFSETTO:+0100
TZNAME:CET
END:STANDARD
END:VTIMEZONE
END:VCALENDAR