BEGIN:VCALENDAR
VERSION:2.0
PRODID:-//wp-events-plugin.com//7.2.3.1//EN
TZID:Europe/Rome
X-WR-TIMEZONE:Europe/Rome
BEGIN:VEVENT
UID:31004@lazioeventi.com
DTSTART;TZID=Europe/Rome:20220521T090000
DTEND;TZID=Europe/Rome:20220521T130000
DTSTAMP:20220518T212040Z
URL:https://lazioeventi.com/eventi/le-forme-degli-alberi
SUMMARY:Le Forme degli Alberi - Manziana - 21 Maggio 22 09:00
DESCRIPTION:Nell’ambito della Settimana Europea dei Parchi\, una straor
 dinaria iniziativa promossa dal Parco Naturale Regionale Bracciano-Martig
 nano nell’area del Monumento Naturale Regionale della Caldara di Manzi
 ana: protagonista sarà la Betulla\, un albero dalla forte valenza simbo
 lica. L’albero sarà visto attraverso l’interpretazione del fotografo\
 , del pittore\, del disegnatore e dell’affabulatore. Gli artisti e i fot
 ografi saranno accompagnati e seguiti dal fotografo naturalista Marco Bran
 chi e dall’artista Renata Conversi.\n\nOrganizzazione: Marco Branchi\n\
 nInfo e prenotazioni: photo@marcobranchi.it Cell. 377.1124749\n\nPrenotazi
 one obbligatoria\n\nAppuntamento: ore 9.00 presso l’ingresso del Monume
 nto Naturale Regionale della Caldara di Manziana – Manziana (Roma)\n\nQu
 ota di partecipazione: evento gratuito finanziato dal Parco Naturale Regi
 onale Bracciano-Martignano coi fondi della Regione Lazio nell’ambito del
 la Settimana Europea dei Parchi\n\nPartecipanti: Minimo 8 Massimo 15\n\nDi
 fficoltà: Bassa\n\nAccessibilità: Si\n\nDurata: 4 ore
ATTACH;FMTTYPE=image/jpeg:https://lazioeventi.com/wp-content/uploads/2022/
 05/alberi.jpg
CATEGORIES:Sport, Tempo Libero e Divertimento nel Lazio
LOCATION:Manziana\, Comune di Manziana\, Manziana\, Roma\, Lazio\, Italia
GEO:42.1301;12.1301
X-APPLE-STRUCTURED-LOCATION;VALUE=URI;X-ADDRESS=Comune di Manziana\, Manzia
 na\, Roma\, Lazio\, Italia;X-APPLE-RADIUS=100;X-TITLE=Manziana:geo:42.1301
 ,12.1301
END:VEVENT
BEGIN:VTIMEZONE
TZID:Europe/Rome
X-LIC-LOCATION:Europe/Rome
BEGIN:DAYLIGHT
DTSTART:20220327T030000
TZOFFSETFROM:+0100
TZOFFSETTO:+0200
TZNAME:CEST
END:DAYLIGHT
END:VTIMEZONE
END:VCALENDAR