BEGIN:VCALENDAR
VERSION:2.0
PRODID:-//wp-events-plugin.com//7.2.3.1//EN
TZID:Europe/Rome
X-WR-TIMEZONE:Europe/Rome
BEGIN:VEVENT
UID:31514@lazioeventi.com
DTSTART;TZID=Europe/Rome:20220707T210000
DTEND;TZID=Europe/Rome:20220707T223000
DTSTAMP:20220629T073616Z
URL:https://lazioeventi.com/eventi/le-forme-del-corpo
SUMMARY:Le Forme del Corpo - Roma - 7 Luglio 22 21:00
DESCRIPTION:Giovedì 7 Luglio 2022 alle ore 21:00 presso la Libreria Antigo
 ne di Roma ci sarà l'incontro pubblico “Le Forme del Corpo”: dialoghi
  sulla ricerca e libertà espressiva tra arte e fotografia.\n\nInterverran
 no il fotografo GianOrso e l'artista Paolo Cianchetti\nLibreria Antigone\n
 \nVia dei Piceni 1 / Roma\n\ngiovedì 7 luglio\, ore 21:00\n\nINGRESSO LIB
 ERO\n&nbsp\;\n\nINFO\n\nhttps://www.libreriantigone.com/\n\n#bodypositive\
 n\n#libreriaantigoneroma\n\n#gianorso\n\n#paolocianchetti\n\n#fotografia\n
 \n#arte\n\n#roma\n\n#lgbtqia
ATTACH;FMTTYPE=image/jpeg:https://lazioeventi.com/wp-content/uploads/2022/
 06/forme-del-corpo.jpg
CATEGORIES:Arte e Cultura nel Lazio
LOCATION:Roma\, Via Leopardi\, Roma\, Roma\, Lazio\, Italia
GEO:41.8942;12.5017
X-APPLE-STRUCTURED-LOCATION;VALUE=URI;X-ADDRESS=Via Leopardi\, Roma\, Roma\
 , Lazio\, Italia;X-APPLE-RADIUS=100;X-TITLE=Roma:geo:41.8942,12.5017
END:VEVENT
BEGIN:VTIMEZONE
TZID:Europe/Rome
X-LIC-LOCATION:Europe/Rome
BEGIN:DAYLIGHT
DTSTART:20220327T030000
TZOFFSETFROM:+0100
TZOFFSETTO:+0200
TZNAME:CEST
END:DAYLIGHT
END:VTIMEZONE
END:VCALENDAR