BEGIN:VCALENDAR
VERSION:2.0
PRODID:-//wp-events-plugin.com//7.2.3.1//EN
TZID:Europe/Rome
X-WR-TIMEZONE:Europe/Rome
BEGIN:VEVENT
UID:34750@lazioeventi.com
DTSTART;TZID=Europe/Rome:20230325T210000
DTEND;TZID=Europe/Rome:20230325T223000
DTSTAMP:20230321T092744Z
URL:https://lazioeventi.com/eventi/le-mani-di-baba
SUMMARY:Le Mani di Baba - Roma - 25 Marzo 23 21:00
DESCRIPTION:Concerto al pianoforte di e con Umberto Ciccone\n"Baba" in sans
 crito è una parola che Rinchiude nello stesso termine il significato di "
 madre e padre".  Le mani di Baba è uno spettacolo che parla d'amore\, non
  quello poetico\, quello viscerale\, ma quello che va verso un'altra direz
 ione\, quello della decisione. San Tommaso D'Aquino diceva che amare è vo
 lere il bene degli altri. Questo trova riscontro nelle scritture medievali
  che a loro volta trovano le fondamenta nella " filia" di Aristotele\, sec
 ondo cui l'amore è una decisione positiva sulla base di ciò che siamo co
 me essere umani. Le mani di Baba\, presenterà brani scritti ed interpreta
 ti da Umberto Ciccone.\n\nLe parole dell'artista:\nDa sempre scrivo musica
  e da sempre sfrutto il linguaggio musicale per raccontare storie\, per la
 sciare un messaggio. La musica ha un potere curativo\, evocativo\, educati
 vo\, spirituale immenso. La mia musica è una lanterna che lascio a chi vu
 ole coglierla. I nostri gesti\, le nostre parole\, sono lanterne donate. L
 ight\, don't fight!\n\nBiglietti:\nIntero: Euro 13\,00+2\,00 per tessera a
 ssociativa\nRidotto: Euro 10\,00+2\,00 per tessera associativa\n\nInfo & P
 renotazioni\ncell. 351-9752453 \nprenotazioni@arteatrio.it
ATTACH;FMTTYPE=image/jpeg:https://lazioeventi.com/wp-content/uploads/2023/
 03/Locandina-Concerto.jpeg
CATEGORIES:Musica, Spettacoli e Danza nel Lazio
LOCATION:Roma\, Via Leopardi\, Roma\, Roma\, Lazio\, Italia
GEO:41.8942;12.5017
X-APPLE-STRUCTURED-LOCATION;VALUE=URI;X-ADDRESS=Via Leopardi\, Roma\, Roma\
 , Lazio\, Italia;X-APPLE-RADIUS=100;X-TITLE=Roma:geo:41.8942,12.5017
END:VEVENT
BEGIN:VTIMEZONE
TZID:Europe/Rome
X-LIC-LOCATION:Europe/Rome
BEGIN:STANDARD
DTSTART:20221030T020000
TZOFFSETFROM:+0200
TZOFFSETTO:+0100
TZNAME:CET
END:STANDARD
END:VTIMEZONE
END:VCALENDAR