BEGIN:VCALENDAR
VERSION:2.0
PRODID:-//wp-events-plugin.com//7.2.3.1//EN
TZID:Europe/Rome
X-WR-TIMEZONE:Europe/Rome
BEGIN:VEVENT
UID:43577@lazioeventi.com
DTSTART;TZID=Europe/Rome:20260305T170000
DTEND;TZID=Europe/Rome:20260305T190000
DTSTAMP:20260118T133859Z
URL:https://lazioeventi.com/eventi/le-parole-tra-noi-leggere
SUMMARY:Le parole tra noi leggere - Velletri - 5 Marzo 26 17:00
DESCRIPTION:A Velletri\, giovedì 5 marzo 2026 dalle 17:00 alle 19:00\, la 
 biblioteca comunale ospita il terzo incontro del ciclo di lettura dal tema
  Nel nome della madre\, organizzato dal gruppo di lettura Il Circoletto. P
 rotagonista dell’appuntamento sarà il libro "Le parole tra noi leggere"
  è un romanzo di Lalla Romano.\n\n"Le parole tra noi leggere" è un roman
 zo di Lalla Romano che esplora il complesso rapporto tra madre e figlio\, 
 in particolare attraverso le esperienze della protagonista con il suo giov
 ane figlio Piero. La narrazione affronta le difficoltà e i conflitti che 
 sorgono durante la crescita del ragazzo\, mettendo in luce le emozioni e l
 e sfide della maternità. Questo romanzo ha vinto il Premio Strega nel 196
 9 e continua a essere un'opera significativa nella letteratura italiana.\n
 \nL’incontro è parte del secondo ciclo del progetto Il Circoletto\, rea
 lizzato dalla biblioteca comunale in collaborazione con Biblionova Societ
 à Cooperativa. L’iniziativa è aperta a tutti i lettori adulti interess
 ati a condividere impressioni sui libri letti privatamente e a creare un m
 omento di dialogo e confronto culturale.
ATTACH;FMTTYPE=image/jpeg:https://lazioeventi.com/wp-content/uploads/2026/
 01/gruppo-lettura-velletri-splendi-come-vita-1.jpg
CATEGORIES:Arte e Cultura nel Lazio
LOCATION:Velletri\, Comune\, Velletri\, Roma\, Lazio\, Italia
GEO:41.6865;12.7776
X-APPLE-STRUCTURED-LOCATION;VALUE=URI;X-ADDRESS=Comune\, Velletri\, Roma\, 
 Lazio\, Italia;X-APPLE-RADIUS=100;X-TITLE=Velletri:geo:41.6865,12.7776
END:VEVENT
BEGIN:VTIMEZONE
TZID:Europe/Rome
X-LIC-LOCATION:Europe/Rome
BEGIN:STANDARD
DTSTART:20251026T020000
TZOFFSETFROM:+0200
TZOFFSETTO:+0100
TZNAME:CET
END:STANDARD
END:VTIMEZONE
END:VCALENDAR