BEGIN:VCALENDAR
VERSION:2.0
PRODID:-//wp-events-plugin.com//7.2.3.1//EN
TZID:Europe/Rome
X-WR-TIMEZONE:Europe/Rome
BEGIN:VEVENT
UID:43552@lazioeventi.com
DTSTART;TZID=Europe/Rome:20260118T100000
DTEND;TZID=Europe/Rome:20260118T130000
DTSTAMP:20260114T123645Z
URL:https://lazioeventi.com/eventi/le-passeggiate-poetiche-alla-riserva-na
 turale-lago-di-canterno
SUMMARY:Le Passeggiate Poetiche alla Riserva Naturale Lago di Canterno - Tr
 ivigliano - 18 Gennaio 26 10:00
DESCRIPTION:APS Exotique\ncon il patrocinio ed il contributo\ndell’Ente P
 arco Regionale Monti Ausoni e Lago di Fondi\ne con il supporto della DMO d
 ai Monti Lepini al Mare\n\npresenta\n\nLe Passeggiate Poetiche alla Riserv
 a Naturale Lago di Canterno\ncon la performance narrativa a tappe tratta d
 a\n“Le Operette Morali” di Giacomo Leopardi\ncon Gianmarco Cucciolla e
  Giovanni Marchegiani\n\ndomenica 18 gennaio 2026\, inizio ore 10.00\ningr
 esso dal Comune di Trivigliano\n\nIniziativa gratuita con prenotazione obb
 ligatoria\nal tel: 329.8424810* | email: prenotazioni@exotique.it\n(il luo
 go dell’appuntamento sarà comunicato\na tutti gli iscritti alla chiusur
 a delle prenotazioni)\n\nLa prima Passeggiata Poetica dell’anno sarà in
  uno dei territori più suggestivi del Lazio\, ossia la Ciociaria\, ed in 
 particolare la Riserva Naturale Lago di Canterno\, istituita dalla Regione
  Lazio con legge regionale n. 29 del 6.10.1997 e si estende per circa 1824
  ettari in un territorio che ricade nei Comuni di Ferentino\, Fiuggi\, Fum
 one\, Trivigliano e Torre Cajetani\, in provincia di Frosinone. Si svilupp
 a nel versante meridionale dei monti Ernici\, ed è caratterizzata dalla p
 resenza del Lago di Canterno che rappresenta l’elemento principale dell
 ’intera area\, con un bacino di circa due km²\, profondità media di 3-
 4 metri e massima di 18-20 metri.\n\nIn questi anni l’Ente di Gestione P
 arco Naturale Regionale Monti Ausoni e Lago di Fondi ha portato avanti num
 erosi interventi per la rivalutazione e fruizione sostenibile di tutta l
 ’area\, tra cui la ciclovia che si sviluppa lungo le sponde e che sarà 
 il teatro a cielo aperto della Passeggiata Poetica di questa domenica.\n\n
 Domenica 18 Gennaio appuntamento lungo le sponde del Lago di Canterno con 
 una Passeggiata Poetica ispirata a “Le Operette Morali” di Giacomo Leo
 pardi\, una performance narrativa con l'attore Gianmarco Cucciolla e l'aut
 ore Giovanni Marchegiani. Una raccolta di 24 prose e dialoghi filosofici s
 critta nel periodo di silenzio poetico dell’autore. Il poeta utilizza la
  satira\, l’ironia\, la filosofia e la provocazione come strumento di de
 nuncia nei confronti di una società sempre più ipocrita e ignorante\, po
 nendo l’attenzione su alcune tematiche che riguardano proprio il rapport
 o dell’uomo con la storia\, con i suoi simili e con la natura.\n\nDurata
  attività: 3 h\nLunghezza del percorso: 6 km\nDifficoltà: facile\nDisliv
 ello max: 20/30 mt\nAdatta a tutti: adulti e bambini\nAbbigliamento: sport
 ivo\n\nProgramma completo: https://exotique.it/le-passeggiate-poetiche-all
 a-riserva-naturale-lago-di-canterno-domenica-18-gennaio-2026/
ATTACH;FMTTYPE=image/jpeg:https://lazioeventi.com/wp-content/uploads/2026/
 01/inverno-02.png
CATEGORIES:Musica, Spettacoli e Danza nel Lazio,Sport, Tempo Libero e
 Divertimento nel Lazio
LOCATION:Trivigliano\, Comune\, Trivigliano\, Frosinone\, Lazio\, Italia
GEO:41.7759;13.2727
X-APPLE-STRUCTURED-LOCATION;VALUE=URI;X-ADDRESS=Comune\, Trivigliano\, Fros
 inone\, Lazio\, Italia;X-APPLE-RADIUS=100;X-TITLE=Trivigliano:geo:41.7759,
 13.2727
END:VEVENT
BEGIN:VTIMEZONE
TZID:Europe/Rome
X-LIC-LOCATION:Europe/Rome
BEGIN:STANDARD
DTSTART:20251026T020000
TZOFFSETFROM:+0200
TZOFFSETTO:+0100
TZNAME:CET
END:STANDARD
END:VTIMEZONE
END:VCALENDAR