BEGIN:VCALENDAR
VERSION:2.0
PRODID:-//wp-events-plugin.com//7.2.3.1//EN
TZID:Europe/Rome
X-WR-TIMEZONE:Europe/Rome
BEGIN:VEVENT
UID:42704@lazioeventi.com
DTSTART;TZID=Europe/Rome:20251025T210000
DTEND;TZID=Europe/Rome:20251026T210000
DTSTAMP:20251010T130548Z
URL:https://lazioeventi.com/eventi/le-pillole-di-ercole
SUMMARY:Le Pillole di Ercole - Monterotondo - 25 Ottobre 25 21:00
DESCRIPTION:Il teatro amatoriale in favore della lotta contro la violenza d
 i genere.\nCinque giornate di spettacolo\, cultura e sensibilizzazione per
  diffondere la cultura del rispetto.\n\nL’Associazione La Rocca e il Lio
 ns Club Valle Tiberina\, con il patrocinio del Comune di Monterotondo e de
 lla Fondazione ICM\, sono lieti di presentare il festival “A Teatro per 
 la Vita… Una Stanza per la Libertà”\, inserito nella nuova stagione t
 eatrale 2025/2026 del Teatro Francesco Ramarini di Monterotondo.\n\nL’in
 iziativa\, che si terrà dal 25 ottobre al 25 novembre 2025\, propone cinq
 ue giornate di spettacoli\, letture e momenti di confronto dedicati alla s
 ensibilizzazione contro la violenza di genere e alla promozione della cult
 ura del rispetto.\n\nPROGRAMMA\nSabato 25 ottobre\, ore 21.00 e Domenica 2
 6 ottobre\, ore 18.00\n"Le Pillole di Ercole” Liberamente tratto dalla c
 ommedia in tre atti di M. Hennequin e F. Bilhaud Regia di Alessandra De Ma
 ttia – Compagnia La Rocca\, Associazione La Rocca.\n\nSabato 22 novembre
 \, ore 21.00 e Domenica 23 novembre\, ore 18.00\n“La Bottega del Caffè
 ” di C. Goldoni Regia di Carlo Del Giudice – Compagnia L’Albagia\, A
 ssociazione La Rocca.\n\nMartedì 25 novembre\, ore 18.30\nReading teatral
 e a cura degli attori delle compagnie La Rocca e L’Albagia.\nUn evento t
 ra teatro\, lettura\, musica e danza\, seguito da un dibattito finale:\n
 “Violenza di genere: parliamone. A che punto siamo?”.\n\nSOLIDARIETÀ 
 E PARTECIPAZIONE\nLe donazioni raccolte\, al netto delle spese\, saranno d
 evolute all’ODV “La Casa delle Case”\, centro antiviolenza e casa fa
 miglia per donne in difficoltà.\nI fondi contribuiranno all’acquisto di
  materiali e alla realizzazione di campagne di sensibilizzazione sul rispe
 tto e la parità nei comuni e nelle scuole del territorio.\n\nPer informaz
 ioni e prenotazioni:\nTel. 06 90178843 / 335 353128 / 330 884417
ATTACH;FMTTYPE=image/jpeg:https://lazioeventi.com/wp-content/uploads/2025/
 10/Manifesto-Pillolea4-stampa.jpg
CATEGORIES:Musica, Spettacoli e Danza nel Lazio
LOCATION:Monterotondo\, Comune di Monterotondo\, Monterotondo\, Roma\, Lazi
 o\, Italia
GEO:42.0517;12.6167
X-APPLE-STRUCTURED-LOCATION;VALUE=URI;X-ADDRESS=Comune di Monterotondo\, Mo
 nterotondo\, Roma\, Lazio\, Italia;X-APPLE-RADIUS=100;X-TITLE=Monterotondo
 :geo:42.0517,12.6167
END:VEVENT
BEGIN:VTIMEZONE
TZID:Europe/Rome
X-LIC-LOCATION:Europe/Rome
BEGIN:DAYLIGHT
DTSTART:20250330T030000
TZOFFSETFROM:+0100
TZOFFSETTO:+0200
TZNAME:CEST
END:DAYLIGHT
BEGIN:STANDARD
DTSTART:20251026T020000
TZOFFSETFROM:+0200
TZOFFSETTO:+0100
TZNAME:CET
END:STANDARD
END:VTIMEZONE
END:VCALENDAR