BEGIN:VCALENDAR
VERSION:2.0
PRODID:-//wp-events-plugin.com//7.2.3.1//EN
TZID:Europe/Rome
X-WR-TIMEZONE:Europe/Rome
BEGIN:VEVENT
UID:31615@lazioeventi.com
DTSTART;TZID=Europe/Rome:20220716T200000
DTEND;TZID=Europe/Rome:20220716T220000
DTSTAMP:20220711T172709Z
URL:https://lazioeventi.com/eventi/le-stupende-collezioni-di-palazzo-massi
 mo-ingresso-gratuito-serale
SUMMARY:Le stupende Collezioni di Palazzo Massimo (ingresso gratuito serale
 ) - Roma - 16 Luglio 22 20:00
DESCRIPTION:Il Colle Viminale è uno dei sette colli su cui venne fondata l
 a città di Roma\, deve il suo nome alle piante di vimini che un tempo ne 
 ricoprivano le pendici. Durante il regno di Diocleziano\, tra il 298 e il 
 305 d.C.\, vi furono erette le Terme\, nella zona che si trova alla fine d
 el Vicus Longus\, fra il Viminale e il Quirinale. Nel Rinascimento il tepi
 darium delle Terme di Diocleziano fu trasformato da Michelangelo\, su rich
 iesta di papa Pio IV\, che vi realizzò la chiesa di Santa Maria degli Ang
 eli (1561).\n\nIn questo percorso visiteremo gli spettacolari resti delle 
 Terme di Diocleziano inglobati nel Museo Nazionale Romano e nell'ex conven
 to dei Certosini che costruirono sui resti imperiali monumentali chiostri 
 e poi ci sposteremo nel Palazzo Massimo attraversando la strada dove avvic
 ineremo statue uniche al mondo che raccolgono la più importante collezion
 e di arte antica di Roma (il museo è dotato di aria condizionata)\n*(Test
 o originale di Roma Caput Tour\, coloro che ancora una volta copieranno sp
 udoratamente il testo descrittivo degli eventi di questa pagina saranno im
 mediatamente segnalati della violazione della proprietà intellettuale alt
 rui agli organi competenti)*\nAppuntamento ore 20:00 ingresso Museo Nazion
 ale Romano di Palazzo Massimo Largo Peretti: Cercare Bandiera viola Logo R
 oma Caput Tour\nDurata Visita Guidata 2 ore circa (pezzi più importanti d
 el Museo di Palazzo Massimo: pugilatore\, Augusto velato\, Discobolo\, ecc
 ...)\n\nCosto Biglietto Palazzo Massimo € 0.00 gratuito per tutti in occ
 asione delle aperture serali gratuite\nLa guida è già in possesso di big
 lietti per tutti\n\nCosto Visita Guidata € 13.00 (adulti) € 5.00 (bamb
 ini 5-13 anni) € 2.00 noleggio auricolari (Obbligatori per tutti per il 
 mantenimento delle distanze di sicurezza).\nPer semplicità si richiede il
  pagamento con quota esatta.\n\nIl sistema di microfono/auricolari\, che s
 arà OBBLIGATORIO per tutte le visite guidate\, consente di seguire tutte 
 le spiegazioni della guida anche a notevoli distanze\, in modo da applicar
 e tutte le misure di sicurezza previste dal decreto con distanziamento soc
 iale dei partecipanti all'attività.\nAd ogni partecipante sarà fornito u
 n radio trasmettitore sanificato\, un salviettino igienizzante sigillato\,
  e un auricolare sterile usa e getta (diversamente si potranno usare i pro
 pri auricolari del cellulare).\nPrenotazione Obbligatoria scrivendo a info
 @romacaputour.it o inviando un sms allo 0039 333 4854287 specificando Tito
 lo della visita\, Nome\, Cognome\, Recapito telefonico\, numero di persone
 \, e-mail di riferimento.
ATTACH;FMTTYPE=image/jpeg:https://lazioeventi.com/wp-content/uploads/2022/
 07/pugilatore.jpg
CATEGORIES:Arte e Cultura nel Lazio
LOCATION:Roma\, Via Leopardi\, Roma\, Roma\, Lazio\, Italia
GEO:41.8942;12.5017
X-APPLE-STRUCTURED-LOCATION;VALUE=URI;X-ADDRESS=Via Leopardi\, Roma\, Roma\
 , Lazio\, Italia;X-APPLE-RADIUS=100;X-TITLE=Roma:geo:41.8942,12.5017
END:VEVENT
BEGIN:VTIMEZONE
TZID:Europe/Rome
X-LIC-LOCATION:Europe/Rome
BEGIN:DAYLIGHT
DTSTART:20220327T030000
TZOFFSETFROM:+0100
TZOFFSETTO:+0200
TZNAME:CEST
END:DAYLIGHT
END:VTIMEZONE
END:VCALENDAR