BEGIN:VCALENDAR
VERSION:2.0
PRODID:-//wp-events-plugin.com//7.2.3.1//EN
TZID:Europe/Rome
X-WR-TIMEZONE:Europe/Rome
BEGIN:VEVENT
UID:31000@lazioeventi.com
DTSTART;TZID=Europe/Rome:20220521T090000
DTEND;TZID=Europe/Rome:20220521T120000
DTSTAMP:20220518T190600Z
URL:https://lazioeventi.com/eventi/le-tombe-delle-pietrische
SUMMARY:Le Tombe delle Pietrische - Manziana - 21 Maggio 22 09:00
DESCRIPTION:Nell’ambito della Settimana Europea dei Parchi\, iniziativa p
 romossa dal Parco Naturale Regionale Bracciano-Martignano: in compagnia di
  un'archeologa e di una geologa andremo alla scoperta di tombe etrusche e 
 luoghi affascinanti lungo il percorso del Casale delle Pietrische\, sposta
 ndoci poi al Monumento Naturale Regionale della Caldara di Manziana per pa
 rlare di vulcani\, betulle e polle gorgoglianti.\nSi consiglia scarponcino
  da trekking o scarpe adatte per escursione in primavera. Acqua e cappelli
 no per il sole. A tutti i partecipanti sarà dato un piccolo ricordo della
  giornata.\n\nOrganizzazione: VIAGGIO TRA GEOLOGIA E ARCHEOLOGIA\, CAROLIN
 A E SUSANNA IPPOLITO\n\nInfo e prenotazioni: caroliga90@hotmail.it - Cell.
  339.6019678 - susyippo@libero.it - Cell. 339.6017485\n\nPrenotazione obbl
 igatoria\n\nAppuntamento: Ore 9.00 presso il parcheggio di Via delle Pietr
 ische – Manziana (Roma)\n\nQuota di partecipazione: evento gratuito e fi
 nanziato dal Parco Naturale Regionale Bracciano-Martignano coi fondi della
  Regione Lazio nell’ambito della Settimana Europea dei Parchi\n\nParteci
 panti: Minimo 4 Massimo 25\n\nDifficoltà evento: Bassa\n\nAccessibilità:
  No\n\nDurata: 3 ore
ATTACH;FMTTYPE=image/jpeg:https://lazioeventi.com/wp-content/uploads/2022/
 05/2-il-casale-delle-pietrische.jpg
CATEGORIES:Sport, Tempo Libero e Divertimento nel Lazio
LOCATION:Manziana\, Comune di Manziana\, Manziana\, Roma\, Lazio\, Italia
GEO:42.1301;12.1301
X-APPLE-STRUCTURED-LOCATION;VALUE=URI;X-ADDRESS=Comune di Manziana\, Manzia
 na\, Roma\, Lazio\, Italia;X-APPLE-RADIUS=100;X-TITLE=Manziana:geo:42.1301
 ,12.1301
END:VEVENT
BEGIN:VTIMEZONE
TZID:Europe/Rome
X-LIC-LOCATION:Europe/Rome
BEGIN:DAYLIGHT
DTSTART:20220327T030000
TZOFFSETFROM:+0100
TZOFFSETTO:+0200
TZNAME:CEST
END:DAYLIGHT
END:VTIMEZONE
END:VCALENDAR