BEGIN:VCALENDAR
VERSION:2.0
PRODID:-//wp-events-plugin.com//7.2.3.1//EN
TZID:Europe/Rome
X-WR-TIMEZONE:Europe/Rome
BEGIN:VEVENT
UID:40166@lazioeventi.com
DTSTART;TZID=Europe/Rome:20241214T160000
DTEND;TZID=Europe/Rome:20241214T180000
DTSTAMP:20241029T172101Z
URL:https://lazioeventi.com/eventi/le-vie-della-scienza-2
SUMMARY:Le vie della Scienza - Velletri - 14 Dicembre 24 16:00
DESCRIPTION:Sabato 16 Novembre parte il nuovo ciclo di Seminari “Le vie d
 ella Scienza – tra passato\, presente e futuro” ospitati dall’IISS C
 esare Battisti di Velletri\, sede via dei Lauri\, 1.\nGrazie ad una conven
 zione firmata dall’Associazione culturale Velletri 2030 e IISS Cesare Ba
 ttisti per  “la concessione in uso temporaneo di locali scolastici” pe
 r lo svolgimento di attività di diffusione e sensibilizzazione verso la c
 ultura scientifica. In Allegato il calendario del ciclo di Seminari per la
  stagione 2024 – 25.\n\nMolti si chiederanno: dove sta la novità? Velle
 tri 2030 tutti gli anni ha proposto cicli di Seminari Scientifici e Manife
 stazioni per lo Sviluppo Sostenibile\, atti alla diffusione della cultura 
 scientifica e ad una presa di coscienza collettiva sul futuro del Pianeta 
 Terra. La risposta sta nel fatto che Velletri 2030 continuerà la propria 
 opera di diffusione della Cultura Scientifica con tutti gli strumenti usat
 i in passato\, in particolare con Seminari dal vivo ospitati dall’IISS 
 “Cesare Battisti” nella sede di via dei Lauri il cui calendario specif
 ico è in Allegato.\n\nCome già annunciato in una precedente News\, in ag
 giunta a quanto proposto in passato\, a partire dall’anno accademico 202
 4 – 25\, grazie ad una convenzione con il Comune di Velletri\, Velletri 
 2030 proporrà anche una serie di Seminari a carattere Didattico per i gio
 vani  interessati ad equipaggiarsi per guardare al futuro con il bagaglio 
 di conoscenze necessarie. Quest’ultimi Seminari saranno ospitati a Villa
  Bernabei\, secondo un preciso calendario già distribuito a tutti i poten
 ziali interessati.\n\nOvviamente tali conoscenze non potranno essere acqui
 site soltanto partecipando ai Seminari\, ma saranno complementari ai tanti
  percorsi scolastici proposti dai vari Istituti scolastici presenti a Vell
 etri e nelle prestigiose Università che circondano il territorio.\n\nNon 
 stiamo qui a ripetere l’importanza della “contaminazione tra le due cu
 lture”\, Umanistica e Scientifica. Ne abbiamo parlato anche recentemente
 . Ci piace ricordare soltanto una bella intervista a Piero Angela pubblica
 ta da RaiScuola\, nonché quanto usava dire lo stesso Piero Angela citando
  Toraldo Di Francia: “Non bisogna fare soltanto una tecnologia a misura 
 d’uomo ma anche uomini ed intellettuali a misura di tecnologia”.\n\nVi
  aspettiamo numerosi al Cesare Battisti a partire da sabato 16 Novembre.\n
 \nCalendario dei Seminari “Le vie della Scienza” 2024 – 2025:\n\nSab
 ato 16 Novembre 2024\, ore 16:00\nEre geologiche del Pianeta Terra e Cambi
 amenti Climatici\nA cura di Giovanni Rantucci – Ricercatore e Velletri 2
 030\n\nSabato 14 Dicembre 2024\, ore 16:00\nRapporto Draghi: futuro della 
 competitività sfida esistenziale per l’Unione Europea\nA cura di Luigi 
 Di Marco – Alleanza Italiana per lo Sviluppo Sostenibile (ASviS) e Velle
 tri 2030\n\nSabato 18 Gennaio 2025\, ore 16:00\nInnovazione tecnologica ne
 l settore urologico\nA cura di Giorgio Corsetti – Medico specialista e V
 elletri 2030\n\nSabato 15 Febbraio 2025\, ore 16:00\nInnovazione tecnologi
 ca nella costruzione delle strade: dal basolato romano ai giorni nostri\nA
  cura del Gruppo Archeologico Veliterno e Italia Nostra\n\nSabato 15 Marzo
  2025\, ore 16:00\nNucleare italiano tra presente e futuro\nA cura di Mass
 imo Spieelli – Ingegnere ricercatore e Velletri 2030\n\nSabato 12 Aprile
  2025\, ore 16:00\nIntelligenza Artificiale nel mondo della scuola\nA cura
  di Eugenio Dibenanrdo – Ex-Dirigente scolastico e Velletri 2030\n\nSaba
 to 17 Maggio 2025\, ore 16:00\nLa Sostenibilità secondo i giovani\nA cura
  di Ilaria Usai* (*invitata) – Avvocato Foro di Velletri e Velletri 2030
 \n\nSabato 14 Giugno 2025\, ore 16:00\nIntelligenza artificiale e mondo de
 l lavoro\nA cura di Stefano Cortina – Avvocato Foro di Velletri e Vellet
 ri 2030\, Maurizio Cari – Commercialista e Velletri 2030\, e Dott.ssa Pa
 trizia Ivo D’Andrea – Assegnista di Ricerca Università di Firenze e V
 elletri 2030
ATTACH;FMTTYPE=image/jpeg:https://lazioeventi.com/wp-content/uploads/2024/
 10/SEMINARI_Le-vie-della-Scienza-2024-25_CESARE-BATTISTI-724x1024-1.jpg
CATEGORIES:Arte e Cultura nel Lazio
LOCATION:Velletri\, Comune\, Velletri\, Roma\, Lazio\, Italia
GEO:41.6865;12.7776
X-APPLE-STRUCTURED-LOCATION;VALUE=URI;X-ADDRESS=Comune\, Velletri\, Roma\, 
 Lazio\, Italia;X-APPLE-RADIUS=100;X-TITLE=Velletri:geo:41.6865,12.7776
END:VEVENT
BEGIN:VTIMEZONE
TZID:Europe/Rome
X-LIC-LOCATION:Europe/Rome
BEGIN:STANDARD
DTSTART:20241027T020000
TZOFFSETFROM:+0200
TZOFFSETTO:+0100
TZNAME:CET
END:STANDARD
END:VTIMEZONE
END:VCALENDAR