BEGIN:VCALENDAR
VERSION:2.0
PRODID:-//wp-events-plugin.com//7.2.3.1//EN
TZID:Europe/Rome
X-WR-TIMEZONE:Europe/Rome
BEGIN:VEVENT
UID:27024@lazioeventi.com
DTSTART;TZID=Europe/Rome:20200718T160000
DTEND;TZID=Europe/Rome:20200718T220000
DTSTAMP:20200713T160849Z
URL:https://lazioeventi.com/eventi/le-vinalia-tuscolane-degustazioni-tra-v
 ino-e-archeologia
SUMMARY:Le vinalia tuscolane: degustazioni tra Vino e Archeologia - Monte P
 orzio Catone - 18 Luglio 20 16:00
DESCRIPTION:? 18 luglio 2020 ?LE VINALIA TUSCOLANE Degustazioni tra Vino e 
 Archeologia al Parco Archeologico Culturale di Tuscolo || a cura di Iperic
 o Servizi per la Cultura e Vinario 4 ? Dalle ore 16 presso l'area attrezza
 ta del Parco degustazione con
ATTACH;FMTTYPE=image/jpeg:https://lazioeventi.com/wp-content/uploads/2020/
 07/locandina_persito.jpg
CATEGORIES:Sagre, Gastronomia e Tradizioni nel Lazio
LOCATION:Monte Porzio Catone\, Comune\, Monte Porzio Catone\, Roma\, Lazio\
 , Italia
GEO:41.8156;12.7166
X-APPLE-STRUCTURED-LOCATION;VALUE=URI;X-ADDRESS=Comune\, Monte Porzio Caton
 e\, Roma\, Lazio\, Italia;X-APPLE-RADIUS=100;X-TITLE=Monte Porzio Catone:g
 eo:41.8156,12.7166
END:VEVENT
BEGIN:VTIMEZONE
TZID:Europe/Rome
X-LIC-LOCATION:Europe/Rome
BEGIN:DAYLIGHT
DTSTART:20200329T030000
TZOFFSETFROM:+0100
TZOFFSETTO:+0200
TZNAME:CEST
END:DAYLIGHT
END:VTIMEZONE
END:VCALENDAR