BEGIN:VCALENDAR
VERSION:2.0
PRODID:-//wp-events-plugin.com//7.2.3.1//EN
TZID:Europe/Rome
X-WR-TIMEZONE:Europe/Rome
BEGIN:VEVENT
UID:42523@lazioeventi.com
DTSTART;TZID=Europe/Rome:20251011T203000
DTEND;TZID=Europe/Rome:20251011T220000
DTSTAMP:20250922T140009Z
URL:https://lazioeventi.com/eventi/leggerezza-romantica
SUMMARY:Leggerezza Romantica - Vallerano - 11 Ottobre 25 20:30
DESCRIPTION:Al via la quarta edizione del Festival della Tuscia\, progetto 
 ideato da Vittorio Sgarbi e diretto dal maestro Massimo Spada.\nCon il tit
 olo "La leggerezza" sono in programma undici concerti che si svolgeranno d
 al 19 settembre al 12 ottobre 2025 in palazzi storici di Viterbo\, Gallese
 \, Ischia di Castro\, Vallerano\, Bassano Romano\, Bolsena\, Vitorchiano e
  Sutri. \n\nL'agenda: teatro\, concerti\, mostre ed eventi nella Tuscia  \
 n"Prime Note D'autunno": a Vetralla un concerto pianistico all'alba\nI Rac
 conti sonori del Festival “I Bemolli sono blu”: dal Chigi Hall di Vite
 rbo alle Terme dei Papi\nTra Cielo e Terra: concerto straordinario nella C
 attedrale di Sutri con i Maestri Nello Salza e Roberto Canali\n"Raccontare
  l'archeologia nella Tuscia" riparte dal Museo archeologico nazionale dell
 'Agro Falisco e Forte Sangallo\nMusiche e talenti nelle bellezze della Tus
 cia: prosegue il Festival Barocco Alessandro Stradella\n Salva\nL'ispirazi
 one nella frase di Italo Calvino: "La leggerezza non è superficialità\, 
 ma planare sulle cose dall'alto\, non avere macigni sul cuore" per un cart
 ellone che mette in mostra grandi artisti nei luoghi più belli della Tusc
 ia. \n\nQuesti gli appuntamenti::\n\n11 ottobre 2025 ore 20:30 Santuario d
 i S. Maria del Ruscello VALLERANO\nLeggerezza Romantica\nMassimo Spada PIA
 NOFORTE\nChiara Sannicandro VIOLINO\nGeorgy Kovalev VIOLA\nLudovica Rana V
 IOLONCELLO\n\n12 ottobre 2025  ore 16:30 - 18:30 Sala Regia VITERBO\nRavel
  Day (in collaborazione col Conservatorio di Perugia)\nOre 16:30\nGiuseppe
  Torrisi\nLivia Franchi de’ Cavalieri\nAlessio Tonelli\nMartino Rossi\nC
 hiara Biagioli\nElena Ridoll\nOre 18:30\nMassimiliano Soriente \nFulvio Ni
 colosi\nChiara Biagioli\nIan Cannon\n\n12 ottobre 2025 ore 20:30 Basilica 
 di S. Maria della Quercia VITERBO\nRavel Day\nBenedett Lupo PIANOFORTE\n\n
 ingresso Over-35: 8€ - ingresso under-35: 5€
ATTACH;FMTTYPE=image/jpeg:https://lazioeventi.com/wp-content/uploads/2025/
 09/festival-tuscia-1.jpg
CATEGORIES:Musica, Spettacoli e Danza nel Lazio
LOCATION:Vallerano\, Comune di Vallerano\, Vallerano\, Viterbo\, Lazio\, It
 alia
GEO:42.3837;12.2641
X-APPLE-STRUCTURED-LOCATION;VALUE=URI;X-ADDRESS=Comune di Vallerano\, Valle
 rano\, Viterbo\, Lazio\, Italia;X-APPLE-RADIUS=100;X-TITLE=Vallerano:geo:4
 2.3837,12.2641
END:VEVENT
BEGIN:VTIMEZONE
TZID:Europe/Rome
X-LIC-LOCATION:Europe/Rome
BEGIN:DAYLIGHT
DTSTART:20250330T030000
TZOFFSETFROM:+0100
TZOFFSETTO:+0200
TZNAME:CEST
END:DAYLIGHT
END:VTIMEZONE
END:VCALENDAR