BEGIN:VCALENDAR
VERSION:2.0
PRODID:-//wp-events-plugin.com//7.2.3.1//EN
TZID:Europe/Rome
X-WR-TIMEZONE:Europe/Rome
BEGIN:VEVENT
UID:29809@lazioeventi.com
DTSTART;TZID=Europe/Rome:20220205T180000
DTEND;TZID=Europe/Rome:20220205T193000
DTSTAMP:20220203T194128Z
URL:https://lazioeventi.com/eventi/leggero-leggero
SUMMARY:Leggero... leggero - Alatri - 5 Febbraio 22 18:00
DESCRIPTION:Il 5 febbraio 2022 alle ore 18\,00 presso la Biblioteca comunal
 e "Luigi Ceci" una serata all'insegna della musica di Strauss\, Schumann\,
  Ganz e Suppè con Paola Vittori e Antonio D'Antò impegnati al pianoforte
  a 4 mani.\n\nPrenotazione obbligatoria\n\nEvento trasmesso in diretta su 
 Ernica tv e sulla pagina facebook "Cultura Comune di Alatri".
ATTACH;FMTTYPE=image/jpeg:https://lazioeventi.com/wp-content/uploads/2022/
 02/musica-alatri-2.jpg
CATEGORIES:Musica, Spettacoli e Danza nel Lazio
LOCATION:Alatri\, Comune\, Alatri\, Frosinone\, Lazio\, Italia
GEO:41.7265;13.3421
X-APPLE-STRUCTURED-LOCATION;VALUE=URI;X-ADDRESS=Comune\, Alatri\, Frosinone
 \, Lazio\, Italia;X-APPLE-RADIUS=100;X-TITLE=Alatri:geo:41.7265,13.3421
END:VEVENT
BEGIN:VTIMEZONE
TZID:Europe/Rome
X-LIC-LOCATION:Europe/Rome
BEGIN:STANDARD
DTSTART:20211031T020000
TZOFFSETFROM:+0200
TZOFFSETTO:+0100
TZNAME:CET
END:STANDARD
END:VTIMEZONE
END:VCALENDAR