BEGIN:VCALENDAR
VERSION:2.0
PRODID:-//wp-events-plugin.com//7.2.3.1//EN
TZID:Europe/Rome
X-WR-TIMEZONE:Europe/Rome
BEGIN:VEVENT
UID:34183@lazioeventi.com
DTSTART;TZID=Europe/Rome:20230312T170000
DTEND;TZID=Europe/Rome:20230312T190000
DTSTAMP:20230221T062607Z
URL:https://lazioeventi.com/eventi/les-bohemiens-opera-rock
SUMMARY:Les Bohémiens opera rock - Viterbo - 12 Marzo 23 17:00
DESCRIPTION:La Compagnia della Rupe\npresenta\nLes Bohémiens Opera Rock\n\
 n“Les Bohémiens Opera Rock” un Musical frizzante e coinvolgente\, can
 tato interamente dal vivo e ispirato al film musical “Moulin Rouge!” d
 i Baz Luhrmann.\nIl Moulin Rouge è una sala da ballo\, un locale notturno
 \, un luogo di perdizione ma anche un concentrato di passione\, emozioni c
 ontrastanti e amori ostacolati. Parigi\, 1899\, Christian\, uno scrittore 
 inglese in cerca di ispirazione e di fortuna\, giunge a Parigi sull’onda
  della Rivoluzione Bohémien\, dove tutto ciò che è arte si fonde con i 
 principi di quell’epoca: amore\, libertà\, verità e bellezza.\nTravolt
 o da questo frastuono di passioni\, colori e sentimenti\, la sua strada si
  intreccerà con quella di personaggi eccentrici\, divertenti e tragici\, 
 appartenenti ad un mondo del quale ignorava l’esistenza e\, senza render
 sene conto\, varcherà le porte del Moulin Rouge.\nQui incontrerà Satine\
 , una bellissima cortigiana\, che vende il suo amore sognando di ottenere 
 un giorno quello che da sempre desidera: denaro\, successo\, libertà\; e 
 Cristian si innamorerà perdutamente di lei.\nInsieme capiranno che la cos
 a più grande che si possa imparare è amare e lasciarsi amare.\nMusical o
 riginale\, frutto di una completa e sostanziale rivisitazione scenica e mu
 sicale del celebre film MOULIN ROUGE di Buz Lurman.\nLa lettura visionaria
  dell’opera  accompagna il pubblico in un viaggio passionale e drammatic
 o\, colorato e frizzante\, nella storia di un amore che non avrà mai fine
 …\n\n\nREGIA\, AUTORE e RIVISITAZIONE TESTI TEATRALI e MUSICALI\, DISEGN
 O LUCI Marcello Brinchi\nAIUTO REGIA Mara Pieri\nCOREOGRAFIE Francesco Leo
 nardi\, Maria Gubbiotto\, Emanuela Costa\, Silvia Pucci\, Silvia Marcacci\
 nSCENOGRAFIE Carlo Costa\, Luca Pallotta\, Mario Bottarini\, Moreno Ripalv
 ella\nDirettamente dal palcoscenico celeste\, i nostri artisti del cielo M
 ario Tysserand nel ruolo de “L’Argentino Narcolettico” e Mario Botta
 rini alla Direzione Tecnica\n\nPERSONAGGI E INTERPRETI\nCHRISTIAN Fabrizio
  Del Soldato\nSATINE Silvia Marcacci\nZIDLER Marco Piccinelli\nIL DUCA DI 
 MONROTH Pier Luigi Filosomi\nMARIE Luana Lanciano\nNINÌ Michela Pezzini\n
 ADELE Eleonora Temperini\nLAUTREC Francesco Filosomi\nBERTRAND Francesco L
 eonardi\nMAURICE Cristian Zanoni\nDOTTORE Marco Montanucci\nIL MUSICISTA D
 I PIGALLE Fabio\nForbicioni\nNARRATORE Marcello Brinchi\n\nCORPO DI BALLO 
 Francesco Leonardi\, Maria Gubbiotto\, Silvia Pucci\, Emanuela Costa\, Fra
 ncesco Filosomi\, Giorgia Bellacima\, Cristian Zanoni\, Virginia Caprasecc
 a\, Danilo Cordelli\, Linda Puri\, Veronica Baccelloni\, Riccardo Marcacci
 \, Ginevra Cordelli\, Azzurra Fastella\, Filippo Palumbo\, Lavinia Cordell
 i\, Giorgia Ciacci\, Costanza Buoni\, Martina Del Soldato\, Elisa Fortuni\
 nDIREZIONE TECNICA Luca Pallotta\, Moreno Ripalvella\nRESPONSABILE TECNICO
  AUDIO Paolo Gubbiotto\nCONTROLLO SEQUENZA AUDIO Giovanni Tomasselli\nSART
 ORIA Nazarena Berna\nAIUTO SARTORIA Luana Pacchiarotti\, Azzurra Pelabasto
 \n\nASSISTENTI TECNICI Simona Medde\, Lorenzo Cordelli\, Luciana Leonardi\
 , Laura Luciani\, Chiara Tysserand\, Vittoria Tysserand\, Andrea Costa\, R
 oberto Ciarlantini\, Marco Montanucci\, Marco Viviani\, Azzurra Pallotta\,
  Mauro Pallotta\, Antonella Patrizi\, Anna Spadaccia\, Alessandro Ercoli\,
  Vincenzo Scapigliati\, Sabina Temperini\, Alessandra Cordelli\, Luana Pal
 lotta\, Leonardo Bernabei\, Vanessa Cionci\, Gabriele Simonelli\, Francesc
 o Saccarelli\n\nBiglietti in vendita presso il botteghino del Teatro o onl
 ine su Ticketone.\n\nBiglietti\nPlatea Intero € 20.00 + € 2\,50 prev. 
 – Ridotto € 18\,00 + 2\,50 prev.\nPalco centrale 1° FILA intero € 1
 8.00 + 2\,50 prev – ridotto € 16\,00 + 2\,50 prev.\nPalco centrale 2°
  FILA intero € 16.00 + 2\,00 prev – ridotto € 14\,00 + 2\,00 prev.\n
 Palco laterale 1° FILA intero € 14.00 + 2\,00 prev – ridotto € 12\,
 00 + 2\,00 prev.\nPalco laterale 2° FILA intero € 12.00 + 2\,50 prev 
 – ridotto € 10\,00 + 2\,50 prev.\nPalco lateralissimo intero € 10.00
  + 1\,50 prev – ridotto € 8\,00 + 1\,00 prev.\n\nLa biglietteria del T
 eatro è aperta dal martedì al sabato con orario 10.00 – 13.00 e 15.00 
 – 19.00.\nAperto anche di domenica\, con gli stessi orari\, solo in caso
  di spettacoli o altre attività.\nChiuso il lunedì.
ATTACH;FMTTYPE=image/jpeg:https://lazioeventi.com/wp-content/uploads/2023/
 02/operarock.jpg
CATEGORIES:Musica, Spettacoli e Danza nel Lazio
LOCATION:Viterbo\, Comune\, Viterbo\, Viterbo\, Lazio\, Italia
GEO:42.417;12.1051
X-APPLE-STRUCTURED-LOCATION;VALUE=URI;X-ADDRESS=Comune\, Viterbo\, Viterbo\
 , Lazio\, Italia;X-APPLE-RADIUS=100;X-TITLE=Viterbo:geo:42.417,12.1051
END:VEVENT
BEGIN:VTIMEZONE
TZID:Europe/Rome
X-LIC-LOCATION:Europe/Rome
BEGIN:STANDARD
DTSTART:20221030T020000
TZOFFSETFROM:+0200
TZOFFSETTO:+0100
TZNAME:CET
END:STANDARD
END:VTIMEZONE
END:VCALENDAR