BEGIN:VCALENDAR
VERSION:2.0
PRODID:-//wp-events-plugin.com//7.2.3.1//EN
TZID:Europe/Rome
X-WR-TIMEZONE:Europe/Rome
BEGIN:VEVENT
UID:43186@lazioeventi.com
DTSTART;TZID=Europe/Rome;VALUE=DATE:20251203
DTEND;TZID=Europe/Rome;VALUE=DATE:20251204
DTSTAMP:20251124T111746Z
URL:https://lazioeventi.com/eventi/leuropa-tra-violenza-e-utopia
SUMMARY:L’Europa tra violenza e utopia - Roma - 3 Dicembre 25 15:00
DESCRIPTION:Riflessioni artistiche e politiche su un continente in trasform
 azione\n\nNegli ultimi anni\, il concetto stesso di Europa è tornato al c
 entro del dibattito pubblico\, attraversato da contraddizioni profonde\, c
 risi identitarie e tensioni politiche che sembrano rimettere in discussion
 e i fondamenti del progetto europeo. Guerre ai confini del continente\, de
 rive autoritarie\, migrazioni forzate e fragilità istituzionali hanno rip
 ortato alla luce antiche fratture\, rendendo urgente una nuova riflessione
  sul senso storico\, politico e culturale dell’Europa. In questo scenari
 o complesso\, la conferenza L’Europa tra violenza e utopia\, che si terr
 à mercoledì 3 dicembre 2025 presso l’Accademia di Francia a Roma – V
 illa Medici\, propone un momento di confronto critico e artistico sulla ra
 ppresentazione dell’Europa attraverso i secoli e sulle sue metamorfosi n
 el presente.\n\nAlessandro Gallicchio\, direttore del Dipartimento di Stor
 ia dell’Arte dell’Accademia di Francia\, e Jana Graul\, storica dell
 ’arte presso l’Università di Amburgo\, sono i co-organizzatori dell
 ’incontro\, concepito in parallelo all’uscita del numero 21 della rivi
 sta Studiolo\, che dedica la sua rubrica tematica proprio alla tensione co
 stante tra dimensione utopica e deriva violenta che caratterizza la storia
  europea. Il seminario si svolgerà nel Grand Salon di Villa Medici dalle 
 15:00 alle 18:00\, con ingresso gratuito su prenotazione e possibilità di
  partecipazione online.\n\nAd aprire la riflessione sarà l’intervento d
 i Jana Graul\, Il mito di Europa e le arti\, che analizza la fortuna icono
 grafica e simbolica della figura mitologica di Europa\, la principessa fen
 icia rapita da Zeus\, divenuta nei secoli immagine cangiante e stratificat
 a del continente. A partire da questo archetipo\, Graul esplorerà il ruol
 o delle arti nella costruzione di un immaginario europeo\, mostrando come 
 la narrazione mitica si sia trasformata in strumento di lettura critica e 
 specchio delle tensioni culturali tra accoglienza e conquista\, tra deside
 rio di universalità e logiche di esclusione.\n\nA seguire\, un dialogo tr
 a Mounira Al Solh\, artista libanese-olandese\, e Alessandro Gallicchio of
 frirà uno sguardo contemporaneo su queste tematiche. Partendo dall’oper
 a A Dance with her Myth\, presentata da Al Solh nel padiglione libanese al
 la 60ª Biennale di Venezia e successivamente al Bonnefanten Museum di Maa
 stricht\, i due interlocutori si confronteranno sulle possibilità dell’
 arte di riscrivere i miti fondativi dell’Europa\, aprendo spazi di memor
 ia condivisa e narrazioni alternative. Il confronto toccherà anche le sfi
 de della rappresentazione politica e le potenzialità dell’immaginazione
  artistica nel restituire voce alle soggettività marginali e alle storie 
 dimenticate.\n\nL’importanza di questo incontro risiede nella sua capaci
 tà di riunire prospettive disciplinari e geografiche differenti per rifle
 ttere su una delle questioni più urgenti del nostro tempo: quale Europa v
 ogliamo immaginare oggi? E quali strumenti critici\, teorici e simbolici p
 ossiamo utilizzare per costruirla? In un’epoca segnata da profonde incer
 tezze e da un crescente disincanto verso le istituzioni e i valori comuni\
 , l’arte si propone come uno dei pochi spazi capaci di articolare discor
 si complessi\, di rimettere in circolo le domande essenziali\, e di offrir
 e visioni che\, pur consapevoli della violenza del passato e del presente\
 , continuano a credere nella possibilità dell’utopia.\n\nCo-organizzato
 ri: Alessandro Gallicchio e Jana Graul\n\nIngresso gratuito su prenotazion
 e al link: https://www.ticketlandia.com/m/eventSubList/villa-medicis/3671\
 n\nLink Zoom per partecipazione da remoto:\nhttps://us02web.zoom.us/j/4886
 507482?pwd=htOuu2QCiDaoHF5tfyUG2oVJQanZZd.1&omn=81580448543#success
ATTACH;FMTTYPE=image/jpeg:https://lazioeventi.com/wp-content/uploads/2025/
 11/Studiolo-21.jpg
CATEGORIES:Arte e Cultura nel Lazio
LOCATION:Roma\, Via Leopardi\, Roma\, Roma\, Lazio\, Italia
GEO:41.8942;12.5017
X-APPLE-STRUCTURED-LOCATION;VALUE=URI;X-ADDRESS=Via Leopardi\, Roma\, Roma\
 , Lazio\, Italia;X-APPLE-RADIUS=100;X-TITLE=Roma:geo:41.8942,12.5017
END:VEVENT
BEGIN:VTIMEZONE
TZID:Europe/Rome
X-LIC-LOCATION:Europe/Rome
BEGIN:STANDARD
DTSTART:20251026T020000
TZOFFSETFROM:+0200
TZOFFSETTO:+0100
TZNAME:CET
END:STANDARD
END:VTIMEZONE
END:VCALENDAR