BEGIN:VCALENDAR
VERSION:2.0
PRODID:-//wp-events-plugin.com//7.2.3.1//EN
TZID:Europe/Rome
X-WR-TIMEZONE:Europe/Rome
BEGIN:VEVENT
UID:34935@lazioeventi.com
DTSTART;TZID=Europe/Rome:20230416T111500
DTEND;TZID=Europe/Rome:20230416T123000
DTSTAMP:20230403T074547Z
URL:https://lazioeventi.com/eventi/levoluzione-della-forma-da-beethoven-a-
 chopin
SUMMARY:L’evoluzione della forma: da Beethoven a Chopin - Velletri - 16 A
 prile 23 11:15
DESCRIPTION:Ilaria Cavalleri pianoforte\nLudwig van Beethoven (1770-1827)\n
 Sonata n.18 in Mi bemolle maggiore op.31 n.3 “La caccia”\n- Allegro\n-
  Scherzo: Allegretto vivace\n- Minuetto\n- Presto con fuoco\nSonata n.30 i
 n Mi maggiore op.109\n- Vivace ma non troppo\n- Prestissimo\n- Andante mol
 to cantabile ed espressivo. (Gesangvoll\, mit innigster Empfindung [= Pien
 o di canto\, con il più intimo sentimento])\nFryderyk Chopin (1810-1849)\
 nScherzo n.1 in Si minore op.20\nScherzo n.2 in Si bemolle minore op.31\nS
 cherzo n.3 in Do diesis minore op.39\nScherzo n.4 in Mi maggiore op.54\n\n
 Ilaria Cavalleri è una giovane pianista bresciana nata nel 2001. Consegue
  la Laurea di 1° livello in pianoforte nel 2021 presso il Conservatorio 
 “Luca Marenzio” di Brescia con votazione 110 e lode. Attualmente frequ
 enta il Conservatorio “Giuseppe Verdi" di Milano con il M° Davide Cabas
 si e studia con il M° Maurizio Baglini.\nNel 2019 ha ricevuto da Ubi Banc
 a il premio Giovane Talento dell’anno\, istituito dalla banca stessa e a
 ssegnato dal Conservatorio di Brescia nell’ambito del 56° Festival Pian
 istico di Brescia e Bergamo. Nel gennaio 2020 si è esibita al Teatro Gran
 de di Brescia nell'evento “Un giorno di cento anni fa" per il centenario
  del M° Arturo Benedetti Michelangeli.\nIntensa l’attività concertisti
 ca: si è esibita per The Keyboard Charitable Trust a Ealing (Londra)\; pe
 r la 33ª Heidelberger Klavierwoche presso il DAI di Heidelberg\; per Pian
 o City Milano\; per il Festival Pianistico di Brescia e Bergamo nelle sera
 te dedicate ai giovani talenti del Conservatorio\; per Yamaha Piano a Crem
 ona Mondomusica\; per il Teatro Verdi di Pordenone\; per la Società dei C
 oncerti di Milano\; presso l’Università della musica di Varsavia\; per 
 il Teatro Grande di Brescia\; per la società Filodrammatica Cremonese\; p
 er RomaTreOrchestra presso il Teatro Palladium ed il Museo Napoleonico a R
 oma.\nNell’estate 2022 è stata selezionata per partecipare alla Vienna 
 Piano Summer School 2022\, organizzata da International Piano Foundation T
 heo and Petra Lieven of Hamburg\, che le ha permesso di studiare con impor
 tanti Maestri quali Tatiana Zelikman\, Arie Vardi e Ronald Brautigam. Ha f
 requentato masterclass pianistiche con i Maestri Riccardo Risaliti\, Agnie
 szka Przemyk-Bryla\, Federico Colli\, Tatiana Larionova e masterclass di m
 usica da camera con i Maestri Enrica Ciccarelli e Silvia Chiesa.\n\nIl “
 suono” di Liszt a Villa d’Este - XI edizione\n“ Non solo piano solo 
 ”\nAuditorium "Romina Trenta"\nCasa delle Culture e della Musica (ex Con
 vento del Carmine)\npiazza Trento e Trieste – Velletri (Roma)\nRassegna 
 di concerti su pianoforte Erard del 1879 come quello che Liszt possedeva e
 d usava a Villa d’Este\nAssociazione culturale Colle Ionci\nFondazione A
 rte e Cultura Città di Velletri\n\nPrenotazione caldamente consigliata\n\
 nIngresso ad offerta libera
ATTACH;FMTTYPE=image/jpeg:https://lazioeventi.com/wp-content/uploads/2023/
 04/non-solo-piano.jpg
CATEGORIES:Musica, Spettacoli e Danza nel Lazio
LOCATION:Velletri\, Comune\, Velletri\, Roma\, Lazio\, Italia
GEO:41.6865;12.7776
X-APPLE-STRUCTURED-LOCATION;VALUE=URI;X-ADDRESS=Comune\, Velletri\, Roma\, 
 Lazio\, Italia;X-APPLE-RADIUS=100;X-TITLE=Velletri:geo:41.6865,12.7776
END:VEVENT
BEGIN:VTIMEZONE
TZID:Europe/Rome
X-LIC-LOCATION:Europe/Rome
BEGIN:DAYLIGHT
DTSTART:20230326T030000
TZOFFSETFROM:+0100
TZOFFSETTO:+0200
TZNAME:CEST
END:DAYLIGHT
END:VTIMEZONE
END:VCALENDAR