BEGIN:VCALENDAR
VERSION:2.0
PRODID:-//wp-events-plugin.com//7.2.3.1//EN
TZID:Europe/Rome
X-WR-TIMEZONE:Europe/Rome
BEGIN:VEVENT
UID:28592@lazioeventi.com
DTSTART;TZID=Europe/Rome:20211005T173000
DTEND;TZID=Europe/Rome:20211005T203000
DTSTAMP:20210927T093934Z
URL:https://lazioeventi.com/eventi/lezioni-di-democrazia
SUMMARY:Lezioni di democrazia - Viterbo - 5 Ottobre 21 17:30
DESCRIPTION:Venerdì 5 Ottobre\n\nore 17.30\n\nFausto Bertinotti e Giancarl
 o Torricelli Dialogano su Art. 1  Fondata sul lavoro.\n\nPolitica e lavor
 o\, il grande rimosso della democrazia italiana. Tra licenziamenti\, deloc
 alizzazioni\, incidenti e precarietà.\n\nOre 19.00\n\nChiara Moroni e La
  comunicazione politica nella società emotiva\n\nLa dimensione del polit
 ico non può che essere “travolta” dall’onda emotiva che domina il 
 quotidiano e l’ordinario degli individui\, proprio perché è dalle em
 ozioni che scaturisce l’agire individuale e sociale coinvolgendo tanto l
 o spazio privato quanto quello pubblico. Una teoria dell’emotività soc
 iale come chiave di lettura per ridefinire pratiche e relazioni sociali\, 
 individuando nuove formule e nuovi strumenti della politica per comunicare
  e interagire\, per “essere” nelle mutevoli declinazioni emozionali de
 l presente.\n\nDomenica 7 Ottobre\n\nOre 18.00\nSala conferenze Unindustri
 a\n\nIn collaborazione con\n“I Pirati della Bellezza festival della paro
 la e del pensiero”\n\ndi Giulio Andreotti a cura di\n\nStefania Andreott
 i\n\nI diari degli anni di piombo\n\n«L’agente di pubblica sicurezza An
 tonio Annarumma muore con la testa fracassata da una sbarra di ferro». Gl
 i anni di piombo si aprono nel 1969 con un morto durante una manifestazion
 e a Milano\, e proseguono con le stragi nere di piazza Fontana\, di Bresci
 a e dell’Italicus\, con lo stillicidio degli agguati delle Brigate rosse
  e degli altri gruppi terroristici di estrema sinistra fino alla morte di 
 Aldo Moro e degli agenti della sua scorta. Ma quello tra il 1969 e il 1979
  fu anche il decennio delle grandi riforme con l’istituzione delle Regio
 ni\, lo Statuto dei lavoratori\, l’introduzione del divorzio\, il nuovo 
 diritto di fami- glia\, la regolamentazione dell’aborto\, la maggiore et
 à ai diciottenni. E furono anche anni di gravi crisi economiche\, soprat
 tutto legate al petrolio e alle oscillazioni valutarie. Dopo il precedente
  volume sugli anni Ottanta\, questa nuova serie dei diari inediti di Giuli
 o Andreotti\, curati dai figli Serena e Stefano\, documenta in presa diret
 ta un’epoca ancora viva nella memoria di milioni di italiani\; e la pros
 a disincantata e partecipe dell’uomo che per quasi metà di quel decenn
 io è stato presidente del Consiglio ci restituisce con accuratezza\, viv
 acità e ironia lo spirito del tempo. Un racconto rivelatore e ricco di r
 etroscena di un capitolo cruciale e controverso della storia italiana.
ATTACH;FMTTYPE=image/jpeg:https://lazioeventi.com/wp-content/uploads/2021/
 09/WhatsApp-Image-2021-08-26-at-09.17.46-1-1024x1024-1.jpeg
CATEGORIES:Arte e Cultura nel Lazio
LOCATION:Viterbo\, Comune\, Viterbo\, Viterbo\, Lazio\, Italia
GEO:42.417;12.1051
X-APPLE-STRUCTURED-LOCATION;VALUE=URI;X-ADDRESS=Comune\, Viterbo\, Viterbo\
 , Lazio\, Italia;X-APPLE-RADIUS=100;X-TITLE=Viterbo:geo:42.417,12.1051
END:VEVENT
BEGIN:VTIMEZONE
TZID:Europe/Rome
X-LIC-LOCATION:Europe/Rome
BEGIN:DAYLIGHT
DTSTART:20210328T030000
TZOFFSETFROM:+0100
TZOFFSETTO:+0200
TZNAME:CEST
END:DAYLIGHT
END:VTIMEZONE
END:VCALENDAR