BEGIN:VCALENDAR
VERSION:2.0
PRODID:-//wp-events-plugin.com//7.2.3.1//EN
TZID:Europe/Rome
X-WR-TIMEZONE:Europe/Rome
BEGIN:VEVENT
UID:34340@lazioeventi.com
DTSTART;TZID=Europe/Rome:20230308T190000
DTEND;TZID=Europe/Rome:20230308T220000
DTSTAMP:20230302T123443Z
URL:https://lazioeventi.com/eventi/lezioni-di-piano
SUMMARY:Lezioni di Piano - Roma - 8 Marzo 23 19:00
DESCRIPTION:In occasione della giornata della donna e del trentennale del f
 ilm che ha rivoluzionato il cinema al femminile\, la presentazione della p
 rima monografia del film di Jane Campion\n\nLEZIONI DI PIANO\ndi Paola Bes
 utti e Gabriele Marcello\n(Gremese Editore)\n\nModerano l’incontro con g
 li autori:\nPiero Spila\, critico e saggista\nLuca Aversano\, Presidente d
 el Teatro Palladium e del Premio Movie to Music\n\nIngresso libero fino ad
  esaurimento posti \n\nUn’iniziativa con il patrocinio di\nRoma Film Aca
 demy e Università degli Studi di Teramo\n\nCocktail a seguire\n \n\nAvrà
  luogo giovedì 8 marzo alle ore 19:00 presso la Libreria Spazio Sette di 
 Roma la presentazione ufficiale del volume che\, a trent’anni di distanz
 a dalla sua prima uscita cinematografica\, rende omaggio ad un’opera cul
 t che ha segnato una svolta nella cinematografia femminile: Lezioni di pia
 no di Jane Campion. Scritta a quattro mani da Paola Besutti e Gabriele Mar
 cello\, questa prima monografia sul film è appena uscita per Gremese Edit
 ore all’interno della collana “I Migliori film della nostra vita”. I
 nsieme agli autori ne discuteranno il critico e saggista cinematografico P
 iero Spila e il presidente del Teatro Palladium e del Premio Movie to Musi
 c Luca Aversano. Un giorno speciale per celebrare un’artista - prima don
 na della storia del cinema a vincere la Palma d'Oro a Cannes – che si è
  dimostrata un’innovatrice nel linguaggio e narrazione di genere\, trasf
 ormando - proprio con Lezioni di Piano - l’idea di cinema al femminile e
  di adattamento letterario.\n\n \n\nIl libro ricostruisce la genesi del fi
 lm\, il percorso della regista attraverso il suo sguardo non convenzionale
 \, i molteplici rimandi letterari (pur non essendo un adattamento) e la st
 ruttura portante della partitura musicale\, protagonista e metafora dell
 ’opera grazie all’estro compositivo di Michael Nyman\; una colonna son
 ora divenuta oramai un classico.\n\n \n\nLezioni di piano narra della grad
 uale riappropriazione del desiderio e della sessualità da parte di una do
 nna scozzese di metà Ottocento\, trapiantata in un contesto coloniale neo
 zelandese governato dalle accigliate regole puritane del vecchio continent
 e\, lontane dai modelli di vita dei nativi.\n\nUn film femminile ma non fe
 mminista\, capace di inquadrare attraverso un’originale sintassi cinemat
 ografica le figure di uomini femminilizzati e donne mascolinizzate in una 
 versione sui generis del romanzo gotico e d’appendice\, in cui anche l
 ’elemento erotico è forte e inaspettato: violento\, viscerale\, essenzi
 ale.\n\n \n\nLa visione di Jane Campion\, a distanza di anni\, rimane emot
 ivamente intatta per finezza registica e riscoprirne la visione in un’ac
 curata analisi critica\, come questo libro dimostra di voler fare\, è un
 ’opportunità per comprendere meglio un film che sembra classico e roman
 tico\, ma che\, in realtà\, è il suo opposto.\n \n\nGabriele Marcello 
 è sceneggiatore\, assistente casting\, nonché docente di Sceneggiatura a
 ll’Università di Teramo e di Storia del cinema alla Roma Film Academy.\
 n\n \n\nPaola Besutti è autrice di saggi e monografie\, musicologa\, pian
 ista\, docente di Musicologia e Storia della musica all’Università di T
 eramo e a La Sapienza.
ATTACH;FMTTYPE=image/jpeg:https://lazioeventi.com/wp-content/uploads/2023/
 03/invito-Lezioni-di-piano.jpg
CATEGORIES:Arte e Cultura nel Lazio
LOCATION:Roma\, Via Leopardi\, Roma\, Roma\, Lazio\, Italia
GEO:41.8942;12.5017
X-APPLE-STRUCTURED-LOCATION;VALUE=URI;X-ADDRESS=Via Leopardi\, Roma\, Roma\
 , Lazio\, Italia;X-APPLE-RADIUS=100;X-TITLE=Roma:geo:41.8942,12.5017
END:VEVENT
BEGIN:VTIMEZONE
TZID:Europe/Rome
X-LIC-LOCATION:Europe/Rome
BEGIN:STANDARD
DTSTART:20221030T020000
TZOFFSETFROM:+0200
TZOFFSETTO:+0100
TZNAME:CET
END:STANDARD
END:VTIMEZONE
END:VCALENDAR