BEGIN:VCALENDAR
VERSION:2.0
PRODID:-//wp-events-plugin.com//7.2.3.1//EN
TZID:Europe/Rome
X-WR-TIMEZONE:Europe/Rome
BEGIN:VEVENT
UID:29533@lazioeventi.com
DTSTART;TZID=Europe/Rome;VALUE=DATE:20211203
DTEND;TZID=Europe/Rome;VALUE=DATE:20220110
DTSTAMP:20211213T153931Z
URL:https://lazioeventi.com/eventi/lisola-del-natale-2
SUMMARY:L’Isola del Natale - Isola del Liri - 3 Dicembre 21 00:00
DESCRIPTION:Dopo l’inaugurazione dell’installazione multimediale “Goc
 ce”\, presso la Galleria Pisani che si è svolta ieri\, oggi venerdì 3 
 dicembre\, aprirà il Lunapark Fluviale presente nel parco fluviale. Il Co
 mune per l’occasione ha previsto un giro gratuito offerto dall’Ente st
 esso.\n\nSabato 4 dicembre\, alle 17 presso il teatro stabile verrà inaug
 urata la mostra a cura del professor Piergiorgio Borrelli “Il Cielo Nasc
 osto”. Mercoledì 8 alle 10 ci sarà l’esibizione itinerante della Ban
 da di Natale\, a cura dell’Accademia Musicale Isolana nel quartiere San 
 Carlo-Borgonuovo-Carnello. Alle 16 aprirà la “XIX^ Edizione del Presepe
  Artigianale” a cura di Leonardo Bonavenia in via Cataldi 19. Alle 16.30
  in piazza Boncompagni l’attesa cerimonia di accensione dell’Associazi
 one Events Isola. A seguire l’inaugurazione della mostra dei presepi art
 igianali nel centro storico.\n\nLa giornata di venerdì 10 dicembre è tut
 ta in onore della Madonna di Loreto. Sabato 11\, ore 18.00\, verrà diffus
 o presso il teatro stabile il documentario “Diego’s Italy”\, a cura 
 di Diego Del Brocco. Sabato 18 dicembre una nuova esibizione itinerante de
 lla Banda Del Natale\, alle 10\, stavolta presso i quartieri Pirandello e 
 Centro Storico. Alle ore 16 si svolgerà il “Mancini Day” a cura del M
 otoclub Franco Mancini\, presso la Galleria Pisani. Domenica 19 alle 20\,3
 0 la Banda musicale della città di Isola del Liri si esibirà in Concerto
  all’interno della chiesa Santissima Immacolata. Lunedì 20 alle 14\,30 
 in piazza XX Settembre arriverà la slitta di Babbo Natale con le renne pe
 r l’iniziativa “Ricominciamo dal Natale…con il Bagaglio delle Idee
 ”. Domenica 26 in piazza Boncompagni e al Teatro Stabile si darà il via
  Alla II Edizione di “Nativitart” con il presepe vivente e gli artisti
  di strada. Lunedì 27 alle ore 17 l’atteso ritorno di Blink Circus\, il
  teatro fotografico a cura di Lorenzo Mastroianni\, presso l’auditorium 
 New Orleans.\n\nSabato primo gennaio\, alle 21\, il tributo a Fabrizio De 
 Andrè con Le Cattive Letture\, presso il teatro stabile. Martedì 4 genna
 io alle ore 15 anche un giro gratuito offerto dal Comune al Lunapark Fluvi
 ale.\n“È davvero un ricco calendario quello dell’Isola del Natale 202
 1 che abbiamo organizzato grazie alla collaborazione di tante realtà terr
 itoriali – hanno detto il sindaco Massimiliano Quadrini e l’assessore 
 alla Cultura Massimo D’Orazio – Ogni giorno da qui e fino a gennaio gl
 i isolani potranno trascorrere momenti di serenità non solo in centro ma 
 anche nei vari quartieri.\n\nPuntiamo a restituire alla città un senso di
  normalità ma al contempo occorre che ognuno faccia la propria parte\, ri
 spettando le regole e adottando comportamenti responsabili”.
ATTACH;FMTTYPE=image/jpeg:https://lazioeventi.com/wp-content/uploads/2021/
 12/isola_natale2021.jpg
CATEGORIES:Musica, Spettacoli e Danza nel Lazio,Sport, Tempo Libero e
 Divertimento nel Lazio
LOCATION:Isola del Liri\, Comune\, Isola del Liri\, Frosinone\, Lazio\, Ita
 lia
GEO:41.6787;13.5741
X-APPLE-STRUCTURED-LOCATION;VALUE=URI;X-ADDRESS=Comune\, Isola del Liri\, F
 rosinone\, Lazio\, Italia;X-APPLE-RADIUS=100;X-TITLE=Isola del Liri:geo:41
 .6787,13.5741
END:VEVENT
BEGIN:VTIMEZONE
TZID:Europe/Rome
X-LIC-LOCATION:Europe/Rome
BEGIN:STANDARD
DTSTART:20211031T020000
TZOFFSETFROM:+0200
TZOFFSETTO:+0100
TZNAME:CET
END:STANDARD
END:VTIMEZONE
END:VCALENDAR