BEGIN:VCALENDAR
VERSION:2.0
PRODID:-//wp-events-plugin.com//7.2.3.1//EN
TZID:Europe/Rome
X-WR-TIMEZONE:Europe/Rome
BEGIN:VEVENT
UID:40208@lazioeventi.com
DTSTART;TZID=Europe/Rome:20241212T190000
DTEND;TZID=Europe/Rome:20241212T203000
DTSTAMP:20241105T145118Z
URL:https://lazioeventi.com/eventi/liszt-festival-castel-gandolfo-2
SUMMARY:Liszt Festival - Castel Gandolfo - 12 Dicembre 24 19:00
DESCRIPTION:12 tappe del viaggio musicale tra storia e suggestioni tra Roma
  e i Castelli Romani\, con prestigiosi ospiti internazionali come Bruno Ca
 nino\, Alessio Bidoli\, Roberto Cappello\, János Balázs\, Maurizio D’A
 lessandro e il raffinato omaggio a Puccini\, Gershwin e Beethoven\n\nPROGR
 AMMA COMPLETO\n\n12 dicembre\, ore 19\nCastel Gandolfo\, Cripta Chiesa Pon
 tificia San Tommaso da Villanova\nRagione e sentimento\nRecital di pianofo
 rte con Eloisa Cascio\, che eseguirà opere di Debussy\, Liszt\, Ravel e S
 chubert.\nIn collaborazione con la Parrocchia Pontificia S. Tommaso da Vil
 lanova \n________________________________________\n\n19 dicembre\, ore 19\
 nCastel Gandolfo\, Cripta Chiesa Pontificia San Tommaso da Villanova\nLa m
 eglio gioventù\nIl Trio Carnaval\, formato da Victor Muñoz Velasquez (vi
 olino)\, Chiara De Santis (violoncello) e Carlo Angione (pianoforte)\, suo
 nerà opere di Schumann e Dvořák.\nIn collaborazione con la Parrocchia P
 ontificia S. Tommaso da Villanova \n\n
ATTACH;FMTTYPE=image/jpeg:https://lazioeventi.com/wp-content/uploads/2022/
 10/Liszt09-571584754.jpg
CATEGORIES:Musica, Spettacoli e Danza nel Lazio
LOCATION:Castel Gandolfo\, Comune\, Castel Gandolfo\, Roma\, Lazio\, Italia
GEO:41.7468;12.6507
X-APPLE-STRUCTURED-LOCATION;VALUE=URI;X-ADDRESS=Comune\, Castel Gandolfo\, 
 Roma\, Lazio\, Italia;X-APPLE-RADIUS=100;X-TITLE=Castel Gandolfo:geo:41.74
 68,12.6507
END:VEVENT
BEGIN:VTIMEZONE
TZID:Europe/Rome
X-LIC-LOCATION:Europe/Rome
BEGIN:STANDARD
DTSTART:20241027T020000
TZOFFSETFROM:+0200
TZOFFSETTO:+0100
TZNAME:CET
END:STANDARD
END:VTIMEZONE
END:VCALENDAR