BEGIN:VCALENDAR
VERSION:2.0
PRODID:-//wp-events-plugin.com//7.2.3.1//EN
TZID:Europe/Rome
X-WR-TIMEZONE:Europe/Rome
BEGIN:VEVENT
UID:32614@lazioeventi.com
DTSTART;TZID=Europe/Rome:20221127T180000
DTEND;TZID=Europe/Rome:20221127T193000
DTSTAMP:20221006T205928Z
URL:https://lazioeventi.com/eventi/liszt-festival-jin-ju
SUMMARY:Liszt Festival: Jin Ju - Albano Laziale - 27 Novembre 22 18:00
DESCRIPTION:Attesissima a Palazzo Savelli il 27 Novembre anche Jin Ju\, ste
 lla primaria del virtuosismo femminile pianistico\, mentre la grande chius
 ura il 4 dicembre è affidata ai Solisti e all'Orchestra del Liszt Festiva
 l\, con l’iperbolico  violoncellista Gianluca Giganti\, sotto la presti
 giosa direzione di Gabriele Bonolis.\n\nIl Festival è ideato e organizzat
 o dall’Ass. Amici della Musica Cesare De Sanctis Festival Liszt Albano E
 TS con il contributo del Comune di Albano Laziale e la direzione artistica
  di Maurizio D’Alessandro\n\nAd eccezione del Concerto di apertura del 9
  Ottobre di János Balázs che si terrà nella Chiesa pontificia di S.Tomm
 aso da Villanova\,  Castel Gandolfo alle ore 19.30 con ingresso libero\, 
 tutti gli altri i concerti si svolgeranno ad Albano\, presso la Sala Nobil
 e di Palazzo Savelli (Piazza Costituente\, 1)\, alle 18.00. \n\nBiglietto 
 unico d’ingresso 12 euro.\n\nInfo e prevendita 069364605.
ATTACH;FMTTYPE=image/jpeg:https://lazioeventi.com/wp-content/uploads/2022/
 10/Jin-Ju.jpg
CATEGORIES:Musica, Spettacoli e Danza nel Lazio
LOCATION:Albano Laziale\, Comune\, Albano Laziale\, Roma\, Lazio\, Italia
GEO:41.7293;12.6588
X-APPLE-STRUCTURED-LOCATION;VALUE=URI;X-ADDRESS=Comune\, Albano Laziale\, R
 oma\, Lazio\, Italia;X-APPLE-RADIUS=100;X-TITLE=Albano Laziale:geo:41.7293
 ,12.6588
END:VEVENT
BEGIN:VTIMEZONE
TZID:Europe/Rome
X-LIC-LOCATION:Europe/Rome
BEGIN:STANDARD
DTSTART:20221030T020000
TZOFFSETFROM:+0200
TZOFFSETTO:+0100
TZNAME:CET
END:STANDARD
END:VTIMEZONE
END:VCALENDAR