BEGIN:VCALENDAR
VERSION:2.0
PRODID:-//wp-events-plugin.com//7.2.3.1//EN
TZID:Europe/Rome
X-WR-TIMEZONE:Europe/Rome
BEGIN:VEVENT
UID:38622@lazioeventi.com
DTSTART;TZID=Europe/Rome:20240302T183000
DTEND;TZID=Europe/Rome:20240302T203000
DTSTAMP:20240226T085044Z
URL:https://lazioeventi.com/eventi/lo-zen-e-il-teatro
SUMMARY:Lo Zen e il Teatro - Anagni - 2 Marzo 24 18:30
DESCRIPTION:A marzo torna il bel teatro a Casa Barnekow con due spettacoli 
 che vedono in scena alcuni fra i migliori interpreti del territorio: Bruno
  Basile\, Stefano Spallotta\, Francesca Reina e la Compagnia Acta Est Fabu
 la. \n\nSabato 2 marzo\, alle ore 18:30\, LO ZEN E IL TEATRO\, diretto da 
 Bruno Basile\, con in scena Francesca Reina e lo stesso Basile\, accompagn
 ati dalla chitarra di Stefano Spallotta\, è un’intima e coinvolgente fu
 sione di testi teatrali e musica\, di oriente e occidente\, di antico e co
 ntemporaneo. A teatro si raccontano storie\, in un reale “qui ed ora”\
 , mettendo in relazione l’energia e le vibrazioni di Attori e Spettatori
  in una frequenza che scatena l’immaginazione. \n“Lo Zen e il Teatro
 ” è l’espressione di teatro moderno e di saggezza orientale\, per rac
 contare storie dell’umano essere. \n\nSabato 9 marzo\, sempre alle 18:30
 \, Casa Barnekow ha il piacere di ospitare il nuovissimo spettacolo di Emi
 lio Cacciatori e della Compagnia Acta Est Fabula\, tratto dai racconti di 
 Anton Cechov: LA PISTOLA DI CECHOV.\n\nL’ingresso ad entrambi gli spetta
 coli è con un contributo di 10 euro.\n\nPer info e prenotazioni contattar
 e il 328.83.50.889
ATTACH;FMTTYPE=image/jpeg:https://lazioeventi.com/wp-content/uploads/2024/
 02/zen-teatro-anagni.jpg
CATEGORIES:Musica, Spettacoli e Danza nel Lazio
LOCATION:Anagni\, Comune\, Anagni\, Frosinone\, Lazio\, Italia
GEO:41.7423;13.159
X-APPLE-STRUCTURED-LOCATION;VALUE=URI;X-ADDRESS=Comune\, Anagni\, Frosinone
 \, Lazio\, Italia;X-APPLE-RADIUS=100;X-TITLE=Anagni:geo:41.7423,13.159
END:VEVENT
BEGIN:VTIMEZONE
TZID:Europe/Rome
X-LIC-LOCATION:Europe/Rome
BEGIN:STANDARD
DTSTART:20231029T020000
TZOFFSETFROM:+0200
TZOFFSETTO:+0100
TZNAME:CET
END:STANDARD
END:VTIMEZONE
END:VCALENDAR