BEGIN:VCALENDAR
VERSION:2.0
PRODID:-//wp-events-plugin.com//7.2.3.1//EN
TZID:Europe/Rome
X-WR-TIMEZONE:Europe/Rome
BEGIN:VEVENT
UID:35467@lazioeventi.com
DTSTART;TZID=Europe/Rome:20230521T100000
DTEND;TZID=Europe/Rome:20230521T170000
DTSTAMP:20230516T093017Z
URL:https://lazioeventi.com/eventi/locanda-martorelli-museo-del-grand-tour
 -case-della-memoria
SUMMARY:Locanda Martorelli-Museo del Grand Tour (Case della Memoria) - Aric
 cia - 21 Maggio 23 10:00
DESCRIPTION:In occasione della Giornata Nazionale A.D.S.I. 2023 sarà possi
 bile effettuare la visita gratuita e guidata a cura di Archeoclub Aricino 
 nemorense aps-ets di tutte le sale compresa la Sala 2 con il ciclo pittori
 co settecentesco realizzato da Taddeo Kuntze.\n\nLe visite partiranno alle
  ore 10:00\; 11:00\; 12:00 / 14:30\; 15:30\; 16:30\; numero massimo di per
 sone per gruppo n. 20\n\nLa Locanda Martorelli è un edificio storico sul 
 corso Garibaldi ad Ariccia ed affaccia sulla Piazza di Corte realizzata ne
 lla seconda metà del '600 su progetto di Gian Lorenzo Bernini . Nel secon
 da metà del ‘700 era di proprietà dell’artista Giovan Battista Stazi
  e a questo periodo risalgono le tempere murarie a carattere storico mitol
 ogico opera del pittore polacco Taddeo Kuntze e degli artisti suoi collabo
 ratori. Il ciclo pittorico si compone di 11 tempere murarie che raccontano
  la storia dell'antica città di Aricia e dei suoi culti quali Diana e Ipp
 olito noti attraverso i classici latini e l'opera di James George Frazer a
 utore del "Il Ramo d'oro". La Locanda Martorelli nell'800 viene acquistata
  da Antonio Martorelli che la trasforma in un albergo che ha ospitato nume
 rosi artisti del Grand Tour quali William Turner\, Camille Corot\, Massimo
  D'Azeglio\, Nino Costa\, Henry Wadswort Longfellow e tanti altri. Dal 200
 9 il Comune di Ariccia ha affidato il servizio di custodia e visite guidat
 e all'Associazione Archeoclub Aricino Nemorense aps (iscritta al Registro 
 Unico del Terzo Settore) presieduta dalla dott.sa Maria Cristina Vincenti 
 (dottore di ricerca in archeologia Università di Roma Tor Vergata\, museo
 loga e guida Aigae\; vicereferente del Dipartimento Archeologia di Italia 
 Nostra Lazio).
ATTACH;FMTTYPE=image/jpeg:https://lazioeventi.com/wp-content/uploads/2023/
 05/locanda-martorelli-foto-a-silvestri.jpg
CATEGORIES:Arte e Cultura nel Lazio
LOCATION:Ariccia\, Comune\, Ariccia\, Roma\, Lazio\, Italia
GEO:41.72;12.671
X-APPLE-STRUCTURED-LOCATION;VALUE=URI;X-ADDRESS=Comune\, Ariccia\, Roma\, L
 azio\, Italia;X-APPLE-RADIUS=100;X-TITLE=Ariccia:geo:41.72,12.671
END:VEVENT
BEGIN:VTIMEZONE
TZID:Europe/Rome
X-LIC-LOCATION:Europe/Rome
BEGIN:DAYLIGHT
DTSTART:20230326T030000
TZOFFSETFROM:+0100
TZOFFSETTO:+0200
TZNAME:CEST
END:DAYLIGHT
END:VTIMEZONE
END:VCALENDAR