BEGIN:VCALENDAR
VERSION:2.0
PRODID:-//wp-events-plugin.com//7.2.3.1//EN
TZID:Europe/Rome
X-WR-TIMEZONE:Europe/Rome
BEGIN:VEVENT
UID:40731@lazioeventi.com
DTSTART;TZID=Europe/Rome:20250209T113000
DTEND;TZID=Europe/Rome:20250209T133000
DTSTAMP:20250205T120123Z
URL:https://lazioeventi.com/eventi/locus-amoenus
SUMMARY:Locus Amoenus - Roma - 9 Febbraio 25 11:30
DESCRIPTION:Domenica 9 febbraio 2025\, prende il via Locus Amoenus\, una ra
 ssegna di teatro dedicata alle giovani generazioni\, ideata e curata dalle
  attrici Benedetta Margheriti e Veronica Toscanelli. Il progetto\, ospitat
 o dal Teatro Villa Pamphilj di Roma\, nato per confrontarsi con i temi e l
 e sensibilità della nuova generazione teatrale\, coinvolge tre compagnie 
 under 35 che esplorano con linguaggi diversi il concetto di "luogo ideale"
  nella contemporaneità.\n\nNota delle curatrici. “È ancora possibile p
 arlare di “luogo ideale” nell’epoca disincantata in cui viviamo? In 
 un contesto storico in cui i miti di un tempo sono messi in discussione e 
 la realtà contemporanea impone una visione più cruda e frammentata tre c
 ompagnie under 35 portano in scena la loro risposta\, ognuna con il propri
 o linguaggio. Locus Amoenus vuole essere una riflessione sul bisogno di ce
 rcare con cura “luoghi ideali” - oppure crearli in modo consapevole - 
 nei luoghi e nelle forme che la nostra epoca ci offre. Dei luoghi dove ci 
 si possa sentire in armonia con sé stessi\, con gli altri e con il mondo 
 che ci circonda\, anche quando il mondo sembra difficile da comprendere e 
 da abitare.”\n\nIl primo appuntamento\, quello di domenica 9 alle ore 11
 .30 è con Paesaggio con figura verticale – Concerto poetico\, una Produ
 zione Spartenza Teatro\, con Sofia Abbati e Andrea Milano\, i testi di And
 rea Milano e le musiche di Manuel Milano e Roberta Spigola. La performance
  racconta il viaggio interiore di chi lascia la propria terra\, tra il dol
 ore della separazione e il desiderio di appartenenza. Un dialogo tra prosa
  poetica\, musica e testimonianze degli spettatori\, che si intrecciano pe
 r creare un’esperienza multisensoriale.\n\nIl secondo\, il 22 marzo alle
  ore 17\, ospita gli attori Lorenzo Berardinucci\, Pietro Formentini\, Sim
 one Guaragna e le attrici Alice Lepidio\, Ilaria Pietrangeli impegnati in 
 La Serra-morte una produzione Compagnia Fang-ta\, con il testo scritto da 
 Simone Guaragna e la regia di Daphne Folliero e Martina Spampinato. In un 
 futuro prossimo\, una megalopoli deserta diventa teatro di incontri e tens
 ioni. La storia di Bondo\, un inventore alla ricerca di risposte\, si intr
 eccia con quella di un gruppo di ragazzi alla deriva. Un distopico eco-noi
 r che riflette sulla sopravvivenza nell’Antropocene.\n\nL’ultimo spett
 acolo\, realizzato in residenza al Teatro Villa Pamphilj\, il 25 maggio 20
 25 alle ore 17.00\, vede in scena Benedetta Margheriti\, Veronica Toscanel
 li\, Paolo Leccisotto in La materia che Dio non creò\, una produzione que
 lcheresta teatro diretta da Daniele Castoria. In un luogo e tempo indefini
 ti\, gli esseri umani si confrontano con una realtà in cui il confine tra
  naturale e artificiale è dissolto. La fertilità della natura ha ceduto 
 il posto alla staticità della plastica\, ma un nuovo nato esplora questo 
 mondo\, risvegliandone abitanti e divinità. Attraverso i suoi occhi\, si 
 riflette sulla possibilità di fuggire dalla rete che l’uomo ha costruit
 o o di trovare una nuova via di speranza.\n\nIl Teatro Villa Pamphilj\, co
 n la direzione artistica di Veronica Olmi\, è parte del sistema Teatri in
  Comune di Roma Capitale - Assessorato alla Cultura con il coordinamento g
 estionale di Zètema Progetto Cultura. La programmazione dei Teatri in Com
 une 2024-2025 è finanziata dall’Unione Europea\, Next Generation EU nel
 l’ambito del PNRR\, e rientra tra gli Interventi “Il Giubileo dei Pell
 egrini: eventi artistici e culturali nella città di Roma\, dal centro all
 a periferia\, al fine di favorire la fruizione turistica nel periodo giubi
 lare” (PNRR - M1C3-Inv.4.3 Caput Mundi. Next Generation EU per grandi ev
 enti turistici).\n\nPer informazioni e prenotazioni:\n\nTeatro Villa Pamph
 ilj Largo 3 giugno 1849 | 00164 Roma\n(ingresso Via di San Pancrazio 10 - 
 P.zza S. Pancrazio 9/a)\nOrari segreteria: dal martedì alla domenica dall
 e 10 alle 18\n\ntel 06 5814176 - scuderieteatrali@gmail.com\nBiglietti: 10
  euro – consigliata la prenotazione
ATTACH;FMTTYPE=image/jpeg:https://lazioeventi.com/wp-content/uploads/2025/
 02/locus.jpg
CATEGORIES:Musica, Spettacoli e Danza nel Lazio
LOCATION:Roma\, Via Leopardi\, Roma\, Roma\, Lazio\, Italia
GEO:41.8942;12.5017
X-APPLE-STRUCTURED-LOCATION;VALUE=URI;X-ADDRESS=Via Leopardi\, Roma\, Roma\
 , Lazio\, Italia;X-APPLE-RADIUS=100;X-TITLE=Roma:geo:41.8942,12.5017
END:VEVENT
BEGIN:VTIMEZONE
TZID:Europe/Rome
X-LIC-LOCATION:Europe/Rome
BEGIN:STANDARD
DTSTART:20241027T020000
TZOFFSETFROM:+0200
TZOFFSETTO:+0100
TZNAME:CET
END:STANDARD
END:VTIMEZONE
END:VCALENDAR