BEGIN:VCALENDAR
VERSION:2.0
PRODID:-//wp-events-plugin.com//7.2.3.1//EN
TZID:Europe/Rome
X-WR-TIMEZONE:Europe/Rome
BEGIN:VEVENT
UID:32504@lazioeventi.com
DTSTART;TZID=Europe/Rome;VALUE=DATE:20231013
DTEND;TZID=Europe/Rome;VALUE=DATE:20231016
DTSTAMP:20230905T102250Z
URL:https://lazioeventi.com/eventi/lottobrata-festa-dautunno
SUMMARY:L'Ottobrata - Festa d'autunno - Ronciglione - 13 Ottobre 23 00:00
DESCRIPTION:Colori caldi\, atmosfere miti caratterizzate da una sottile ven
 a di malinconia\, luci tiepide e quasi astratte\, tappeti di foglie rosse\
 , gialle\, arancioni e marroni\, il fuoco che inizia a scoppiettare nei ca
 mini: è l'autunno\, la stagione in cui la natura esplode con tutta la sua
  ultima bellezza regalando borghi e paesaggi dalle atmosfere dorate. \n\nE
  Ronciglione\, perla dei Monti Cimini\, vuole omaggiare anche quest'anno q
 uesta stagione\, definita "la seconda primavera"\, ospitando nel suggestiv
 o scenario del Borgo di Sotto la seconda edizione de "L'Ottobrata - Festa 
 d'autunno"\, che si terrà il 13-14-15 ottobre 2023 a ingresso gratuito.\n
 \nUn'occasione per degustare nelle vie del borgo medievale birre e vini lo
 cali\, prodotti tipici e piatti autunnali in un'atmosfera allietata dalla 
 musica con DJ set ma anche gruppi dal vivo come I Beati Quartini\, The Squ
 are Dance Band e la Polaroid Girl Band. Birra\, vino\, nocciole\, castagne
 \, formaggi\, salumi\, porchetta e fritti sono solo alcuni dei tanti prodo
 tti che potrete assaggiare a pranzo\, a cena o anche solo per un aperitivo
 . Non mancheranno\, inoltre\, stand di artigianato locale\, mentre per i p
 iù piccoli ci sarà uno spazio dedicato alle letture a tema autunno organ
 izzato dall'associazione Nati Per Leggere (sabato alle ore 16.30)\, domeni
 ca pomeriggio\, invece\, alle ore 15.30 partirà la visita guidata nel Bor
 go medievale con appuntamento a Piazza degli Angeli. \n\n"L'Ottobrata" è 
 un'occasione unica per vivere il borgo a 360 gradi. \n\nL'evento è ideato
  e organizzato dalla Pro Loco di Ronciglione con il patrocinio gratuito de
 l Comune di Ronciglione.\n\nPer info potete scrivere una mail all'indirizz
 o prolocoronciglione@gmail.com o contattare il numero 0761 627596.\n\nPer 
 rimanere costantemente aggiornati seguite le pagine FB e IG Pro Loco Ronci
 glione. \n\nVi aspettiamo!!!
ATTACH;FMTTYPE=image/jpeg:https://lazioeventi.com/wp-content/uploads/2022/
 09/ottobrata-ronciglione-1.jpg
CATEGORIES:Musica, Spettacoli e Danza nel Lazio,Arte e Cultura nel
 Lazio,Sagre, Gastronomia e Tradizioni nel Lazio
LOCATION:Ronciglione\, Comune di Ronciglione\, Ronciglione\, Viterbo\, Lazi
 o\, Italia
GEO:42.2913;12.2169
X-APPLE-STRUCTURED-LOCATION;VALUE=URI;X-ADDRESS=Comune di Ronciglione\, Ron
 ciglione\, Viterbo\, Lazio\, Italia;X-APPLE-RADIUS=100;X-TITLE=Ronciglione
 :geo:42.2913,12.2169
END:VEVENT
BEGIN:VTIMEZONE
TZID:Europe/Rome
X-LIC-LOCATION:Europe/Rome
BEGIN:DAYLIGHT
DTSTART:20230326T030000
TZOFFSETFROM:+0100
TZOFFSETTO:+0200
TZNAME:CEST
END:DAYLIGHT
END:VTIMEZONE
END:VCALENDAR