BEGIN:VCALENDAR
VERSION:2.0
PRODID:-//wp-events-plugin.com//7.2.3.1//EN
TZID:Europe/Rome
X-WR-TIMEZONE:Europe/Rome
BEGIN:VEVENT
UID:34603@lazioeventi.com
DTSTART;TZID=Europe/Rome:20230318T173000
DTEND;TZID=Europe/Rome:20230318T190000
DTSTAMP:20230315T124728Z
URL:https://lazioeventi.com/eventi/lucas-debargue-pianoforte
SUMMARY:Lucas Debargue pianoforte - Roma - 18 Marzo 23 17:30
DESCRIPTION:Programma\n\nMozart  Sonata in la minore K 310\n\nChopin Ballat
 a n. 2 in fa maggiore op. 38\nPreludio in do diesis minore op. 45\nPolonai
 se-fantaisie in la bemolle maggiore op. 61\n\nAlkan Concerto pour piano se
 ul op. 39 n. 8 1° movimento: Allegro assai\n\n \n\n \n\n \n\nDopo il debu
 tto romano dello scorso anno\, torna  Lucas Debargue\, fuoriclasse frances
 e del pianoforte. Esemplare nella sua originalità il programma proposto c
 he vede l'accostamento di autori del grande repertorio\, Mozart e Chopin\,
  a un autore molto meno eseguito\, come  Charles-Valentin Alkan. Di questo
   maestro francese dell'Ottocento\, Debargue eseguirà il primo movimento 
 del visionario  Concerto pour piano seul\, pezzo di particolare virtuosism
 o che per la sua ampiezza può essere eseguito anche autonomamente rispett
 o all'interno Concerto. \n\nBiglietti  \n€ 25 - 20 - 15 (più prevendita
 )\nUnder 30 € 8 Under 18 € 5\n\nI biglietti per il concerto possono es
 sere acquistati sul nostro sito www.concertiiuc.it e su www.vivaticket.com
  nelle rivendite del circuito\noppure telefonicamente alla IUC negli orari
  di apertura\n(lun-ven 10-13|14-17\, mart 10-13)\, presso il botteghino IU
 C in Sapienza (ingresso concerti in Aula Magna) a partire da un'ora prima 
 del concerto 
ATTACH;FMTTYPE=image/jpeg:https://lazioeventi.com/wp-content/uploads/2023/
 03/debargue.jpg
CATEGORIES:Musica, Spettacoli e Danza nel Lazio
LOCATION:Roma\, Via Leopardi\, Roma\, Roma\, Lazio\, Italia
GEO:41.8942;12.5017
X-APPLE-STRUCTURED-LOCATION;VALUE=URI;X-ADDRESS=Via Leopardi\, Roma\, Roma\
 , Lazio\, Italia;X-APPLE-RADIUS=100;X-TITLE=Roma:geo:41.8942,12.5017
END:VEVENT
BEGIN:VTIMEZONE
TZID:Europe/Rome
X-LIC-LOCATION:Europe/Rome
BEGIN:STANDARD
DTSTART:20221030T020000
TZOFFSETFROM:+0200
TZOFFSETTO:+0100
TZNAME:CET
END:STANDARD
END:VTIMEZONE
END:VCALENDAR