BEGIN:VCALENDAR
VERSION:2.0
PRODID:-//wp-events-plugin.com//7.2.3.1//EN
TZID:Europe/Rome
X-WR-TIMEZONE:Europe/Rome
BEGIN:VEVENT
UID:42522@lazioeventi.com
DTSTART;TZID=Europe/Rome:20251010T203000
DTEND;TZID=Europe/Rome:20251010T220000
DTSTAMP:20250922T135901Z
URL:https://lazioeventi.com/eventi/luce-dautunno
SUMMARY:Luce d’Autunno - Vitorchiano - 10 Ottobre 25 20:30
DESCRIPTION:Al via la quarta edizione del Festival della Tuscia\, progetto 
 ideato da Vittorio Sgarbi e diretto dal maestro Massimo Spada.\nCon il tit
 olo "La leggerezza" sono in programma undici concerti che si svolgeranno d
 al 19 settembre al 12 ottobre 2025 in palazzi storici di Viterbo\, Gallese
 \, Ischia di Castro\, Vallerano\, Bassano Romano\, Bolsena\, Vitorchiano e
  Sutri. \n\nL'agenda: teatro\, concerti\, mostre ed eventi nella Tuscia  \
 n"Prime Note D'autunno": a Vetralla un concerto pianistico all'alba\nI Rac
 conti sonori del Festival “I Bemolli sono blu”: dal Chigi Hall di Vite
 rbo alle Terme dei Papi\nTra Cielo e Terra: concerto straordinario nella C
 attedrale di Sutri con i Maestri Nello Salza e Roberto Canali\n"Raccontare
  l'archeologia nella Tuscia" riparte dal Museo archeologico nazionale dell
 'Agro Falisco e Forte Sangallo\nMusiche e talenti nelle bellezze della Tus
 cia: prosegue il Festival Barocco Alessandro Stradella\n Salva\nL'ispirazi
 one nella frase di Italo Calvino: "La leggerezza non è superficialità\, 
 ma planare sulle cose dall'alto\, non avere macigni sul cuore" per un cart
 ellone che mette in mostra grandi artisti nei luoghi più belli della Tusc
 ia. \n\nQuesti gli appuntamenti::\n\n10 ottobre 2025 ore 20:30 Sala Comuna
 le VITORCHIANO\nLuce d’Autunno\nLinda di Carlo PIANOFORTE\nCalogero Pale
 rmo CLARINETTO\nSandro Meszaros VIOLONCELLO\n\n11 ottobre 2025 ore 20:30 S
 antuario di S. Maria del Ruscello VALLERANO\nLeggerezza Romantica\nMassimo
  Spada PIANOFORTE\nChiara Sannicandro VIOLINO\nGeorgy Kovalev VIOLA\nLudov
 ica Rana VIOLONCELLO\n\n12 ottobre 2025  ore 16:30 - 18:30 Sala Regia VITE
 RBO\nRavel Day (in collaborazione col Conservatorio di Perugia)\nOre 16:30
 \nGiuseppe Torrisi\nLivia Franchi de’ Cavalieri\nAlessio Tonelli\nMartin
 o Rossi\nChiara Biagioli\nElena Ridoll\nOre 18:30\nMassimiliano Soriente \
 nFulvio Nicolosi\nChiara Biagioli\nIan Cannon\n\n12 ottobre 2025 ore 20:30
  Basilica di S. Maria della Quercia VITERBO\nRavel Day\nBenedett Lupo PIAN
 OFORTE\n\ningresso Over-35: 8€ - ingresso under-35: 5€
ATTACH;FMTTYPE=image/jpeg:https://lazioeventi.com/wp-content/uploads/2025/
 09/festival-tuscia-1.jpg
CATEGORIES:Musica, Spettacoli e Danza nel Lazio
LOCATION:Vitorchiano\, Comune\, Vitorchiano\, Viterbo\, Lazio\, Italia
GEO:42.4703;12.1743
X-APPLE-STRUCTURED-LOCATION;VALUE=URI;X-ADDRESS=Comune\, Vitorchiano\, Vite
 rbo\, Lazio\, Italia;X-APPLE-RADIUS=100;X-TITLE=Vitorchiano:geo:42.4703,12
 .1743
END:VEVENT
BEGIN:VTIMEZONE
TZID:Europe/Rome
X-LIC-LOCATION:Europe/Rome
BEGIN:DAYLIGHT
DTSTART:20250330T030000
TZOFFSETFROM:+0100
TZOFFSETTO:+0200
TZNAME:CEST
END:DAYLIGHT
END:VTIMEZONE
END:VCALENDAR