BEGIN:VCALENDAR
VERSION:2.0
PRODID:-//wp-events-plugin.com//7.2.3.1//EN
TZID:Europe/Rome
X-WR-TIMEZONE:Europe/Rome
BEGIN:VEVENT
UID:33469@lazioeventi.com
DTSTART;TZID=Europe/Rome;VALUE=DATE:20251208
DTEND;TZID=Europe/Rome;VALUE=DATE:20260112
DTSTAMP:20251202T111056Z
URL:https://lazioeventi.com/eventi/luci-nel-buio
SUMMARY:Luci nel buio - Capranica Prenestina - 8 Dicembre 25 00:00
DESCRIPTION:Come ogni anno nel periodo Natalizio la Chiesa della Maddalena 
 a Capranica Prenestina impreziosisce il suo programma con numerose iniziat
 ive culturali-religiose. \n\nSi partirà con la V Edizione della mostra Lu
 ci Nel Buio dall’8 Dicembre all’11 Gennaio\, articolata nei seguenti v
 ernissage il primo presso il Tempio della Maddalena - Capranica Prenestina
 \, per proseguire il 21 Dicembre alla Fondazione Pierluigi e concludere al
  Borgo Pio Art Gallery. \nI Vernissage avranno luogo tutti alle 17.30.\nGl
 i artisti in mostra saranno: Avena Federico\, Betancourt Miguel\,Carpino M
 aria\, D’Arpino Giampaolo\, Del Papa Stefania\, Elis\,Filippi Barbara\, 
 Fornasin Nelvis\,Giovanni Daniela\, Mariani Paolo\, Plutino Pietro\, Raso 
 Giovanni\, Reposati Roberto\, Ricci Paolo\, Schaffer Alexandra\, Tarufo Sa
 brina. l’intrattenimento musicale sarà a cura del M.Roberto Proietti In
  arte Menestrello e del M.Gaia Codispoti. \n\nIl giorno di Santo Stefano a
 lle ore 17.30. Il fulcro della Kermesse sarà rappresentato dal tradiziona
 le Concerto D’Organo presso la Cappella Musicale del Tempio della Maddal
 ena Diretto dal grande organista Andrea Panfili per le musiche di Domenico
  Zippoli\, Giovanni Furno\, Baldassare Galuppi\, Johann Sebastian Bach. \n
 \nLunedì 29 Dicembre alle 18.30\, l’Orchestra Artemus chiuderà la rass
 egna con il tradizionale Concerto di Capodanno Diretto da Alfonso Todisco-
  per le musiche di A.Vivaldi\, D.Scarlatti\,A.Corelli W.A.Mozart\, J.Strau
 ss. A far da cornice all’intera rassegna i presepi Tradizionali ed Artis
 tici realizzati da Angarano Lina. \n\nAnche quest’anno le iniziative int
 eramente volute da Don Davide Martinelli\, si inseriscono in quel contesto
  religioso-culturale-inclusivo filo rosso della sua attività pastorale.
ATTACH;FMTTYPE=image/jpeg:https://lazioeventi.com/wp-content/uploads/2023/
 12/luci-nel-Buio.jpeg
CATEGORIES:Arte e Cultura nel Lazio
LOCATION:Capranica Prenestina\, Comune\, Capranica Prenestina\, Roma\, Lazi
 o\, Italia
GEO:41.8624;12.9523
X-APPLE-STRUCTURED-LOCATION;VALUE=URI;X-ADDRESS=Comune\, Capranica Prenesti
 na\, Roma\, Lazio\, Italia;X-APPLE-RADIUS=100;X-TITLE=Capranica Prenestina
 :geo:41.8624,12.9523
END:VEVENT
BEGIN:VTIMEZONE
TZID:Europe/Rome
X-LIC-LOCATION:Europe/Rome
BEGIN:STANDARD
DTSTART:20251026T020000
TZOFFSETFROM:+0200
TZOFFSETTO:+0100
TZNAME:CET
END:STANDARD
END:VTIMEZONE
END:VCALENDAR