BEGIN:VCALENDAR
VERSION:2.0
PRODID:-//wp-events-plugin.com//7.2.3.1//EN
TZID:Europe/Rome
X-WR-TIMEZONE:Europe/Rome
BEGIN:VEVENT
UID:35550@lazioeventi.com
DTSTART;TZID=Europe/Rome:20230525T200000
DTEND;TZID=Europe/Rome:20230525T230000
DTSTAMP:20230523T081705Z
URL:https://lazioeventi.com/eventi/luci-nella-notte
SUMMARY:Luci nella Notte - Nazzano - 25 Maggio 23 20:00
DESCRIPTION:Alla scoperta della Luciola Italica nella Riserva Naturale Regi
 onale Nazzano Tevere - Farfa\n\n\nGiovedì 25 Maggio\, nella nostra Riserv
 a\, in occasione della Settimana Europea dei Parchi\, l'Ente propone una s
 erata alla scoperta della Luciola Italica.\n\nL'inzio dell'attività si ap
 re con un buffet per accogliere tutti i visitatori\, poi i nostri operator
 i vi accompagneranno lungo il sentiero che arriva fino all'ingresso della 
 Fornace\, durante il quale la comunicatrice Manuela leggerà interessanti 
 curiosità sulle lucciole.\n\nIl rientro è previsto per le ore 23:00.\n\n
 Per info e prenotazioni (max 30 persone) si può inviare una email a  info
 @teverefarfa.it.
ATTACH;FMTTYPE=image/jpeg:https://lazioeventi.com/wp-content/uploads/2023/
 05/luci-notte.jpg
CATEGORIES:Arte e Cultura nel Lazio,Sport, Tempo Libero e Divertimento nel
 Lazio
LOCATION:Nazzano\, Comune\, Nazzano\, Roma\, Lazio\, Italia
GEO:42.2298563;12.596061700000064
X-APPLE-STRUCTURED-LOCATION;VALUE=URI;X-ADDRESS=Comune\, Nazzano\, Roma\, L
 azio\, Italia;X-APPLE-RADIUS=100;X-TITLE=Nazzano:geo:42.2298563,12.5960617
 00000064
END:VEVENT
BEGIN:VTIMEZONE
TZID:Europe/Rome
X-LIC-LOCATION:Europe/Rome
BEGIN:DAYLIGHT
DTSTART:20230326T030000
TZOFFSETFROM:+0100
TZOFFSETTO:+0200
TZNAME:CEST
END:DAYLIGHT
END:VTIMEZONE
END:VCALENDAR