BEGIN:VCALENDAR
VERSION:2.0
PRODID:-//wp-events-plugin.com//7.2.3.1//EN
TZID:Europe/Rome
X-WR-TIMEZONE:Europe/Rome
BEGIN:VEVENT
UID:38343@lazioeventi.com
DTSTART;TZID=Europe/Rome;VALUE=DATE:20240203
DTEND;TZID=Europe/Rome;VALUE=DATE:20240226
DTSTAMP:20240124T100019Z
URL:https://lazioeventi.com/eventi/lumano-oltre-la-storia
SUMMARY:L’umano oltre la storia - Frascati - 3 Febbraio 24 00:00
DESCRIPTION:Il suggestivo spazio espositivo delle Scuderie Aldobrandini di 
 Frascati (Piazza Guglielmo Marconi 6) ospita\, da sabato 3 a domenica 25 f
 ebbraio\, “L’umano oltre la storia” di Stefano Piali un artista che\
 , da oltre quarant’anni con il suo personale segno pittorico e scultoreo
 \, si misura in una produzione che lascia ogni volta stupiti\, così come 
 ben descritto nel testo critico di Ida Mitrano che apre lo splendido catal
 ogo della mostra.\n\nI punti cardini del suo lavoro risiedono nell’appar
 ente dicotomia tra storia e tradizione\, modernità e passato\, movimento\
 , metamorfosi e stasi che diventano nell’artista nuovi scenari per il su
 o estro contemporaneo.\n\nIn particolare\, questa esposizione nel centro p
 iù vitale dei Castelli Romani\, lo vede impegnato in una nuova sfida\, qu
 ella con l’essenza stessa dell’uomo e del significato dell’arte. In 
 Piali\, infatti\, l’arte non solo trasforma e plasma la materia alla ric
 erca di bellezza\, ma dialoga costantemente “oltre l’umano”\, distan
 te solo apparentemente dalla società attuale\, percepita invece visceralm
 ente e della quale denuncia la condizione inedita\, la perdita\, appunto\,
  di umanità.\n\nNella sua pittura e scultura le figure prendono forma\, i
  volumi si riempiono\, si incidono\, si graffiano\, gli spazi bianchi dell
 e tele prendono vita. Niente a che vedere con gli anonimi stupori tecnolog
 ici a cui oggi sembriamo abituarci. L’arte di Piali nasce dalla esitazio
 ne\, dalla imprevedibilità\, dalla inconsapevolezza.\n\nQualcosa di estre
 mamente umano\, legato alla tradizione dei grandi Maestri del passato\, da
  Michelangelo a Tiepolo e Caravaggio che l’artista riempie di quel “qu
 id” che lo contraddistingue e che diventa la sua ossessione: mettere a f
 uoco l’uomo e la sua trasformazione nell’incontro simbiotico tra pittu
 ra e scultura perché\, come lui stesso afferma:” quando scolpisco ho no
 stalgia della pittura\, quando dipingo ho nostalgia della scultura”.\n\n
 Ecco che la potenza plastica della forma\, i panneggi che avvolgono e stri
 ngono i corpi\, la tensione del movimento che si arresta improvviso in cer
 te parti della tela\, del marmo  e del bronzo fanno fluire la sua forte os
 sessione di rappresentare non la storia ma l’uomo nella storia\, oltre l
 a storia.\n\nLo si percepisce in opere come Energia in movimento\, un trit
 tico di grandi dimensioni dove i protagonisti sono l’uno incurante dell
 ’altro e dove ognuno vive il proprio accedere nella storia\; o nel poten
 te fermo immagine di Eteriche evoluzioni\, L’Angelo della speranza\, Str
 avolgimenti essenziali o\, ancora\, ne Il folle volo\, tutti dipinti che n
 ella loro instabilità della scena sembrano trovarsi\, invece\, proprio l
 à dove devono stare per essere\, per esistere.\n\nLa mostra offre l’opp
 ortunità straordinaria di esplorare il suo Dentro e fuori l’opera  o la
  Fuga dalla storia\, per richiamare ancora solo alcune delle opere con cui
  l’artista si interroga e pone interrogativi sull’uomo. Uno sguardo ol
 tre l’umano\, dunque\, che diventa condizione di resilienza e speranza p
 er affermare quella umanità che oggi è negata\, quella fragilità messa 
 a nudo a cui Piali restituisce il potente seme della vita attraverso l’u
 nicità del suo processo creativo.\n\n“È con grande entusiasmo e onore 
 che accolgo la straordinaria mostra dell’artista Stefano Piali  presso l
 a nostra struttura museale di Frascati” ha dichiarato la Sindaca Frances
 ca Sbardella che ha sottolineato inoltre: ” L’arte di Piali\, come mag
 istralmente delineato nel testo critico di Ida Mitrano\, si distingue per 
 la sua complessità e profondità con la capacità di coniugare le tecnich
 e tradizionali\, come la pittura e la scultura\, con la contemporaneità d
 elle sue visioni. Attraverso la sua opera ci invita a riflettere sulle sfi
 de della nostra epoca\, incanalando le ansie e le speranze dell’umano co
 ntemporaneo. La mostra\, che offre uno sguardo approfondito sulla ricerca 
 di Piali attraverso gli anni\, si presenta come un’occasione unica per i
 l pubblico di immergersi nella profondità della condizione umana\, oltre 
 la Storia convenzionale.  Stefano Piali non solo si confronta con la tradi
 zione e i maestri del passato ma li abbraccia e li trasforma in un linguag
 gio personale e contemporaneo. Incoraggio tutti i cittadini di Frascati e 
 i visitatori a esplorare questa straordinaria mostra\, a lasciarsi traspor
 tare dalla bellezza delle opere di Piali. Che questa esposizione sia un ca
 talizzatore per riflessioni profonde e significative sulla condizione uman
 a e sul ruolo dell’arte nel plasmare il nostro futuro”.\n\nLa mostra r
 esterà aperta al pubblico fino a domenica 25 febbraio 2024.
ATTACH;FMTTYPE=image/jpeg:https://lazioeventi.com/wp-content/uploads/2024/
 01/LOCANDINA-Lumano-oltre-la-storia.jpg
CATEGORIES:Arte e Cultura nel Lazio
LOCATION:Frascati\, Comune\, Frascati\, Roma\, Lazio\, Italia
GEO:41.807;12.6786
X-APPLE-STRUCTURED-LOCATION;VALUE=URI;X-ADDRESS=Comune\, Frascati\, Roma\, 
 Lazio\, Italia;X-APPLE-RADIUS=100;X-TITLE=Frascati:geo:41.807,12.6786
END:VEVENT
BEGIN:VTIMEZONE
TZID:Europe/Rome
X-LIC-LOCATION:Europe/Rome
BEGIN:STANDARD
DTSTART:20231029T020000
TZOFFSETFROM:+0200
TZOFFSETTO:+0100
TZNAME:CET
END:STANDARD
END:VTIMEZONE
END:VCALENDAR