BEGIN:VCALENDAR
VERSION:2.0
PRODID:-//wp-events-plugin.com//7.2.3.1//EN
TZID:Europe/Rome
X-WR-TIMEZONE:Europe/Rome
BEGIN:VEVENT
UID:40566@lazioeventi.com
DTSTART;TZID=Europe/Rome:20250127T223000
DTEND;TZID=Europe/Rome:20250128T235900
DTSTAMP:20250128T165104Z
URL:https://lazioeventi.com/eventi/lunedi-e-martedi-quiz-game-divertiti-e-
 vinci-2025-01-27
SUMMARY:Lunedi e Martedi Quiz Game\, divertiti ...e vinci! - Roma - 27 Genn
 aio 25 22:30
DESCRIPTION:Hai la mente più veloce e preparata? \n\nÈ il momento di scop
 rirlo! Partecipa al nostro quiz di cultura generale del lunedi e martedi e
  metti alla prova il tuo “dito più veloce” in una competizione esilar
 ante.\n\nTra domande a tempo\, risposte brillanti e una sana dose di compe
 tizione\, puoi vincere fantastici premi: drink\, gadget esclusivi\, coupon
  e tanto altro! \n\nNon è solo un quiz\, è un’arena per i veri appassi
 onati di sfide!\n\nVuoi testare le tue conoscenze\, dimostrare la tua rapi
 dità e trascorrere una serata adrenalinica con i tuoi amici? Questo è il
  posto giusto. Ridi\, gioca e sfida tutti in un’atmosfera unica e coinvo
 lgente. La sfida è lanciata: raccoglila e vieni a vincere!\n\nPRENOTA SUB
 ITO:\n0686708250\nonline (attivo 24h) https://www.angelirock.it/prenota-on
 line/
ATTACH;FMTTYPE=image/jpeg:https://lazioeventi.com/wp-content/uploads/2025/
 01/Martedi-quiz-game-Angeli-Rock.jpg
CATEGORIES:Sport, Tempo Libero e Divertimento nel Lazio
LOCATION:Roma\, Via Leopardi\, Roma\, Roma\, Lazio\, Italia
GEO:41.8942;12.5017
X-APPLE-STRUCTURED-LOCATION;VALUE=URI;X-ADDRESS=Via Leopardi\, Roma\, Roma\
 , Lazio\, Italia;X-APPLE-RADIUS=100;X-TITLE=Roma:geo:41.8942,12.5017
END:VEVENT
BEGIN:VTIMEZONE
TZID:Europe/Rome
X-LIC-LOCATION:Europe/Rome
BEGIN:STANDARD
DTSTART:20241027T020000
TZOFFSETFROM:+0200
TZOFFSETTO:+0100
TZNAME:CET
END:STANDARD
END:VTIMEZONE
END:VCALENDAR