BEGIN:VCALENDAR
VERSION:2.0
PRODID:-//wp-events-plugin.com//7.2.3.1//EN
TZID:Europe/Rome
X-WR-TIMEZONE:Europe/Rome
BEGIN:VEVENT
UID:28615@lazioeventi.com
DTSTART;TZID=Europe/Rome;VALUE=DATE:20211008
DTEND;TZID=Europe/Rome;VALUE=DATE:20211014
DTSTAMP:20211006T080814Z
URL:https://lazioeventi.com/eventi/luniverso-femminile-nelle-opere-di-mari
 o-russo-con-dive
SUMMARY:L’universo femminile nelle opere di Mario Russo con "Dive" - Roma
  - 8 Ottobre 21 00:00
DESCRIPTION:L’universo femminile nelle opere di Mario Russo con “Dive
 ”\, la mostra omaggio al celebre pittore organizzata dalla figlia l’at
 trice Adriana Russo.\n\nGalleria internazionale Area Contesa dall’8 al 1
 3 ottobre 2021 Roma\n\nL’estro creativo partenopeo e il talento che scor
 re impetuoso nelle vene fin dai sui esordi. E’ il ritratto del celebre M
 ario Russo\, una vita intera dedicata all’arte con uno studio preciso e 
 costante dedicato alla figura umana. Per rendere omaggio al pittore\, all
 ’uomo\, al padre\, la figlia Adriana Russo\, che di recente ha ricevuto 
 il Premio Cinecibo alla Carriera in occasione della 25° edizione del Terr
 a di Siena Film Festival\, ha organizzato una mostra intitolata “Dive”
 \, curata da Alfio Borghese\, che dall’8 al 13 ottobre sarà ospitata pr
 esso la galleria internazionale Area Contesa\, diretta dalle sorelle Teres
 a e Tina Zurlo e situata in via Margutta.\n\nInnamorato dell’arte in tut
 te  le sue forme il pittore\, che nasce a Napoli nel 1925 e negli anni 
 ’50 si trasferisce a Roma per poi girare il mondo intero con le sue oper
 e (nel 1997\, per esempio\,  è stato invitato a New York per una mostra 
 personale al J.F.Kennedy Airport e nel 1998 al Palazzo Ducale di Mantova h
 a luogo una sua mostra denominata "Omaggio a Fellini") sarà rappresentato
  da alcuni suoi capolavori ispirati alla sensualità femminile. Un viaggio
  nell’universo della bellezza fatta di volti\, corpi\, stati d’animo\,
  colti con estrema delicatezza nei suoi ritratti: da “Anna Magnani” a 
 “Carla Fracci”\, da “Ritratto d’attrice\, omaggio a Fellini” fin
 o alla tela dedicata proprio a sua figlia “Adriana”. La mostra\, il cu
 i titolo è ispirato proprio da un quadro realizzato dall’artista nel 19
 83\, sarà visitabile ogni giorno.\n\nInaugurazione 8 ottobre 2021\, ore 1
 8.00\, via Margutta 90.\n\nIngresso gratuito con green pass.
ATTACH;FMTTYPE=image/jpeg:https://lazioeventi.com/wp-content/uploads/2021/
 10/foto-adriana-russo-1.jpg
CATEGORIES:Arte e Cultura nel Lazio
LOCATION:Roma\, Via Leopardi\, Roma\, Roma\, Lazio\, Italia
GEO:41.8942;12.5017
X-APPLE-STRUCTURED-LOCATION;VALUE=URI;X-ADDRESS=Via Leopardi\, Roma\, Roma\
 , Lazio\, Italia;X-APPLE-RADIUS=100;X-TITLE=Roma:geo:41.8942,12.5017
END:VEVENT
BEGIN:VTIMEZONE
TZID:Europe/Rome
X-LIC-LOCATION:Europe/Rome
BEGIN:DAYLIGHT
DTSTART:20210328T030000
TZOFFSETFROM:+0100
TZOFFSETTO:+0200
TZNAME:CEST
END:DAYLIGHT
END:VTIMEZONE
END:VCALENDAR