BEGIN:VCALENDAR
VERSION:2.0
PRODID:-//wp-events-plugin.com//7.2.3.1//EN
TZID:Europe/Rome
X-WR-TIMEZONE:Europe/Rome
BEGIN:VEVENT
UID:33491@lazioeventi.com
DTSTART;TZID=Europe/Rome;VALUE=DATE:20251208
DTEND;TZID=Europe/Rome;VALUE=DATE:20260107
DTSTAMP:20251125T111725Z
URL:https://lazioeventi.com/eventi/magico-natale-a-carpineto-romano
SUMMARY:Magico Natale - Carpineto Romano - 8 Dicembre 25 00:00
DESCRIPTION:Dall'8 dicembre 2025 al 6 gennaio 2026\, il borgo si accende co
 n Luminarie\, Presepe Vivente\, concerti e attività per tutte le età\, c
 hiudendo con l'arrivo della Befana.\nLa magia delle feste abbraccia Carpin
 eto Romano per quasi un mese intero. L'Amministrazione Comunale e la Pro L
 oco Città di Carpineto Romano\, in stretta collaborazione con le associaz
 ioni locali\, presentano il ricco calendario del “Magico Natale del Borg
 o”\, un’iniziativa che animerà il centro storico dall’8 dicembre 20
 25 al 6 gennaio 2026.\nL’obiettivo è trasformare il borgo in una destin
 azione natalizia unica\, fondendo il fascino delle antiche tradizioni con 
 l'intrattenimento contemporaneo\, per un’esperienza indimenticabile per 
 residenti e visitatori.\nIl programma\, pensato per coinvolgere ogni fasci
 a d'età\, spazia dalle rievocazioni storiche alle attività più ludiche 
 e culturali:\n\n\n 	Tradizione e Atmosfera: Il borgo sarà vestito a festa
  con Luminarie Cittadine accompagnate da dolci musiche natalizie. Immancab
 ili la Via dei Presepi e il suggestivo Presepe Vivente\, che riporteranno 
 in vita la natività in una cornice storica.\n 	Spazio Famiglie e Bambini:
  Il cuore del Natale sarà la Casa di Babbo Natale\, pronta ad accogliere 
 i più piccoli. Saranno organizzati Laboratori Creativi per Bambini e mome
 nti di Animazione e Intrattenimento in Piazza per pomeriggi all'insegna de
 l divertimento.\n 	Cultura e Intrattenimento: Il calendario prevede Musica
  e Concerti Natalizi\, la proiezione di un Film di Natale e una speciale s
 erata dedicata all’Astronomia\, un evento imperdibile per grandi e picci
 ni con il Gruppo Astrofili locale.\n 	Sport e Prodotti Tipici: Per gli ama
 nti del movimento\, sono in programma Tornei sportivi di calcio\, pallavol
 o e tennis. Chi desidera scoprire il territorio potrà partecipare a sugge
 stive Escursioni\, mentre i buongustai troveranno ad attenderli i Mercatin
 i con prodotti tipici per acquisti e degustazioni.\n\nGran Finale con la B
 efana\nIl “Magico Natale del Borgo” si concluderà il 6 gennaio 2026 c
 on l'emozionante e atteso Arrivo della Befana\, che saluterà il periodo d
 elle feste portando dolci e carbone.\nUn Natale a Carpineto Romano è un i
 nvito a riscoprire la bellezza del borgo e il calore della comunità. L'in
 iziativa è realizzata in collaborazione con la Regione Lazio e le princip
 ali associazioni del territorio\, garantendo la qualità e la varietà del
 l'offerta.\nCarpineto Romano vi aspetta per vivere un Natale all’insegna
  della magia e della condivisione.\nPROGRAMMA EVENTI NATALIZI – CARPINET
 O ROMANO\nSabato 6 dicembre\n“Crea la magia del Natale”\nLaboratorio p
 er bambini\nCentro Anziani\nOre 16:00\n\nDomenica 7 dicembre\n“Un Panett
 one per la Vita” – ADMO\nUn gesto che fa bene due volte: al cuore e al
 la solidarietà.\nPiazza Regina Margherita\nDalle ore 10:00\n\nLunedì 8 d
 icembre\n“AccendiAMO il Natale” – L’inizio della magia!\nLe lumina
 rie si accendono\, la musica riempie il borgo e la Via dei Presepi prende 
 vita…\nPiazza Regina Margherita e Borgo storico\nOre 17:30\n\nSabato 13 
 dicembre\n“Festa di Natale”\nPranzo\, animazione e sorrisi per tutti i
  bambini.\nCentro Anziani\nOre 11:30\n\nDomenica 14 dicembre\n“Natale in
  Vetta”\nTrekking tra panorami mozzafiato con polentata finale.\n“Voll
 ey nel Presepe” – Torneo di Volley\nSport e divertimento nel cuore del
 le festività!\nCentro Sportivo Galeotti\nDalle ore 14:30\n\nSabato 20 dic
 embre\nMusica con la Banda dei Babbo Natale &amp\; Degustazioni Natalizie\
 nProfumi di festa\, musica itinerante e assaggi della tradizione.\nVia Gia
 como Matteotti\nDalle ore 16:00\nDegustazioni di Pangiallo e ‘ntortalicc
 hi\nBorgo storico\nDalle ore 16:00\nConcerto “Tuffo nel Passato”\nUna 
 serata musicale emozionante.\nAuditorium Leone XIII\nOre 21:00\n\nDomenica
  21 dicembre\nChristmas Party!\nMusica\, giochi\, animazione e tanta magia
  per i più piccoli.\nPiazza Regina Margherita\nOre 16:00\nDegustazioni di
  Pangiallo e ‘ntortalicchi\nBorgo storico\nDalle ore 16:00\n\nLunedì 22
  dicembre\n“Il Sole – La nostra stella viva”\nUn affascinante viaggi
 o nell’astrofilia con Giancarlo Neccia.\nAuditorium Leone XIII sede Unit
 re\nOre 18:00\n\nMartedì 23 dicembre\nCinema di Natale: “Polar Express
 ”\nIl film che porta direttamente al Polo Nord!\nAuditorium Leone XIII\n
 Ore 17:00\n\nMercoledì 24 dicembre\n“Un selfie con Babbo Natale”\nUn 
 incontro speciale… proprio alla vigilia!\nCasa di Babbo Natale\nDalle or
 e 16:00\n\nGiovedì 26 – Venerdì 27 – Sabato 28 dicembre\nDegustazion
 i di Pangiallo e ‘ntortalicchi\nIl gusto autentico del Natale carpinetan
 o.\nBorgo storico\nDalle ore 16:00\n\nSabato 27 dicembre\n“Giornata dell
 o Sport” – Torneo di Calcetto\nEnergia\, competizione e spirito di squ
 adra.\nCentro Sportivo Galeotti\nDalle ore 10:00\nAmazing Grace Gospel Pro
 ject\nUn concerto capace di toccare l’anima.\nChiesa Collegiata\nOre 18:
 00\n\nDomenica 28 dicembre\nPresepe Vivente – “Un Presepe nel Presepe
 ”\nLe vie del borgo si trasformano in un suggestivo viaggio nella Nativi
 tà.\nBorgo storico\nOre 16:00\n\nLunedì 29 dicembre\nCinema di Natale: 
 “Klaus”\nUn film emozionante e perfetto per il clima delle feste.\nAud
 itorium Leone XIII\nOre 17:00\n\nSabato 3 gennaio\n“Chitarre di Famiglia
 ” – Concerto Pat Metheny Group\nUna serata musicale di grande qualità
 .\nAuditorium Leone XIII\nOre 21:00\n\nDomenica 4 gennaio\nConcerto “Neo
 s Voices”\nVoci straordinarie per un inizio d’anno pieno di armonia.\n
 Chiesa Collegiata\nOre 18:00\n\nMartedì 6 gennaio\n“La Befana scende da
 l Campanile!”\nAnimazione\, musica\, giochi e una sorpresa… dall’alt
 o!\nPiazza Regina Margherita\nOre 18:00\nA Carpineto Romano ti aspettano u
 n mese di eventi\, emozioni e tradizioni… da condividere con chi ami.
ATTACH;FMTTYPE=image/jpeg:https://lazioeventi.com/wp-content/uploads/2022/
 12/natale-carpineto.jpg
CATEGORIES:Sport, Tempo Libero e Divertimento nel Lazio,Musica, Spettacoli
 e Danza nel Lazio,Sagre, Gastronomia e Tradizioni nel Lazio
LOCATION:Carpineto Romano\, Comune\, Carpineto Romano\, Roma\, Lazio\, Ital
 ia
GEO:41.6045;13.0853
X-APPLE-STRUCTURED-LOCATION;VALUE=URI;X-ADDRESS=Comune\, Carpineto Romano\,
  Roma\, Lazio\, Italia;X-APPLE-RADIUS=100;X-TITLE=Carpineto Romano:geo:41.
 6045,13.0853
END:VEVENT
BEGIN:VTIMEZONE
TZID:Europe/Rome
X-LIC-LOCATION:Europe/Rome
BEGIN:STANDARD
DTSTART:20251026T020000
TZOFFSETFROM:+0200
TZOFFSETTO:+0100
TZNAME:CET
END:STANDARD
END:VTIMEZONE
END:VCALENDAR