BEGIN:VCALENDAR
VERSION:2.0
PRODID:-//wp-events-plugin.com//7.2.3.1//EN
TZID:Europe/Rome
X-WR-TIMEZONE:Europe/Rome
BEGIN:VEVENT
UID:43105@lazioeventi.com
DTSTART;TZID=Europe/Rome:20251125T200000
DTEND;TZID=Europe/Rome:20251125T223000
DTSTAMP:20251114T085312Z
URL:https://lazioeventi.com/eventi/mamma-sei-sempre-nei-miei-pensieri-spos
 tati-3
SUMMARY:Mamma\, sei sempre nei miei pensieri….spostati! - Roma - 25 Novem
 bre 25 20:00
DESCRIPTION:“Mamma\, sei sempre nei miei pensieri….spostati!”\, l’e
 silarante spettacolo che unisce comicità\, riflessione e un'analisi ironi
 ca del legame madre-figlia\, scritto da Cinzia Leone e Fabio Mureddu e int
 erpretato dalla stessa Cinzia Leone\, andrà in scena martedì 25 novembre
  2025\, ore 20.30\, al Teatro Ghione di Roma (Via delle Fornaci 37).\n\nLa
  scelta di portare in scena lo spettacolo proprio il 25 novembre\, Giornat
 a internazionale per l’eliminazione della violenza contro le donne\, ass
 ume un valore simbolico e profondo: un invito a riflettere\, attraverso il
  linguaggio universale dell’ironia\, sul ruolo delle donne\, sulle relaz
 ioni familiari e sull’importanza del rispetto e della libertà di ogni i
 ndividuo. In un giorno dedicato alla consapevolezza e al contrasto di ogni
  forma di violenza\, Cinzia Leone propone un racconto che\, pur con legger
 ezza e sorriso\, celebra la forza\, la complessità e la resilienza femmin
 ile.\n\nCinzia Leone guiderà il pubblico in un viaggio divertente e tocca
 nte alla scoperta della "mammità"\, esplorando con leggerezza e profondit
 à il distacco dal cordone ombelicale\, l'influenza delle madri sulle prop
 rie figlie e il circolo che si perpetua di generazione in generazione. Lo 
 spettacolo offre uno spunto comico su come una madre\, nel bene e nel male
 \, condiziona i pensieri e i comportamenti della figlia\, trasmettendo un
 ’impronta che si ripercuote sulle generazioni future.\n\nDurante il mono
 logo\, Cinzia sarà costantemente interrotta dalle telefonate della madre\
 , che la porteranno a cercare di capire le origini della vita\, partendo d
 al protozoico e giungendo fino ai giorni nostri.\nL’ironia pungente si m
 escola a momenti di sincero coinvolgimento\, con un racconto che parte dai
  primi passi dell’umanità fino ad arrivare alle problematiche quotidian
 e moderne\, come gastrite e colite.\n\nIl pubblico vivrà un'esperienza un
 ica\, dove Cinzia Leone\, con la sua energia e il suo linguaggio senza fil
 tri\, esplorerà tematiche universali e talvolta imbarazzanti\, come il ra
 pporto tra madre e figlia\, la complicità e le difficoltà del legame. Un
  mix di riflessioni sul cordone ombelicale\, simbolo di un amore profondo\
 , ma anche di un legame che spesso crea insicurezze e conflitti interiori.
 \n\nCon il suo stile diretto e un tocco di empatia verso il pubblico\, Cin
 zia Leone riesce a raccontare la complessità delle relazioni familiari\, 
 tra ironia e momenti di riflessione\, divertendo e commuovendo allo stesso
  tempo. Sarà inevitabile alla fine dello spettacolo domandarsi “Ma dove
  finiscono i pensieri di mamma e dove iniziano i miei?”\n\nI filmati del
 lo spettacolo sono di Franco Bertini e le musiche di Enrico Melozzi\, la p
 roduzione è della Maximo Event di Nicolò Innocenzi.\n\nDopo la tappa di 
 Roma\, la tournée proseguirà con le seguenti date: 13 dicembre 2025 a Fa
 briano\, 11 gennaio 2026 ad Acquapendente\, 7 e 8 febbraio 2026 ad Acilia.
ATTACH;FMTTYPE=image/jpeg:https://lazioeventi.com/wp-content/uploads/2025/
 11/MAMMA-SEI-SEMPRE-NEI-PENSIERI-SPOSTATI-DI-CINZIA-LEO.jpg
CATEGORIES:Musica, Spettacoli e Danza nel Lazio
LOCATION:Roma\, Via Leopardi\, Roma\, Roma\, Lazio\, Italia
GEO:41.8942;12.5017
X-APPLE-STRUCTURED-LOCATION;VALUE=URI;X-ADDRESS=Via Leopardi\, Roma\, Roma\
 , Lazio\, Italia;X-APPLE-RADIUS=100;X-TITLE=Roma:geo:41.8942,12.5017
END:VEVENT
BEGIN:VTIMEZONE
TZID:Europe/Rome
X-LIC-LOCATION:Europe/Rome
BEGIN:STANDARD
DTSTART:20251026T020000
TZOFFSETFROM:+0200
TZOFFSETTO:+0100
TZNAME:CET
END:STANDARD
END:VTIMEZONE
END:VCALENDAR