BEGIN:VCALENDAR
VERSION:2.0
PRODID:-//wp-events-plugin.com//7.2.3.1//EN
TZID:Europe/Rome
X-WR-TIMEZONE:Europe/Rome
BEGIN:VEVENT
UID:41181@lazioeventi.com
DTSTART;TZID=Europe/Rome:20250413T180000
DTEND;TZID=Europe/Rome:20250413T193000
DTSTAMP:20250407T100353Z
URL:https://lazioeventi.com/eventi/mandragola
SUMMARY:Mandragola - Veroli - 13 Aprile 25 18:00
DESCRIPTION:La ricca stagione del Teatro Comunale Veroli continua ad appass
 ionare e a collezionare sold-out grazie all’affetto del pubblico\, all
 ’instancabile lavoro di tutto lo staff e alla bravura delle compagnie ch
 e calcano il nostro palco. Domenica 13 aprile la scena sarà occupata dall
 a compagnia Medusa Teatro che\, con la regia di Ivano Capocciama\, proporr
 à una versione della “Mandragola” di Niccolò Machiavelli.\n\nLo spet
 tacolo nasce come esercizio performativo intorno al testo originale dell
 ’autore: le dinamiche che veicolano le azioni dei personaggi all’inter
 no della storia rappresenteranno\, per gli spettatori\, un’esperienza ca
 tartica\, comica e violentemente grottesca.\n\nI tentativi messi in moto d
 ai personaggi per ingravidare Lucrezia si manifesteranno in quattro quadri
  di esilarante comicità che spiazzerà ogni aspettativa dello spettatore.
 \n\nQuesta versione della “Mandragola”\, ambientata in una Napoli post
  umana e post apocalittica (di totale tradimento rispetto all’ambientazi
 one fiorentina del testo originale)\, solleciterà domande e innescherà u
 n vero e proprio deragliamento percettivo all’interno del quale lo spett
 atore sprofonderà inesorabilmente.\n\nNon perdete\, dunque\, l’occasion
 e di apprezzare questa straordinaria rivisitazione di un grande classico d
 omenica 13 aprile alle ore 18.00 con apertura botteghino alle 17.30.\n\nVi
  aspettiamo!\n\n \nBIGLIETTO: € 8.00\n\nPer info e prenotazioni: 3513917
 931\nteatrocomunaleveroli2019@gmail.com
ATTACH;FMTTYPE=image/jpeg:https://lazioeventi.com/wp-content/uploads/2025/
 04/021-01.jpg
CATEGORIES:Musica, Spettacoli e Danza nel Lazio
LOCATION:Veroli\, Comune di Veroli\, Veroli\, Frosinone\, Lazio\, Italia
GEO:41.6911;13.4178
X-APPLE-STRUCTURED-LOCATION;VALUE=URI;X-ADDRESS=Comune di Veroli\, Veroli\,
  Frosinone\, Lazio\, Italia;X-APPLE-RADIUS=100;X-TITLE=Veroli:geo:41.6911,
 13.4178
END:VEVENT
BEGIN:VTIMEZONE
TZID:Europe/Rome
X-LIC-LOCATION:Europe/Rome
BEGIN:DAYLIGHT
DTSTART:20250330T030000
TZOFFSETFROM:+0100
TZOFFSETTO:+0200
TZNAME:CEST
END:DAYLIGHT
END:VTIMEZONE
END:VCALENDAR