BEGIN:VCALENDAR
VERSION:2.0
PRODID:-//wp-events-plugin.com//7.2.3.1//EN
TZID:Europe/Rome
X-WR-TIMEZONE:Europe/Rome
BEGIN:VEVENT
UID:38490@lazioeventi.com
DTSTART;TZID=Europe/Rome;VALUE=DATE:20240217
DTEND;TZID=Europe/Rome;VALUE=DATE:20240513
DTSTAMP:20240430T172215Z
URL:https://lazioeventi.com/eventi/manuel-felisi-11
SUMMARY:Manuel Felisi 1:1 - Roma - 17 Febbraio 24 00:00
DESCRIPTION:Scenografico progetto espositivo dedicato al mondo animale.\n\n
 Un bestiario raffigurato su grandi tavole di legno dall’artista Manuel F
 elisi\, impegnato in un’arte di commistione tra tecniche e linguaggi\, m
 odi della tradizione e innovazione tecnologica. Dipinti a grandezza natura
 le – uno a uno\, come suggerisce il titolo – gli animali saranno sottr
 atti alla statica condizione della rappresentazione bidimensionale da para
 lleli interventi di animazione digitale ottenuti con operazioni di light e
  digital art. Gli 80 dipinti su legno che costituiscono la serie “Uno a 
 Uno” sono stati realizzati nel corso del primo lockdown\, in una stagion
 e segnata da presagi di apocalisse\, quando le foto di animali scattate da
 ll’artista durante un safari in Senegal gli hanno inevitabilmente sugger
 ito una riflessione sui pericoli che le specie animali non umane stanno co
 rrendo a causa del degrado dei loro habitat naturali.\nOrganizzata dalla G
 alleria Russo. In collaborazione con la Fondazione Bioparco di Roma.\nA cu
 ra di Gabriele Simongini.\n\nGratis\n  \nOrario\nDal martedì al venerdì 
 ore 10.00 - 16.00  \nIl sabato e la domenica ore 10.00 - 19.00\nUltimo ing
 resso mezz'ora prima della chiusura
ATTACH;FMTTYPE=image/jpeg:https://lazioeventi.com/wp-content/uploads/2024/
 02/Museo-Carlo-Bilotti_mostra-Manuel-Felisi.-Uno-a-uno_Rinoceronte_1050.jp
 g
CATEGORIES:Arte e Cultura nel Lazio
LOCATION:Roma\, Via Leopardi\, Roma\, Roma\, Lazio\, Italia
GEO:41.8942;12.5017
X-APPLE-STRUCTURED-LOCATION;VALUE=URI;X-ADDRESS=Via Leopardi\, Roma\, Roma\
 , Lazio\, Italia;X-APPLE-RADIUS=100;X-TITLE=Roma:geo:41.8942,12.5017
END:VEVENT
BEGIN:VTIMEZONE
TZID:Europe/Rome
X-LIC-LOCATION:Europe/Rome
BEGIN:STANDARD
DTSTART:20231029T020000
TZOFFSETFROM:+0200
TZOFFSETTO:+0100
TZNAME:CET
END:STANDARD
BEGIN:DAYLIGHT
DTSTART:20240331T030000
TZOFFSETFROM:+0100
TZOFFSETTO:+0200
TZNAME:CEST
END:DAYLIGHT
END:VTIMEZONE
END:VCALENDAR