BEGIN:VCALENDAR
VERSION:2.0
PRODID:-//wp-events-plugin.com//7.2.3.1//EN
TZID:Europe/Rome
X-WR-TIMEZONE:Europe/Rome
BEGIN:VEVENT
UID:34469@lazioeventi.com
DTSTART;TZID=Europe/Rome:20230324T190000
DTEND;TZID=Europe/Rome:20230324T210000
DTSTAMP:20230309T111608Z
URL:https://lazioeventi.com/eventi/map-to-the-star
SUMMARY:Map to the Star - Roma - 24 Marzo 23 19:00
DESCRIPTION:Presentazione libro e mostra fotografica di Mirko Viglino\n\nVe
 nerdì 24 marzo dalle ore 19 WSP Photography ospiterà il fotografo Mirko 
 Viglino che presenterà il suo libro “Map to the Star” e ci parlerà d
 el suo lavoro. In occasione della presentazione ci sarà anche una esposiz
 ione e un’installazione di una selezione del lavoro.\n\nL’evento si te
 rrà presso la sede in Via Costanzo Cloro 58 ed è aperto a tutti.\n\nMap 
 to the Star è una storia personale che affronta il divorzio\, la solitudi
 ne e il desiderio di creare un rapporto padre – figlia utilizzando la me
 tafora del viaggio spaziale. Il progetto guarda al passato attraverso gli 
 occhi di una bambina che si trova ad affrontare sfide per le quali non è 
 pronta\, una bambina la cui comprensione delle dinamiche messe in atto dag
 li adulti è molto difficile\, dinamiche che proiettano la percezione dell
 a realtà in un mondo alieno ed incomprensibile all’interno del quale si
  cerca la propria rotta verso la stabilità\, l’obiettivo finale che alt
 ro non è che il rapporto genitore figlio\, in questo caso ottenuto nel co
 rso di anni. Il libro edito da “Il randagio Edizioni” è disponibile i
 n 2 versioni una delle quali limitata a 100 copie ed include un poster\, u
 na stampa fine art in tiratura di 100.\n\nIn occasione della presentazione
  ci sarà anche una esposizione e un’installazione di una selezione del 
 lavoro.\n\nL’evento è gratuito e aperto a tutti.\n\nMirko Viglino (Roma
  1980) è un fotografo documentarista di base a Roma. Ha un passato come p
 ilota commerciale di velivolo e controllore del traffico aereo. Nel 2012 s
 i è diplomato al corso di fotogiornalismo presso l’ ISFCI e due anni do
 po ha ricevuto la borsa di studio per la WSP Masterclass. \nI suoi progett
 i sono stati pubblicati ed esibiti in Europa\, USA e Asia. E’ stato rapp
 resentato dalla Dorothy Circus Gallery e nel 2020 ha ricevuto il National 
 Geographic Emergency Fund Grant con il progetto “Map to the Star”. \nI
  suoi progetti sono focalizzati principalmente sulle credenze popolari\, c
 old cases e storie personali. \nIl suo storytelling mescola fotografia doc
 umentaristica\, tecniche di illuminazione cinematografica e giornalismo in
 vestigativo.Nel 2022 è entrato a far parte di Quantum.Art\, una piattafor
 ma specializzata nella curatela di NFT fotografici.
ATTACH;FMTTYPE=image/jpeg:https://lazioeventi.com/wp-content/uploads/2023/
 03/Map-to-the-star_Mirko-Viglino.jpg
CATEGORIES:Arte e Cultura nel Lazio
LOCATION:Roma\, Via Leopardi\, Roma\, Roma\, Lazio\, Italia
GEO:41.8942;12.5017
X-APPLE-STRUCTURED-LOCATION;VALUE=URI;X-ADDRESS=Via Leopardi\, Roma\, Roma\
 , Lazio\, Italia;X-APPLE-RADIUS=100;X-TITLE=Roma:geo:41.8942,12.5017
END:VEVENT
BEGIN:VTIMEZONE
TZID:Europe/Rome
X-LIC-LOCATION:Europe/Rome
BEGIN:STANDARD
DTSTART:20221030T020000
TZOFFSETFROM:+0200
TZOFFSETTO:+0100
TZNAME:CET
END:STANDARD
END:VTIMEZONE
END:VCALENDAR