BEGIN:VCALENDAR
VERSION:2.0
PRODID:-//wp-events-plugin.com//7.2.3.1//EN
TZID:Europe/Rome
X-WR-TIMEZONE:Europe/Rome
BEGIN:VEVENT
UID:36074@lazioeventi.com
DTSTART;TZID=Europe/Rome:20230718T213000
DTEND;TZID=Europe/Rome:20230718T234500
DTSTAMP:20230629T095912Z
URL:https://lazioeventi.com/eventi/mardi-gras-live-al-summer-festival-del-
 kill-joy-di-roma
SUMMARY:Mardi Gras Live al Summer Festival del Kill Joy di Roma - Roma - 18
  Luglio 23 21:30
DESCRIPTION:Martedì 18 luglio\, dalle 21:30\, i Mardi Gras in concerto al 
 Kill Joy! Dopo il grande successo dello scorso anno\, la rock band italian
 a dal respiro internazionale\, punto di riferimento nella\nscena live roma
 na\, torna sul palco all’aperto del «saloon più cool della Capitale!»
 .\n\nNell’ambito del Kill Joy Summer Festival\, che si protrarrà per tu
 tta l’estate\, i Mardi Gras presenteranno al pubblico la loro «intrigan
 te miscela di pop\, rock\, soul\, con qualcosa che rimanda al country irla
 ndese e al grunge»\, come la definisce il magazine Reader's Digest. «Il 
 tutto – scrive ancora la testata mensile inglese – viene presentato in
  modo invitante\, con riff accattivanti e messaggi potenti nei loro testi 
 che arrivano dritti all’anima».\n\nParticolarmente attiva sui social\, 
 la band – composta da Liina Ratsep (Vocals)\, Fabrizio Fontanelli (Acous
 tic Guitar)\, Carlo Di Tore Tosti (Bass)\, Alessandro Matilli (Piano &amp\
 ;amp\; Keyboards)\, Fabrizio Del Marchesato (Electric Guitar) e Valerio Gi
 ovanardi (Drums) – è attiva dal 2006 con tre album in studio\, un quart
 o in fase di lavorazione e diversi singoli pubblicati in formato digitale.
 \n\nContraddistinti da un “playground” sonoro che li ha guidati agli A
 bbey Road Studios di Londra (gli studi di registrazione dei Beatles\, per 
 intenderci) a collaborare con importanti songwriters\nirlandesi\, fino a s
 uonare sul palco del prestigioso Sziget Festival\, i Mardi Gras portano av
 anti un’attività live che fa da rilevante cassa di risonanza al loro so
 lido percorso discografico.\n\nUn tributo internazionale su tutti: i brani
  “The Wait” e “Scarecrow in the Snow” sono stati scelti da Neil Yo
 ung che li ha inseriti in “Songs of the Times”\, la sezione speciale d
 el suo sito dedicata alle canzoni di pace contro la guerra.\n\nNegli anni\
 , i Mardi Gras hanno portato la loro musica su numerosi palchi in Italia e
  Irlanda. \n\nLa prossima tappa è nell’amata Roma: un live sotto le ste
 lle all’interno della cornice rock del Kill Joy in via Appia Nuova\, a p
 ochi passi dall’Ippodromo di Capannelle.\n\nMartedì 18 luglio 2023\nKil
 l Joy\nVia Appia Nuova\, 1228\nInfo e prenotazioni: 348 553 5771\nDalle or
 e 20:00 cena alla carta\nDalle ore 21:30 live music\nSito web: killjoy.it
ATTACH;FMTTYPE=image/jpeg:https://lazioeventi.com/wp-content/uploads/2023/
 06/Mardi-Gras-foto-1-1170x556-1.jpg
CATEGORIES:Musica, Spettacoli e Danza nel Lazio
LOCATION:Roma\, Via Leopardi\, Roma\, Roma\, Lazio\, Italia
GEO:41.8942;12.5017
X-APPLE-STRUCTURED-LOCATION;VALUE=URI;X-ADDRESS=Via Leopardi\, Roma\, Roma\
 , Lazio\, Italia;X-APPLE-RADIUS=100;X-TITLE=Roma:geo:41.8942,12.5017
END:VEVENT
BEGIN:VTIMEZONE
TZID:Europe/Rome
X-LIC-LOCATION:Europe/Rome
BEGIN:DAYLIGHT
DTSTART:20230326T030000
TZOFFSETFROM:+0100
TZOFFSETTO:+0200
TZNAME:CEST
END:DAYLIGHT
END:VTIMEZONE
END:VCALENDAR