BEGIN:VCALENDAR
VERSION:2.0
PRODID:-//wp-events-plugin.com//7.2.3.1//EN
TZID:Europe/Rome
X-WR-TIMEZONE:Europe/Rome
BEGIN:VEVENT
UID:30616@lazioeventi.com
DTSTART;TZID=Europe/Rome:20220513T210000
DTEND;TZID=Europe/Rome:20220515T210000
DTSTAMP:20220422T104315Z
URL:https://lazioeventi.com/eventi/maria-stuart-castello-di-riano
SUMMARY:Maria Stuart - Riano - 13 Maggio 22 21:00
DESCRIPTION:Torna in scena il teatro itinerante del regista Carlo Fineschi:
  dal 29 aprile al 29 maggio 2022 MARIA STUART di Friederich Schiller - una
  produzione L’Albatro in collaborazione con Nutrimenti Terrestri e con i
 l contributo di NUOVO IMAIE - è un’esperienza immersiva che conduce il 
 pubblico in luoghi non convenzionali come antichi palazzi nobiliari e cast
 elli nel territorio del Lazio.\n\nIl debutto è atteso il 29 aprile 2022 n
 ella cornice di Palazzo Forani a Casperia (RI)\, con repliche il 30 aprile
  e 1-6-7-8 maggio 2022.\n\nSuccessivamente lo spettacolo sarà rappresenta
 to nel castello di Riano (RM) il 13-14-15-20-22 maggio 2022 e le ultime re
 pliche\, previste il 27-28-29 maggio 2022\, si terranno in una location an
 cora segreta e che verrà rivelata solo più avanti.\n\nLa tragedia di Sch
 iller\, qui riadattata dal regista Carlo Fineschi\, riguarda gli ultimi tr
 e giorni di prigionia di Maria Stuart\, regina di Scozia (1542 - 1587). Il
  dramma ruota intorno alla fondamentale antitesi amore/politica: da un lat
 o il mondo di Maria\, che è amore bellezza moralità e morte\, dall’alt
 ro il mondo di Elisabetta I\, che è politica necessità\, ipocrisia e tri
 onfo apparente.\n\nLa Compagnia L’Albatro porta in scena undici personag
 gi che\, come fantasmi\, ci trasportano nel 1587. Gli ambienti\, i costumi
 \, gli odori\, il cibo e le candele che illuminano gli ambienti conducono 
 il pubblico indietro nel tempo rendendolo parte della storia: dalla buia p
 rigione di Maria alle ricche sale di di Elisabetta I\, gli intrighi e ai f
 atti di sangue che hanno fatto la storia saranno scrutati e vissuti da vic
 ino.\n\nDopo il successo di Rolling e Ad Occhi Chiusi\, Carlo Fineschi met
 te in scena una nuova esperienza di teatro itinerante dalla forte connotaz
 ione immersiva. Il regista costruisce un viaggio intimista nel mondo di Ma
 ria Stuart fatto di femminilità\, di amore\, di sofferenza e in quello di
  Elisabetta I\, una regina che ha fatto della solitudine e dell’assenza 
 di sentimenti la sua ragione di vita. Il percorso di Maria ci porta in luo
 ghi sempre più stretti e piccoli\, poco illuminati\, fino a vedere solo l
 ei bene in volto. Il viaggio di Elisabetta sarà totalmente opposto\, schi
 acciata da luoghi sempre più grandi\, che aumentano la sua solitudine.\n\
 nNOTE DI REGIA\nNel dramma ci sono due donne a confronto\, due regine in u
 n mondo però in cui sono ancora gli uomini a determinare le loro scelte. 
 Maria è in carcere\, le è stato tolto il trono. Maria è una donna che v
 oleva essere una donna anche se regina\, non vuole nascondersi\, non vuole
  far finta di essere un uomo ed obbedire a regole che non le appartengono\
 , vuole essere solo se stessa. Questo fa tremare gli uomini di corte\, la 
 ritengono malefica\, pericolosa. Lei mette in evidenza la loro debolezza\,
  non sanno come confrontarsi. L’unico modo è eliminarla. Elisabetta ha 
 accettato di nascondere la sua femminilità per poter governare Maria per
 ò risveglia in lei il suo istinto. C’è una sorta di ammirazione da par
 te di Elisabetta nei confronti di Maria\, ma anche di invidia e gelosia. E
 lisabetta può decidere di salvarla anche se il giudizio del tribunale ha 
 già emesso la condanna. Sa che Maria non ha colpe. Maria è solo una donn
 a fiera di essere donna. Questo però finisce per spaventare anche Elisabe
 tta che teme di scoprire realmente quella sé stessa che per tanti anni ha
  soffocato. Deve mantenere il rispetto degli uomini che la sostengono al p
 otere. Maria deve morire e con lei la femminilità.\n\nCarlo Fineschi è r
 egista\, attore e autore di teatro e cinema\, studia e si diploma come fil
 maker negli Stati Uniti al Maine Workshops. Le sue opere sono state rappre
 sentate a Roma nei teatri Eliseo\, Olimpico e India\, al Piccolo di Milano
 \, al Burg Theater di Vienna\, a Essen in Germania\, al Festival dei Due M
 ondi di Spoleto e al RomaEuropa Festival. Tra le sue opere più importanti
  come regista di teatro ricordiamo la versione teatrale di “Garage Olimp
 o”\, replicato ininterrottamente per otto anni\, “Di che hai paura”\
 , spettacolo dentro una macchina in movimento presentato al Festival Quart
 ieri dell’Arte e al Festival Città Spettacolo di Benevento e le opere d
 i teatro itinerante “Rolling” e “Ad Occhi Chiusi”.\n\nINFORMAZIONI
  GENERALI\nDate: Palazzo Forani\, Casperia (RI)\, 29\,30 aprile e 1° magg
 io 2022 – 6\, 7\, e 8 maggio 2022\;\nCastello di Riano (RM)\, 13\, 14 e 
 15 maggio 2022 – 20\, 21 e 22 maggio 2022\;\nLocation segreta nel Lazio\
 , 27\, 28 e 29 maggio 2022\n\nPOSTI LIMITATI- PRENOTAZIONE OBBLIGATORIA\n\
 nPer informazioni e prenotazioni: tel.339.8701017 – email: albatroteatro
 2018@gmail.com\nOrari spettacoli: venerdì ore 21.00 | sabato ore 19.00 | 
 domenica ore 18:30\nPrezzi biglietti: Biglietto unico 20 euro.\n\nLo spett
 acolo si svolge nel rispetto delle regole previste dalla vigente normativa
  Anti Covid.
ATTACH;FMTTYPE=image/jpeg:https://lazioeventi.com/wp-content/uploads/2022/
 04/Locandina_MariaStuart_.jpg
CATEGORIES:Musica, Spettacoli e Danza nel Lazio
LOCATION:Riano\, Comune\, Riano\, Roma\, Lazio\, Italia
GEO:42.0911;12.5236
X-APPLE-STRUCTURED-LOCATION;VALUE=URI;X-ADDRESS=Comune\, Riano\, Roma\, Laz
 io\, Italia;X-APPLE-RADIUS=100;X-TITLE=Riano:geo:42.0911,12.5236
END:VEVENT
BEGIN:VTIMEZONE
TZID:Europe/Rome
X-LIC-LOCATION:Europe/Rome
BEGIN:DAYLIGHT
DTSTART:20220327T030000
TZOFFSETFROM:+0100
TZOFFSETTO:+0200
TZNAME:CEST
END:DAYLIGHT
END:VTIMEZONE
END:VCALENDAR