BEGIN:VCALENDAR
VERSION:2.0
PRODID:-//wp-events-plugin.com//7.2.3.1//EN
TZID:Europe/Rome
X-WR-TIMEZONE:Europe/Rome
BEGIN:VEVENT
UID:43930@lazioeventi.com
DTSTART;TZID=Europe/Rome;VALUE=DATE:20260320
DTEND;TZID=Europe/Rome;VALUE=DATE:20260321
DTSTAMP:20260304T111015Z
URL:https://lazioeventi.com/eventi/marzo-allinsegna-della-scoperta-del-cie
 lo-2026-03-06-2026-03-13-2026-03-20
SUMMARY:Marzo all’insegna della scoperta del cielo - Rocca di Papa - 20 M
 arzo 26 00:00
DESCRIPTION:Marzo all’insegna della scoperta del cielo e dell’emozione 
 al Parco astronomico di Rocca di Papa\n\nIl cielo non avrà più segreti p
 er il pubblico del Parco astronomico “Livio Gratton” di Rocca di Papa 
 (RM). Anche nel mese di marzo\, l’Associazione Tuscolana di Astronomia (
 ATA) – attivamente impegnata da oltre 30 anni nella promozione e diffusi
 one della cultura scientifica – organizza per adulti e bambini speciali 
 eventi divulgativi\, denominati “Astroincontri”\, dedicati alla scoper
 ta e all’osservazione del cielo stellato. Nei venerdì sera gli esperti 
 dell’ATA offriranno al pubblico spettacoli sotto la cupola del planetari
 o\, conferenze di taglio divulgativo su temi di forte rilevanza scientific
 a e\, ovviamente\, l’opportunità di scrutare il cielo all’oculare di 
 telescopi per cogliere dettagli altrimenti invisibili\, in una location di
  eccezione per l’osservazione astronomica.\n\nSi parte venerdì 6 marzo 
 con l’Astroincontro “Stelle al planetario: il Leone e le sue galassie
 ”. Sotto la cupola di 7 metri di diametro del planetario\, formidabile s
 trumento di simulazione del cielo\, il divulgatore dell’ATA Biagio Ianer
 o condurrà il pubblico alla scoperta del cielo del periodo e\, in partico
 lare\, dell’affascinante costellazione del Leone\, proiettando foto e vi
 deo astronomici di grande impatto emozionale. Al termine dello spettacolo\
 , sarà possibile ammirare a occhio nudo e al telescopio tutti gli oggetti
  celesti visibili sotto la guida degli esperti dell’ATA.\n\nVenerdì 13 
 marzo è invece la volta dell’Astroincontro dedicato alle fake news in a
 mbito astronomico. I divulgatori dell’ATA Carmine Walter Antonaci ed Ezi
 o Ciannamea metteranno in guardia il pubblico sulle principali bufale astr
 onomiche\, che trovano grande diffusione sul web. “L’arte della falsif
 icazione è di estrema attualità anche se insita nell’uomo da sempre. A
 ttualmente le tecnologie informatiche offrono uno strumento in più per cr
 eare artefatti falsi o alterare la realtà anche in Astronomia. Sta alla n
 ostra mente comprendere i meccanismi che governarono questi fenomeni e imp
 arare a distinguere ciò che è vero da ciò che è falso. Nella serata de
 l 13 marzo condivideremo alcune riflessioni su questo tema per dare un con
 tributo ad affrontare meglio le astobufale\, partendo dalle notizie che ha
 nno descritto la conquista della Luna”\, spiegano gli esperti. L’Astro
 incontro sarà anche l’occasione per scrutare il cielo notturno al teles
 copio.\n\nVenerdì 20 marzo torna l’Astroincontro “Stelle al planetari
 o – Serata in famiglia” dedicato ai bambini\, dai sei anni in su. Sott
 o la cupola del planetario\, che riproduce fedelmente la volta stellata\, 
 e poi all’oculare di potenti telescopi\, i più piccoli potranno provare
  l’emozione della scoperta del cielo\, insieme agli esperti divulgatori 
 dell’ATA\, pronti a svelare tutti i segreti dell’Universo e a stimolar
 e domande e curiosità. Per un’intera serata i bambini sfideranno il bui
 o – da bravi esploratori del cosmo – per ammirare gli oggetti celesti 
 più spettacolari.\n\nA chiudere la ricca rassegna di eventi è l’Astroi
 ncontro “Stelle al planetario – Il cielo del mese” di venerdì 27 ma
 rzo\, dedicato alla scoperta e all’osservazione di tutte le meraviglie d
 el cielo del periodo. Sotto la cupola del planetario\, i divulgatori dell
 ’ATA guideranno il pubblico di adulti e bambini alla scoperta di stelle\
 , pianeti e di tutti gli oggetti celesti che impreziosiscono il cielo nott
 urno. Lo spettacolo di grande impatto emozionale getterà le basi per l’
 osservazione astronomica successiva\, nel giardino e nella cupola\, con gl
 i esperti dell’Associazione.\n\nFoto del Parco astronomico al link. Cred
 iti foto: Franco Silvestrini\, socio operativo dell’ATA
ATTACH;FMTTYPE=image/jpeg:https://lazioeventi.com/wp-content/uploads/2026/
 03/Giardino-2048x1365-1.jpg
CATEGORIES:Arte e Cultura nel Lazio
LOCATION:Rocca di Papa\, Comune di Rocca di Papa\, Rocca di Papa\, Roma\, L
 azio\, Italia
GEO:41.762;12.7081
X-APPLE-STRUCTURED-LOCATION;VALUE=URI;X-ADDRESS=Comune di Rocca di Papa\, R
 occa di Papa\, Roma\, Lazio\, Italia;X-APPLE-RADIUS=100;X-TITLE=Rocca di P
 apa:geo:41.762,12.7081
END:VEVENT
BEGIN:VTIMEZONE
TZID:Europe/Rome
X-LIC-LOCATION:Europe/Rome
BEGIN:STANDARD
DTSTART:20251026T020000
TZOFFSETFROM:+0200
TZOFFSETTO:+0100
TZNAME:CET
END:STANDARD
END:VTIMEZONE
END:VCALENDAR