BEGIN:VCALENDAR
VERSION:2.0
PRODID:-//wp-events-plugin.com//7.2.3.1//EN
TZID:Europe/Rome
X-WR-TIMEZONE:Europe/Rome
BEGIN:VEVENT
UID:34030@lazioeventi.com
DTSTART;TZID=Europe/Rome:20230211T173000
DTEND;TZID=Europe/Rome:20230211T190000
DTSTAMP:20230208T175120Z
URL:https://lazioeventi.com/eventi/massimo-quarta-pietro-de-maria
SUMMARY:Massimo Quarta | Pietro De Maria - Roma - 11 Febbraio 23 17:30
DESCRIPTION:Due eccellenze della scuola italiana\, Massimo Quarta al violin
 o e Pietro De Maria al pianoforte\, per un concerto che spazia fra le Sona
 te di Schubert\, Brahms e Beethoven. Fra i più eleganti e importanti viol
 inisti della sua generazione\, Massimo Quarta\, vincitore a soli 26 anni d
 el primo premio al Concorso internazionale di violino "Niccolò Paganini" 
 di Genova è da sempre dedito alla figura musicale di Paganini. Pietro De 
 Maria\, già vincitore del Premio della critica al Concorso Čajkovskij di
  Mosca nel 1990\, è il primo pianista italiano ad aver eseguito l’integ
 rale delle opere di Chopin in sei concerti. \n\n\nProgramma \nSchubert Son
 ata in re maggiore op. 137 D 384\nBrahms Sonata n. 3 in re minore op. 108\
 nBeethoven Sonata n. 10 in sol maggiore op. 96\n\n\nBiglietti  \n€ 25 - 
 20 - 15 (più prevendita)\nUnder 30 € 8 Under 18 € 5\n\nInteri e ridot
 ti telefonando alla IUC  al n. 06 3610051-2\ndal lunedì al venerdì 10-13
  | 14-17 (nei giorni di concerto 10-12)\npagamento con bonifico e carta di
  credito\n\nal botteghino dell'Aula Magna\na partire da un'ora prima di og
 ni concerto
ATTACH;FMTTYPE=image/jpeg:https://lazioeventi.com/wp-content/uploads/2023/
 02/concerti-aula-magna.png
CATEGORIES:Musica, Spettacoli e Danza nel Lazio
LOCATION:Roma\, Via Leopardi\, Roma\, Roma\, Lazio\, Italia
GEO:41.8942;12.5017
X-APPLE-STRUCTURED-LOCATION;VALUE=URI;X-ADDRESS=Via Leopardi\, Roma\, Roma\
 , Lazio\, Italia;X-APPLE-RADIUS=100;X-TITLE=Roma:geo:41.8942,12.5017
END:VEVENT
BEGIN:VTIMEZONE
TZID:Europe/Rome
X-LIC-LOCATION:Europe/Rome
BEGIN:STANDARD
DTSTART:20221030T020000
TZOFFSETFROM:+0200
TZOFFSETTO:+0100
TZNAME:CET
END:STANDARD
END:VTIMEZONE
END:VCALENDAR