BEGIN:VCALENDAR
VERSION:2.0
PRODID:-//wp-events-plugin.com//7.2.3.1//EN
TZID:Europe/Rome
X-WR-TIMEZONE:Europe/Rome
BEGIN:VEVENT
UID:29315@lazioeventi.com
DTSTART;TZID=Europe/Rome:20211120T150000
DTEND;TZID=Europe/Rome:20211128T173000
DTSTAMP:20211121T213340Z
URL:https://lazioeventi.com/eventi/mater-et-caput-di-tutte-le-chiese-di-ro
 ma-e-del-mondo
SUMMARY:Mater et Caput di tutte le chiese di Roma e del mondo - Roma - 20 N
 ovembre 21 15:00
DESCRIPTION:SAN GIOVANNI\n\n"Mater et Caput di tutte le chiese di Roma e de
 l mondo" : questa l'iscrizione sulla facciata dell'arcibasilica\, a richia
 mo del fatto che essa è la più antica chiesa esistente\, edificata infat
 ti  per iniziativa dello stesso imperatore Costantino che nel 313 con l'e
 ditto di Milano aveva messo fine alle plurisecolari persecuzioni dei crist
 iani. Il suo primato\, però\, non è solo cronologico ma anche spirituale
  poiché essa fu designata quale chiesa cattedrale del vescovo di Roma\, c
 om'è tuttora\, ed inoltre i Pontefici posero nell'attiguo Patriarchio (di
  cui restano testimonianze archeologiche) la loro residenza fino al XIV se
 colo\, quando dal Laterano si trasferirono al Vaticano. L'elezione spiritu
 ale della basilica di San Giovanni è rimarcata anche dal fatto che essa c
 ustodisce le più importanti reliquie della cristianità\, le teste dei du
 e Padri della Chiesa Pietro e Paolo\, poste al culmine del suo splendido c
 iborio gotico. Accanto alla basilica più antica del mondo si erge il batt
 istero più antico del mondo\, anch'esso infatti eretto da Costantino nel 
 IV sec. ed impreziosito un secolo dopo da papa Sisto III. Tra la basilica 
 ed il battistero è collocato infine il più antico e più alto obelisco e
 gizio di Roma\, risalente al faraone Tutmosi III (II millennio avanti Cris
 to) .\n\nSia la basilica che il battistero testimoniano dunque una serie d
 i capolavori d'arte che spaziano dal tardo impero romano attraverso il med
 ioevo sino all'età rinascimentale\, barocca e neoclassica\, con un apport
 o particolarmente rilevante del sublime Borromini.\n\nL'appuntamento con l
 a guida turistica Paola è tutti i giorni fino a domenica 28 alle ore 15 s
 otto l'obelisco egizio. Il costo della visita è\; adulti 10 euro\; minore
 nni 5 euro\; fino a 10 anni gratis.\n\nSi raccomanda prenotazione telefoni
 ca\, anche whatsapp\, ai numeri 3280022029 o 3202251654
ATTACH;FMTTYPE=image/jpeg:https://lazioeventi.com/wp-content/uploads/2021/
 11/piazza-san-giovanni.jpg
CATEGORIES:Arte e Cultura nel Lazio
LOCATION:Roma\, Via Leopardi\, Roma\, Roma\, Lazio\, Italia
GEO:41.8942;12.5017
X-APPLE-STRUCTURED-LOCATION;VALUE=URI;X-ADDRESS=Via Leopardi\, Roma\, Roma\
 , Lazio\, Italia;X-APPLE-RADIUS=100;X-TITLE=Roma:geo:41.8942,12.5017
END:VEVENT
BEGIN:VTIMEZONE
TZID:Europe/Rome
X-LIC-LOCATION:Europe/Rome
BEGIN:STANDARD
DTSTART:20211031T020000
TZOFFSETFROM:+0200
TZOFFSETTO:+0100
TZNAME:CET
END:STANDARD
END:VTIMEZONE
END:VCALENDAR