BEGIN:VCALENDAR
VERSION:2.0
PRODID:-//wp-events-plugin.com//7.2.3.1//EN
TZID:Europe/Rome
X-WR-TIMEZONE:Europe/Rome
BEGIN:VEVENT
UID:35256@lazioeventi.com
DTSTART;TZID=Europe/Rome:20230512T210000
DTEND;TZID=Europe/Rome:20230514T210000
DTSTAMP:20230506T064639Z
URL:https://lazioeventi.com/eventi/medea-la-divina
SUMMARY:Medea\, la Divina - Roma - 12 Maggio 23 21:00
DESCRIPTION:Dal 12 al 14 maggio Teatrosophia ospita la compagnia Ars 29 che
  presenta un testo struggente ed appassionato scritto e diretto da Massimi
 liano Auci. Al centro Maria Callas artista indimenticata dalla profonda ri
 cchezza creativa\, donna forte e misteriosa.  \nCi troviamo nel camerino d
 i Maria Callas durante la lavorazione di Medea di Pier Paolo Pasolini. La 
 grande cantante inizia a prepararsi per il set. In questo viaggio attraver
 so lo specchio\, Maria ripercorre tutta la sua vita\, e i fantasmi del suo
  passato busseranno alla sua porta. Il difficilissimo rapporto con la fami
 glia\, l’eterno amore per la musica\, la delusione per la sua tormentata
  storia d’amore con Aristotele Onassis\, tutti i successi e i fallimenti
  della sua vita\, fanno da sfondo alla cronaca di un’Italia profondament
 e disunita. Sono gli anni dei referendum su divorzio e aborto\, anni di fo
 rti contestazioni sociali e artistiche\, dunque politiche. Una Diva decadu
 ta\, una leggenda fragile che si confessa a se stessa e a chi la sta ad as
 coltare. Maria non arriverà a nessuna conclusione\, resteranno soltanto l
 ’amarezza e la malinconia per il suo passato e la volontà di vivere il 
 suo presente. Il futuro\, si vedrà.\n\nDopo lo spettacolo\, il consueto a
 peritivo offerto da Teatrosophia\n\nInfo:\nMEDEA\, LA DIVINA – scritto e
  diretto da Massimiliano Auci\nCon: Giovanna Cappuccio e-Giorgia Serrao\ne
 con la partecipazione di Ginevra Genna\n\nOrari spettacolo:\nVenerdì e Sa
 bato ore 21\nDomenica ore 18\n\nBiglietti: \nINTERO: Euro 14\,00+4\,00 per
  tessera associativa\nRIDOTTO: Euro 11\,00+4\,00 per tessera associativa
ATTACH;FMTTYPE=image/jpeg:https://lazioeventi.com/wp-content/uploads/2023/
 05/loc-Medea.jpg
CATEGORIES:Musica, Spettacoli e Danza nel Lazio
LOCATION:Roma\, Via Leopardi\, Roma\, Roma\, Lazio\, Italia
GEO:41.8942;12.5017
X-APPLE-STRUCTURED-LOCATION;VALUE=URI;X-ADDRESS=Via Leopardi\, Roma\, Roma\
 , Lazio\, Italia;X-APPLE-RADIUS=100;X-TITLE=Roma:geo:41.8942,12.5017
END:VEVENT
BEGIN:VTIMEZONE
TZID:Europe/Rome
X-LIC-LOCATION:Europe/Rome
BEGIN:DAYLIGHT
DTSTART:20230326T030000
TZOFFSETFROM:+0100
TZOFFSETTO:+0200
TZNAME:CEST
END:DAYLIGHT
END:VTIMEZONE
END:VCALENDAR