BEGIN:VCALENDAR
VERSION:2.0
PRODID:-//wp-events-plugin.com//7.2.3.1//EN
TZID:Europe/Rome
X-WR-TIMEZONE:Europe/Rome
BEGIN:VEVENT
UID:31889@lazioeventi.com
DTSTART;TZID=Europe/Rome;VALUE=DATE:20220812
DTEND;TZID=Europe/Rome;VALUE=DATE:20220816
DTSTAMP:20220803T142107Z
URL:https://lazioeventi.com/eventi/medioevo-in-festa
SUMMARY:Medioevo in Festa - Roccantica - 12 Agosto 22 00:00
DESCRIPTION:Si svolge ogni anno dal 12 al 15 agosto. E' la rievocazione del
 l'avvenimento storico più significativo e determinante per la storia di R
 occantica AVVENUTO NEL 1059. In quell'anno infatti Papa NICCOLO' II insegu
 ito dalle truppe dei Crescenzi alleati del suo antagonista BENEDETTO X\, s
 i rifugiò nella rocha de antiquo (Roccantica). Qui fu difeso strenuamente
  dai roccolani\, fino all'arrivo delle truppe di ROBERTO D'ALTAVILLA che m
 isero in fuga i nemici. Nonostante l'eroica difesa\, la Rocca era oramai u
 na fumante rovina. Solo 12 persone sopravvissero. Il Papa\, ricordandosi d
 el valore dei roccolani\, della rocca e del suo territorio\, infeudò i 12
  superstiti con una bolla pontificia datata 18 Aprile 1060.\n\nSquilli di 
 trombe dall’alto della torre\, fanno il loro ingresso musici\, danzatric
 i e sbandieratori in splendidi abiti medievali\, strati su strati di nobil
 i stoffe\, calzamaglie\, ornamenti per tuffarsi nel passato di molto tempo
  fa.\nMedioevo in festa è la rievocazione dell’avvenimento storico più
  significativo e determinante del paese reatino\, avvenuto nel 1059 quando
  Papa Niccolo’ II inseguito dalle truppe dei Crescenzi alleati del suo a
 ntagonista Benedetto X\, si rifugiò nella rocha de antiquo oggi Roccantic
 a. Un intero paese in festa: costumi\, cibi\, musiche\, cortei\, giochi\, 
 portali\, torri\, armi\, bandiere torce e fiaccole\; gruppi\, formati sopr
 attutto da giovani\, dei tamburini\, delle chiarine\, degli sbandieratori\
 , delle danzatrici\, dei musici\, dei cacciatori di cinghiale\, dei mangia
 fuoco.\n\nTutta la popolazione è coinvolta attivamente nella realizzazion
 e della festa. La narrazione viene eseguita in linguaggio d’epoca e con 
 colonna sonora di musiche medioevali scelte per l’occasione.\n\nIl corte
 o è composto da più di 500 costumanti suddiviso per gruppi di armigeri\,
  cavalieri\, notabili e il popolo.
ATTACH;FMTTYPE=image/jpeg:https://lazioeventi.com/wp-content/uploads/2022/
 08/medioevo-roccantica.jpg
CATEGORIES:Sagre, Gastronomia e Tradizioni nel Lazio,Sport, Tempo Libero e
 Divertimento nel Lazio
LOCATION:Roccantica\, Comune di Roccantica\, Roccantica\, Rieti\, Lazio\, I
 talia
GEO:42.3205;12.6929
X-APPLE-STRUCTURED-LOCATION;VALUE=URI;X-ADDRESS=Comune di Roccantica\, Rocc
 antica\, Rieti\, Lazio\, Italia;X-APPLE-RADIUS=100;X-TITLE=Roccantica:geo:
 42.3205,12.6929
END:VEVENT
BEGIN:VTIMEZONE
TZID:Europe/Rome
X-LIC-LOCATION:Europe/Rome
BEGIN:DAYLIGHT
DTSTART:20220327T030000
TZOFFSETFROM:+0100
TZOFFSETTO:+0200
TZNAME:CEST
END:DAYLIGHT
END:VTIMEZONE
END:VCALENDAR