BEGIN:VCALENDAR
VERSION:2.0
PRODID:-//wp-events-plugin.com//7.2.3.1//EN
TZID:Europe/Rome
X-WR-TIMEZONE:Europe/Rome
BEGIN:VEVENT
UID:34776@lazioeventi.com
DTSTART;TZID=Europe/Rome:20230326T110000
DTEND;TZID=Europe/Rome:20230326T130000
DTSTAMP:20230321T171545Z
URL:https://lazioeventi.com/eventi/meraviglie-del-lazio-la-villa-lante
SUMMARY:Meraviglie del Lazio: La Villa Lante - Viterbo - 26 Marzo 23 11:00
DESCRIPTION:A pochi passi da Roma si trova una delle più belle residenze r
 inascimentali considerata tra i più bei giardini d'Italia\, degna vicina 
 di Casa Farnese a Caprarola.\nLa straordinaria particolarità di Villa Lan
 te è insita nella predominanza del giardino rispetto all'opera architetto
 nica\, infatti la residenza si sdoppia in due piccoli edifici gemelli.\nIl
  Giardino di Villa Lante è così un luogo incantato creato e voluto da un
  potente cardinale in nome della supremazia dell’uomo sulla natura. Chiu
 sa in un rigoroso dedalo geometrico opera dell’architetto Jacopo Barozzi
  da Vignola. Villa Lante fu costruita nella seconda metà del Cinquecento 
 per volere del cardinale Gambara\, a ridosso di un bosco già riserva di c
 accia.\nLe fontane dislocate nelle residenza rendono unico questo luogo\, 
 location di moltissimi set cinematografici inclusa l'ultima serie italo-am
 ericana: The Pope.\n*(Testo originale di Roma Caput Tour\, coloro che anco
 ra una volta copieranno spudoratamente il testo descrittivo degli eventi d
 i questa pagina saranno immediatamente segnalati della violazione della pr
 oprietà intellettuale altrui agli organi competenti)*\n\nAppuntamento ore
  11.00 Piazza XX Settembre all'ingresso di Bagnaia sotto la Torretta dell'
 orologio: Cercare Bandiera Viola Logo Roma Caput Tour\nDurata Visita Guida
 ta 2 ore circa (Introduzione dal paese di Bagnaia\, salita al Parco di Vil
 la Lante\, loggiati Palazzine)\nCosto Visita Guidata € 13.00 (Adulti) 
 € 5.00 (Bambini 5-13 anni) € 2.00 noleggio auricolari\n\nBiglietto d'I
 ngresso Villa Lante:\nIntero € 8\,00\nRidotto € 2\,00 (18-25 anni)\nGr
 atuito € 0\,00 0-17 anni\, personale del Ministero\, membri dell'I.C.O.M
 .\, giornalisti\, docenti Storia dell'Arte\, studenti Archeologia/Architet
 tura/Arte\, docenti di ruolo\n*La GUIDA ritirerà per praticità il costo 
 del biglietto in contanti*\nPrenotazione Obbligatoria scrivendo a info@rom
 acaputour.it o inviando un sms allo 0039 333 4854287 specificando Titolo d
 ella visita\, Nome\, Cognome\, Recapito telefonico\, numero di persone\, e
 -mail di riferimento.
ATTACH;FMTTYPE=image/jpeg:https://lazioeventi.com/wp-content/uploads/2023/
 03/1200px-Quadrato_at_Villa_Lante_Bagnaia.jpg
CATEGORIES:Arte e Cultura nel Lazio
LOCATION:Viterbo\, Comune\, Viterbo\, Viterbo\, Lazio\, Italia
GEO:42.417;12.1051
X-APPLE-STRUCTURED-LOCATION;VALUE=URI;X-ADDRESS=Comune\, Viterbo\, Viterbo\
 , Lazio\, Italia;X-APPLE-RADIUS=100;X-TITLE=Viterbo:geo:42.417,12.1051
END:VEVENT
BEGIN:VTIMEZONE
TZID:Europe/Rome
X-LIC-LOCATION:Europe/Rome
BEGIN:DAYLIGHT
DTSTART:20230326T030000
TZOFFSETFROM:+0100
TZOFFSETTO:+0200
TZNAME:CEST
END:DAYLIGHT
END:VTIMEZONE
END:VCALENDAR