BEGIN:VCALENDAR
VERSION:2.0
PRODID:-//wp-events-plugin.com//7.2.3.1//EN
TZID:Europe/Rome
X-WR-TIMEZONE:Europe/Rome
BEGIN:VEVENT
UID:43052@lazioeventi.com
DTSTART:20251214T090000Z
DTEND:20251214T210000Z
DTSTAMP:20251110T064859Z
URL:https://lazioeventi.com/eventi/mercatini-di-natale-castelnuovo-parano
SUMMARY:Mercatini di Natale - Castelnuovo Parano - 14 Dicembre 25 10:00
DESCRIPTION:A Castelnuovo Parano tornano i Mercatini di Natale: il 14 dicem
 bre la 2° edizione\nUna giornata di festa nel centro storico con artigian
 ato\, prodotti tipici\, musica\, danze e un villaggio incantato per i bamb
 ini con Babbo Natale\, Elfi e il Grinch.\n\nIl centro storico di Castelnuo
 vo Parano si prepara a vivere la magia del Natale con la 2° edizione dei 
 Mercatini di Natale. L'appuntamento è fissato per domenica 14 dicembre 20
 25\, per una giornata intera dedicata alla tradizione e al divertimento\, 
 dalle ore 10:00 fino alle 22:00.\n\nL'evento\, patrocinato dal Comune e da
 lla Regione Lazio e organizzato in collaborazione con la Pro Loco e divers
 e associazioni locali\, trasformerà il borgo in un suggestivo villaggio n
 atalizio.\n\nI visitatori potranno immergersi nell'atmosfera di festa pass
 eggiando tra stand di creazioni artigianali\, gustando piatti tradizionali
  e scoprendo i prodotti tipici del territorio. La colonna sonora della gio
 rnata sarà affidata a musiche natalizie e alle esibizioni di danza a cura
  dell'ASD La Nostra Terra.\n\nUn'attenzione speciale sarà dedicata ai pi
 ù piccoli. Per loro è previsto un vero e proprio mondo incantato con "l'
 Albero dei Bambini" e la presenza di ospiti d'eccezione: Babbo Natale\, i 
 suoi Elfi e persino il Grinch\, pronti a regalare sorrisi e divertimento p
 er tutta la famiglia.\n\nL'evento è organizzato grazie alla sinergia tra 
 Comune di Castelnuovo Parano\, Pro Loco Castelnuovo Parano\, l'associazion
 e "La Nostra Terra" e RAV Radiotelevisione\, con il patrocinio della Regio
 ne Lazio.
ATTACH;FMTTYPE=image/jpeg:https://lazioeventi.com/wp-content/uploads/2025/
 11/mercatino-natale-castelnuovo.jpg
CATEGORIES:Fiere e Mercatini nel Lazio
LOCATION:Castelnuovo Parano\, Comune\, Castelnuovo Parano\, Frosinone\, Laz
 io\, Italia
GEO:41.3783;13.7552
X-APPLE-STRUCTURED-LOCATION;VALUE=URI;X-ADDRESS=Comune\, Castelnuovo Parano
 \, Frosinone\, Lazio\, Italia;X-APPLE-RADIUS=100;X-TITLE=Castelnuovo Paran
 o:geo:41.3783,13.7552
END:VEVENT
END:VCALENDAR