BEGIN:VCALENDAR
VERSION:2.0
PRODID:-//wp-events-plugin.com//7.2.3.1//EN
TZID:Europe/Rome
X-WR-TIMEZONE:Europe/Rome
BEGIN:VEVENT
UID:29154@lazioeventi.com
DTSTART;TZID=Europe/Rome:20211208T090000
DTEND;TZID=Europe/Rome:20211208T200000
DTSTAMP:20211113T170842Z
URL:https://lazioeventi.com/eventi/mercatini-natale-santoreste
SUMMARY:Mercatini di Natale - Sant'Oreste - 8 Dicembre 21 09:00
DESCRIPTION:L’Associazione Pro Loco di Sant'Oreste\, con il patrocinio de
 l Comune di Borgo Velino\, organizza per il giorno 8 Dicembre 2021\, i “
 Mercatini di Natale”.\n\nLa manifestazione si svolgerà a partire dalle 
 ore 9:00 fino alle ore 20:00 per le vie del Centro Storico.\n\nDurante la 
 manifestazione verranno organizzate attività ricreative e culinarie\, con
  la presenza di stand per il mercato solidale con le popolazioni terremota
 te\, al fine di arricchire la manifestazione e di valorizzare il momento c
 onviviale.
ATTACH;FMTTYPE=image/jpeg:https://lazioeventi.com/wp-content/uploads/2021/
 11/marcatini-natale-santoreste.jpg
CATEGORIES:Fiere e Mercatini nel Lazio
LOCATION:Sant'Oreste\, Comune\, Sant'Oreste\, Roma\, Lazio\, Italia
GEO:42.2344;12.5192
X-APPLE-STRUCTURED-LOCATION;VALUE=URI;X-ADDRESS=Comune\, Sant'Oreste\, Roma
 \, Lazio\, Italia;X-APPLE-RADIUS=100;X-TITLE=Sant'Oreste:geo:42.2344,12.51
 92
END:VEVENT
BEGIN:VTIMEZONE
TZID:Europe/Rome
X-LIC-LOCATION:Europe/Rome
BEGIN:STANDARD
DTSTART:20211031T020000
TZOFFSETFROM:+0200
TZOFFSETTO:+0100
TZNAME:CET
END:STANDARD
END:VTIMEZONE
END:VCALENDAR