BEGIN:VCALENDAR
VERSION:2.0
PRODID:-//wp-events-plugin.com//7.2.3.1//EN
TZID:Europe/Rome
X-WR-TIMEZONE:Europe/Rome
BEGIN:VEVENT
UID:27785@lazioeventi.com
DTSTART;TZID=Europe/Rome:20201011T100000
DTEND;TZID=Europe/Rome:20201011T123000
DTSTAMP:20200929T085112Z
URL:https://lazioeventi.com/eventi/mercatino-del-formale-2020-10-11
SUMMARY:Mercatino del Formale - Zagarolo - 11 Ottobre 20 10:00
DESCRIPTION:Il mercatino delle pulci di Zagarolo si chiama Mercatino del Fo
 rmale. Viene organizzato due volte al mese\, ogni 2° e 4° domenica del m
 ese a cura della Proloco Zagarolo. Si chiama mercatino del Formale perché
  è allestito in via Valle del Formale\, 
ATTACH;FMTTYPE=image/jpeg:https://lazioeventi.com/wp-content/uploads/2020/
 09/Mercatino-del-Formale.jpg
CATEGORIES:Fiere e Mercatini nel Lazio
LOCATION:Zagarolo\, Comune\, Zagarolo\, Roma\, Lazio\, Italia
GEO:41.84;12.8293
X-APPLE-STRUCTURED-LOCATION;VALUE=URI;X-ADDRESS=Comune\, Zagarolo\, Roma\, 
 Lazio\, Italia;X-APPLE-RADIUS=100;X-TITLE=Zagarolo:geo:41.84,12.8293
END:VEVENT
BEGIN:VTIMEZONE
TZID:Europe/Rome
X-LIC-LOCATION:Europe/Rome
BEGIN:DAYLIGHT
DTSTART:20200329T030000
TZOFFSETFROM:+0100
TZOFFSETTO:+0200
TZNAME:CEST
END:DAYLIGHT
END:VTIMEZONE
END:VCALENDAR