BEGIN:VCALENDAR
VERSION:2.0
PRODID:-//wp-events-plugin.com//7.2.3.1//EN
TZID:Europe/Rome
X-WR-TIMEZONE:Europe/Rome
BEGIN:VEVENT
UID:35325@lazioeventi.com
DTSTART;TZID=Europe/Rome:20230806T000000
DTEND;TZID=Europe/Rome:20230806T000000
DTSTAMP:20230509T123616Z
URL:https://lazioeventi.com/eventi/mercatino-dellantiquariato-e-dellartigi
 anato-di-manziana-2023-08-06
SUMMARY:Mercatino dell’Antiquariato e dell’Artigianato di Manziana - Ma
 nziana - 6 Agosto 23 00:00
DESCRIPTION:Ogni prima domenica del mese Manziana (RM) ospita il mercatino 
 dell’antiquariato e dell’artigianato organizzato dalla Proloco.\n\nAd 
 inizio mese\, negli spazi espositivi diffusi per le vie del centro\, decin
 e di bancarelle espongono oggetti di antiquariato\, modernariato\, oggetti
 stica\, vintage\, collezionabili\, artigianato e prodotti tipici agroalime
 ntari.
ATTACH;FMTTYPE=image/jpeg:https://lazioeventi.com/wp-content/uploads/2023/
 05/mercatino-antiquariato-e-artigianato-manziana.jpg
CATEGORIES:Fiere e Mercatini nel Lazio
LOCATION:Manziana\, Comune di Manziana\, Manziana\, Roma\, Lazio\, Italia
GEO:42.1301;12.1301
X-APPLE-STRUCTURED-LOCATION;VALUE=URI;X-ADDRESS=Comune di Manziana\, Manzia
 na\, Roma\, Lazio\, Italia;X-APPLE-RADIUS=100;X-TITLE=Manziana:geo:42.1301
 ,12.1301
END:VEVENT
BEGIN:VTIMEZONE
TZID:Europe/Rome
X-LIC-LOCATION:Europe/Rome
BEGIN:DAYLIGHT
DTSTART:20230326T030000
TZOFFSETFROM:+0100
TZOFFSETTO:+0200
TZNAME:CEST
END:DAYLIGHT
END:VTIMEZONE
END:VCALENDAR